From mboxrd@z Thu Jan 1 00:00:00 1970 Return-Path: Received: from mails.dpdk.org (mails.dpdk.org [217.70.189.124]) by inbox.dpdk.org (Postfix) with ESMTP id EB5BA461C6 for ; Sat, 8 Feb 2025 08:54:28 +0100 (CET) Received: from mails.dpdk.org (localhost [127.0.0.1]) by mails.dpdk.org (Postfix) with ESMTP id D33FF40280; Sat, 8 Feb 2025 08:54:28 +0100 (CET) Received: from mail-pl1-f228.google.com (mail-pl1-f228.google.com [209.85.214.228]) by mails.dpdk.org (Postfix) with ESMTP id 0F49B40279 for ; Sat, 8 Feb 2025 08:54:27 +0100 (CET) Received: by mail-pl1-f228.google.com with SMTP id d9443c01a7336-21f464b9a27so42574855ad.1 for ; Fri, 07 Feb 2025 23:54:26 -0800 (PST) DKIM-Signature: v=1; a=rsa-sha256; c=relaxed/relaxed; d=iol.unh.edu; s=unh-iol; t=1739001266; x=1739606066; darn=dpdk.org; h=cc:to:from:subject:message-id:date:from:to:cc:subject:date :message-id:reply-to; bh=SDwtOlykUhpyca5wxZomdJE+0VGH4xDQ9DJS3KGN3LA=; b=dHzFZo5cEOVygboucgBzMQZGwgY/JGWqSC4w8pW0T3d4B8OyPZ+vxwzwLN0wWUnLfV 0qpSj4YRwjt5Ncc+9hLdtuj5ca/knbDANw3OcZGGxg8EQJVitzBkbWM0Av7bmRK1R739 qHlxTK9am9/ESFNQIF54GYmzKh9s+MUHrsFXg= X-Google-DKIM-Signature: v=1; a=rsa-sha256; c=relaxed/relaxed; d=1e100.net; s=20230601; t=1739001266; x=1739606066; h=cc:to:from:subject:message-id:date:x-gm-message-state:from:to:cc :subject:date:message-id:reply-to; bh=SDwtOlykUhpyca5wxZomdJE+0VGH4xDQ9DJS3KGN3LA=; b=wSmNvkB+LVnDAGFJEgcgs6AWgMQ7X9BkNPBFrNmqCSyjFD52WgkYHYE0C0FgrgQAlt Ds1lDUkwDj5dtS6ZxFZpsFQiu1JmXLN5DllcH4sTFX8C7t4i0qlNxokOvPlN/fugrRWf mQARr8rwSPW7vomtkCba7UQPL6oW85+XP4dqeaZPyyuAJmw4J8J58f75X5NBm90HdohI bthcUYwN/3q2GasqadYtnJxNug/3Zp9yzL63ZgPyzY/lTezZ01tR0EcPgEfu8Ne9PDVK naGwp6ohNXf2qUA9Ke5lBh4u+4pUhr1xvcskJ4Zv/JbLWY+drKtiktR5RlBjymrSfqC9 hDvA== X-Gm-Message-State: AOJu0YzO1Vm60BO/rxbCKru5Z+xoO/aLRb0DDdfw/IzEBG4799q+hVUW asRwIMiI9St34e913t0sTZKAdRZOi8QLXTMY79eB6sHsbCO6VvyG4i6capg5089VDGfYuMsDoxu 1HpB08Bt9GHMo7N2AI2XeBxU9NhU3q5mBPOUUiRAi X-Gm-Gg: ASbGnct2+w//MxPy+M0mPMgRg9SccD8GEfaZO78xA+64Tx296rEK/5T+xqN4JHnDGbQ JGjmJ8yxNLQGofAoEIFeyWB85Gs4gWJBZl75fqcqx5OtqLth+K1pAAseinzE9IaA3zmJECQ2yAD jU6ApJQbDbUKWpO6EsNo1qjvU7bNDnY7sk+ydpjV6zxFWCvwluistaVO99fk2cWN0IGpUdhBhLj 4E5udKPS2KicXUsuOmlGQFPruvZxE4DeuiGHPBsQT5x4Cdf6xmeLSpbD5BvIne5cgcCHTkTugZ0 RrClGXIyQATxbaXxwOj/GWIODgafAg== X-Google-Smtp-Source: AGHT+IF2vgw27PmWTHrR1Gp4t2eRxJzNe2C0bSDDiquGiLoaaVbjYXSAnlZHvOc/k6/bs1XlDiFf3S6eV8Lb X-Received: by 2002:a17:902:ebc8:b0:21f:4c8b:c511 with SMTP id d9443c01a7336-21f4e726112mr106795485ad.33.1739001266196; Fri, 07 Feb 2025 23:54:26 -0800 (PST) Received: from postal.iol.unh.edu (postal.iol.unh.edu. [132.177.123.84]) by smtp-relay.gmail.com with ESMTPS id d9443c01a7336-21f36561152sm2967745ad.49.2025.02.07.23.54.26 (version=TLS1_2 cipher=ECDHE-ECDSA-AES128-GCM-SHA256 bits=128/128); Fri, 07 Feb 2025 23:54:26 -0800 (PST) X-Relaying-Domain: iol.unh.edu Date: Fri, 07 Feb 2025 23:54:26 -0800 (PST) Message-ID: <67a70db2.170a0220.2c4760.efb7SMTPIN_ADDED_MISSING@mx.google.com> Received: from [172.21.0.15] (unknown [172.18.0.240]) by postal.iol.unh.edu (Postfix) with ESMTP id 955316052471; Sat, 8 Feb 2025 02:54:25 -0500 (EST) Subject: |SUCCESS| [GIT MASTER] 388b1abe291544106e406cb0a200b5b0c96fe599 From: dpdklab@iol.unh.edu To: Test Report Cc: dpdk-test-reports@iol.unh.edu Content-Type: text/plain X-BeenThere: test-report@dpdk.org X-Mailman-Version: 2.1.29 Precedence: list List-Id: automatic DPDK test reports List-Unsubscribe: , List-Archive: List-Post: List-Help: List-Subscribe: , Errors-To: test-report-bounces@dpdk.org _Testing PASS_ Branch: dpdk 388b1abe291544106e406cb0a200b5b0c96fe599 --> testing pass Upstream job id: Generic-Unit-Test-DPDK#313114 Test environment and result as below: +---------------------+----------------+ | Environment | dpdk_unit_test | +=====================+================+ | Debian 12 | PASS | +---------------------+----------------+ | CentOS Stream 9 | PASS | +---------------------+----------------+ | Debian Bullseye | PASS | +---------------------+----------------+ | Fedora 40 (Clang) | PASS | +---------------------+----------------+ | Arch Linux | PASS | +---------------------+----------------+ | Fedora 40 | PASS | +---------------------+----------------+ | Fedora 41 | PASS | +---------------------+----------------+ | Fedora 41 (Clang) | PASS | +---------------------+----------------+ | RHEL9 | PASS | +---------------------+----------------+ | Ubuntu 22.04 | PASS | +---------------------+----------------+ | RHEL8 | PASS | +---------------------+----------------+ | Ubuntu 24.04 | PASS | +---------------------+----------------+ | Ubuntu 20.04 | PASS | +---------------------+----------------+ | Windows Server 2022 | PASS | +---------------------+----------------+ Debian 12 Kernel: Depends on container host Compiler: gcc (Debian 12.2.0-14) 12.2.0 CentOS Stream 9 Kernel: Depends on container host Compiler: gcc 11.5.0 20240719 (Red Hat 11.5.0-2) Debian Bullseye Kernel: Depends on container host Compiler: gcc (Debian 10.2.1-6) 10.2.1 20210110 Fedora 40 (Clang) Kernel: Depends on container host Compiler: clang 18.1.8 (Fedora 18.1.8-1.fc40) Arch Linux Kernel: Depends on container host Compiler: gcc 14.2.1 20240910 Fedora 40 Kernel: Depends on container host Compiler: gcc 14.2.1 20240912 (Red Hat 14.2.1-3) Fedora 41 Kernel: Depends on container host Compiler: gcc 14.2.1 20240912 (Red Hat 14.2.1-3) Fedora 41 (Clang) Kernel: Depends on container host Compiler: clang 19.1.5 (Fedora 19.1.5-1.fc41) RHEL9 Kernel: Depends on container host Compiler: gcc 11.5.0 20240719 (Red Hat 11.5.0-2) Ubuntu 22.04 Kernel: Depends on container host Compiler: gcc (Ubuntu 11.4.0-1ubuntu1~22.04) 11.4.0 RHEL8 Kernel: Depends on container host Compiler: gcc 8.5.0 20210514 (Red Hat 8.5.0-22) Ubuntu 24.04 Kernel: Depends on container host Compiler: gcc (Ubuntu 13.3.0-6ubuntu2~24.04) 13.3.0 Ubuntu 20.04 Kernel: Depends on container host Compiler: gcc (Ubuntu 9.4.0-1ubuntu1~20.04.2) 9.4.0 Windows Server 2022 Kernel: 10.0.20348.2031 Compiler: clang 15.0.7, gcc 14.1.0 (MinGW), and MSVC VS 19.39.33521 To view detailed results, visit: https://lab.dpdk.org/results/dashboard/tarballs/32502/ UNH-IOL DPDK Community Lab To manage your email subscriptions, visit: https://lab.dpdk.org/results/dashboard/preferences/subscriptions/