From mboxrd@z Thu Jan 1 00:00:00 1970 Return-Path: Received: from mails.dpdk.org (mails.dpdk.org [217.70.189.124]) by inbox.dpdk.org (Postfix) with ESMTP id E8A86461C6 for ; Sat, 8 Feb 2025 09:02:26 +0100 (CET) Received: from mails.dpdk.org (localhost [127.0.0.1]) by mails.dpdk.org (Postfix) with ESMTP id E3A9F40280; Sat, 8 Feb 2025 09:02:26 +0100 (CET) Received: from mail-qv1-f98.google.com (mail-qv1-f98.google.com [209.85.219.98]) by mails.dpdk.org (Postfix) with ESMTP id 306A240279 for ; Sat, 8 Feb 2025 09:02:26 +0100 (CET) Received: by mail-qv1-f98.google.com with SMTP id 6a1803df08f44-6dcdd9a3e54so28124826d6.3 for ; Sat, 08 Feb 2025 00:02:26 -0800 (PST) DKIM-Signature: v=1; a=rsa-sha256; c=relaxed/relaxed; d=iol.unh.edu; s=unh-iol; t=1739001745; x=1739606545; darn=dpdk.org; h=cc:to:from:subject:message-id:date:from:to:cc:subject:date :message-id:reply-to; bh=bFjCjthLlQBWbgBtWsWY5K9ye/6q5GgxOvRBp3GTY1s=; b=Ssyv3Kk8pFNzLHhGeWq+Dmu2JX8ZsrHBWYbRv6RWwKMHKqMeIc5caATB1QvUCVYT6O GeaI4JYaHcJ1qpf/C0FKc5HGg/dPyGfvLzpZ9/+I21kxjm6a4je1lJ7/l3tYl7BUnRuz SPdy4EewctLdaUTfkdoWmzMk7o/BMYDw2fCaw= X-Google-DKIM-Signature: v=1; a=rsa-sha256; c=relaxed/relaxed; d=1e100.net; s=20230601; t=1739001745; x=1739606545; h=cc:to:from:subject:message-id:date:x-gm-message-state:from:to:cc :subject:date:message-id:reply-to; bh=bFjCjthLlQBWbgBtWsWY5K9ye/6q5GgxOvRBp3GTY1s=; b=EyfZMjyttBm60H1pRXWYAAntXSO1wOwVa34lMiQOJhWHiLQI0WmpyvuzZZe+2WqrPl 9m7ryTB1t+weQgRPRcs5kD3vXpy5xmGOmkeV0iq7AYQShXtPrVYTzKjhOWh5bKfcipLn NCd8l68vATSYugeHQpzMaVCdoNIcajPttNzkmHo3u+ZC++z6gywiiTE+YdR21ij5gQXe b1Fxz/HZiXEBN0812wg9pqZ+qIgwXlWJ3j0EDSrCNvUCcXHFCvjdB3ygV8doGCBQUB4f 2G2ug6DQ/lAPQTIXPCsefBhMPgFMV90nkEYTi+qJXocHvXTPILQk+82BOudLWhURlEwB iLRg== X-Gm-Message-State: AOJu0Ywgkm+qp4UZmQgONM+6qYvtdN3sU3e36Lg9wAVl0wryoUgwgiCi Hi7u86KnTgJ5Z2kBSxTnwUQqrLw8BgsE9qQvTf7F/5a0U5+nie3VqgxIDf22N9fUNoJM8o8Rq5S lS6ExvQhg4CirQpsSRyfB/JxmRtD9bB8OqB/wuZNK X-Gm-Gg: ASbGnct36+VzLPXNa+1w1fNtoD95bmsSCsqCMDVLlQchSBaxXlboXUYsEOB7iCcpfgZ KPyModV2tdpluWmtlnQh9IbeiAJpiDzbXPIQQs8ksLFm86Mf+hS9T+/ejk8A3JJxQ5sP8hDTzei AW1c0kIpUavykQN9NUVkdjFzBQMKlCmA4Us8OaGk7ddjIJaoSzQP2ScnsFIL7YZ6LDfp3xzpt06 mrEhbdXmv2m6Q4K6aYKbFKZlacsHZzuVFvVNbA2W/pMRFfh9q4tfCEi4jLsuHgARPKcE7ky1p/z jsOU8wtTvyxsnYUbI7bSPT8IRJlsgA== X-Google-Smtp-Source: AGHT+IFBZPkNZjGpTp6yOAn/SPMdWXfIiEnmhpmhYRsiotN74CSxZaP4iOy3eAIJ7Ra42MADavrc6qhhRdTw X-Received: by 2002:ad4:5c64:0:b0:6d8:850a:4d6a with SMTP id 6a1803df08f44-6e4455c94e0mr79472146d6.1.1739001745421; Sat, 08 Feb 2025 00:02:25 -0800 (PST) Received: from postal.iol.unh.edu (postal.iol.unh.edu. [132.177.123.84]) by smtp-relay.gmail.com with ESMTPS id 6a1803df08f44-6e43ba4123csm2962916d6.25.2025.02.08.00.02.25 (version=TLS1_2 cipher=ECDHE-ECDSA-AES128-GCM-SHA256 bits=128/128); Sat, 08 Feb 2025 00:02:25 -0800 (PST) X-Relaying-Domain: iol.unh.edu Date: Sat, 08 Feb 2025 00:02:25 -0800 (PST) Message-ID: <67a70f91.050a0220.177405.ec4bSMTPIN_ADDED_MISSING@mx.google.com> Received: from [172.21.0.6] (unknown [172.18.0.240]) by postal.iol.unh.edu (Postfix) with ESMTP id 19BF56052471; Sat, 8 Feb 2025 03:02:25 -0500 (EST) Subject: |SUCCESS| [GIT MASTER] 388b1abe291544106e406cb0a200b5b0c96fe599 From: dpdklab@iol.unh.edu To: Test Report Cc: dpdk-test-reports@iol.unh.edu Content-Type: text/plain X-BeenThere: test-report@dpdk.org X-Mailman-Version: 2.1.29 Precedence: list List-Id: automatic DPDK test reports List-Unsubscribe: , List-Archive: List-Post: List-Help: List-Subscribe: , Errors-To: test-report-bounces@dpdk.org _Testing PASS_ Branch: dpdk 388b1abe291544106e406cb0a200b5b0c96fe599 --> testing pass Upstream job id: Generic-Unit-Test-DPDK#313099 Test environment and result as below: +-----------------------------+----------------+------------------------------+---------------------------+--------------+ | Environment | dpdk_unit_test | cryptodev_sw_snow3g_autotest | cryptodev_sw_zuc_autotest | lpm_autotest | +=============================+================+==============================+===========================+==============+ | CentOS Stream 9 (ARM) | PASS | SKIPPED | SKIPPED | SKIPPED | +-----------------------------+----------------+------------------------------+---------------------------+--------------+ | Debian 12 (arm) | PASS | PASS | PASS | SKIPPED | +-----------------------------+----------------+------------------------------+---------------------------+--------------+ | Debian 11 (Buster) (ARM) | PASS | SKIPPED | SKIPPED | SKIPPED | +-----------------------------+----------------+------------------------------+---------------------------+--------------+ | Fedora 40 (ARM) | PASS | SKIPPED | SKIPPED | SKIPPED | +-----------------------------+----------------+------------------------------+---------------------------+--------------+ | RHEL9 (ARM) | PASS | SKIPPED | SKIPPED | SKIPPED | +-----------------------------+----------------+------------------------------+---------------------------+--------------+ | Fedora 41 (ARM Clang) | PASS | SKIPPED | SKIPPED | SKIPPED | +-----------------------------+----------------+------------------------------+---------------------------+--------------+ | Ubuntu 20.04 (ARM) | PASS | SKIPPED | SKIPPED | SKIPPED | +-----------------------------+----------------+------------------------------+---------------------------+--------------+ | Fedora 41 (ARM) | PASS | SKIPPED | SKIPPED | SKIPPED | +-----------------------------+----------------+------------------------------+---------------------------+--------------+ | Fedora 40 (ARM Clang) | PASS | SKIPPED | SKIPPED | SKIPPED | +-----------------------------+----------------+------------------------------+---------------------------+--------------+ | Ubuntu 24.04 (ARM) | PASS | SKIPPED | SKIPPED | SKIPPED | +-----------------------------+----------------+------------------------------+---------------------------+--------------+ | Ubuntu 22.04 (ARM) | PASS | SKIPPED | SKIPPED | SKIPPED | +-----------------------------+----------------+------------------------------+---------------------------+--------------+ | 32-bit Ubuntu 22.04.4 (ARM) | PASS | SKIPPED | SKIPPED | SKIPPED | +-----------------------------+----------------+------------------------------+---------------------------+--------------+ | Ubuntu 20.04 ARM SVE | SKIPPED | SKIPPED | SKIPPED | PASS | +-----------------------------+----------------+------------------------------+---------------------------+--------------+ CentOS Stream 9 (ARM) Kernel: Depends on container host Compiler: gcc 11.5.0 20240719 (Red Hat 11.5.0-2) Debian 12 (arm) Kernel: Depends on container host Compiler: gcc (Debian 12.2.0-14) 12.2.0 Debian 11 (Buster) (ARM) Kernel: Depends on container host Compiler: gcc (Debian 10.2.1-6) 10.2.1 20210110 Fedora 40 (ARM) Kernel: Depends on container host Compiler: gcc 14.2.1 20240912 (Red Hat 14.2.1-3) RHEL9 (ARM) Kernel: Depends on container host Compiler: gcc 11.5.0 20240719 (Red Hat 11.5.0-2) Fedora 41 (ARM Clang) Kernel: Depends on container host Compiler: clang 19.1.5 (Fedora 19.1.5-1.fc41) Ubuntu 20.04 (ARM) Kernel: Depends on container host Compiler: gcc (Ubuntu 9.4.0-1ubuntu1~20.04.2) 9.4.0 Fedora 41 (ARM) Kernel: Depends on container host Compiler: gcc 14.2.1 20240912 (Red Hat 14.2.1-3) Fedora 40 (ARM Clang) Kernel: Depends on container host Compiler: clang 18.1.8 (Fedora 18.1.8-1.fc40) Ubuntu 24.04 (ARM) Kernel: Depends on container host Compiler: gcc (Ubuntu 13.3.0-6ubuntu2~24.04) 13.3.0 Ubuntu 22.04 (ARM) Kernel: Depends on container host Compiler: gcc (Ubuntu 11.4.0-1ubuntu1~22.04) 11.4.0 32-bit Ubuntu 22.04.4 (ARM) Kernel: 5.15.83+ aarch64 Compiler: gcc (Ubuntu 11.4.0-1ubuntu1~22.04) 11.4.0 Ubuntu 20.04 ARM SVE Kernel: Depends on container host Compiler: gcc (Ubuntu 10.5.0-1ubuntu1~20.04) 10.5.0 To view detailed results, visit: https://lab.dpdk.org/results/dashboard/tarballs/32502/ UNH-IOL DPDK Community Lab To manage your email subscriptions, visit: https://lab.dpdk.org/results/dashboard/preferences/subscriptions/