From mboxrd@z Thu Jan 1 00:00:00 1970 Return-Path: Received: from mails.dpdk.org (mails.dpdk.org [217.70.189.124]) by inbox.dpdk.org (Postfix) with ESMTP id 3EBA4461C6 for ; Sat, 8 Feb 2025 09:04:18 +0100 (CET) Received: from mails.dpdk.org (localhost [127.0.0.1]) by mails.dpdk.org (Postfix) with ESMTP id 22BA640280; Sat, 8 Feb 2025 09:04:18 +0100 (CET) Received: from mail-qt1-f225.google.com (mail-qt1-f225.google.com [209.85.160.225]) by mails.dpdk.org (Postfix) with ESMTP id D8A4140279 for ; Sat, 8 Feb 2025 09:04:16 +0100 (CET) Received: by mail-qt1-f225.google.com with SMTP id d75a77b69052e-467918c35easo50186981cf.2 for ; Sat, 08 Feb 2025 00:04:16 -0800 (PST) DKIM-Signature: v=1; a=rsa-sha256; c=relaxed/relaxed; d=iol.unh.edu; s=unh-iol; t=1739001856; x=1739606656; darn=dpdk.org; h=cc:to:from:subject:message-id:date:from:to:cc:subject:date :message-id:reply-to; bh=hR388SrnNe9DgBrg3JKrW0eyFZEntKKNTuJ3qqZQwBs=; b=ZoCctjIaz+4z+WJ0nBSkUMtaHpu7bbbnukMV36W2LIHJspEzXYusntiEzWmUhzyYsN SJgAJhgFW0VsTUxQz2wTHl+/URg6vtmBxs4KeloRGavoVWee+0B2Jh2HXSt4m0K4vAwr gdebVhlqAQsRW+USMHdhnNHBm8JjIkSWXyzPk= X-Google-DKIM-Signature: v=1; a=rsa-sha256; c=relaxed/relaxed; d=1e100.net; s=20230601; t=1739001856; x=1739606656; h=cc:to:from:subject:message-id:date:x-gm-message-state:from:to:cc :subject:date:message-id:reply-to; bh=hR388SrnNe9DgBrg3JKrW0eyFZEntKKNTuJ3qqZQwBs=; b=uLuCxJiFjnYEXy6GEDCFTmGudn6eZ17PBLzyV4wPCleT2eXtoxSkPMx3c8lyqCBHPu pDsfOJLHv2HuGvXQUSk+XiJpFg7CMkmHJCrC7omfWEw+OygsM4xLgskwYQmfPMNOT0Mx TzGr5yD8so4xv8IocK55JzPhdtiObfb7WfdKjkKSGoAZgK4lAk1NZ+C4FNVT1ekzIl5O NIe5UU2JICXH7xFXVAn9Va2dBmK4CqrK5gMvrPbBsZnkkUByRSlmyMwTN5kkPEWjOnkQ anDuCfY+lKmzo8TjSzgwZrx500A8XIN6BAQKyKaCw6lD0xulCzDS2LEIbYLqtzCChqvb UjYA== X-Gm-Message-State: AOJu0YxbcyQ445D9Q+g1Tl5+OgeBP0WK2qkTN8Adbb7uZuDubZrvb4Fk rmSgqccoI7nY9JeChXtQWJLaCRxM5fjKLAjA0oyg+tY/b3Hinak8B8P2JkALvVU1TMeH2dEJJ1P cTElmkxlQIUfCJ+Mhh90kWd7asZyGecVPmGLe/z3n X-Gm-Gg: ASbGncsA4Bpd4FSZzyjoPc8gfFw+22DIxZldCTw8tR1HIHVLYwaAn5qHiVSFhrWmK7g rXUiS0qyVQsSD3siMEVb8TTwtSyD3bAatfE1csbwxcYuvJiZHKei0JfQR9WB/0KRaoS/KZ8ta73 NLHeE/jjhtU+A7XT7js/azT/jTxY8vZfWT18obUX2mLAqq6XXoTVG5YHzmrr42Zu0LnGLfUXfDa 3CJadBZ6tUMtqT4EtH6bhHC1A7HMiBk8BsI3qEoU363ipIjcNPIRpJIR+HuxrVrI1l78mXRXAFV T+sIJa74/8z8j/MeDzPFKGqx2vfdwA== X-Google-Smtp-Source: AGHT+IFsQkKA2Zq6iM7Yafz0KrU+rPCJU8EO+Dw15JOmD6eNVq+zwl0yCbwA35relduvwM6R3FAxQLcXNL0u X-Received: by 2002:ac8:5714:0:b0:467:7fbf:d115 with SMTP id d75a77b69052e-471679f0d73mr85602881cf.12.1739001856235; Sat, 08 Feb 2025 00:04:16 -0800 (PST) Received: from postal.iol.unh.edu (postal.iol.unh.edu. [132.177.123.84]) by smtp-relay.gmail.com with ESMTPS id d75a77b69052e-47153b3d23fsm2499641cf.19.2025.02.08.00.04.16 (version=TLS1_2 cipher=ECDHE-ECDSA-AES128-GCM-SHA256 bits=128/128); Sat, 08 Feb 2025 00:04:16 -0800 (PST) X-Relaying-Domain: iol.unh.edu Date: Sat, 08 Feb 2025 00:04:16 -0800 (PST) Message-ID: <67a71000.c80a0220.1a95fe.c3f9SMTPIN_ADDED_MISSING@mx.google.com> Received: from [172.21.0.5] (unknown [172.18.0.240]) by postal.iol.unh.edu (Postfix) with ESMTP id E05956052471; Sat, 8 Feb 2025 03:03:57 -0500 (EST) Subject: |SUCCESS| [GIT MASTER] 388b1abe291544106e406cb0a200b5b0c96fe599 From: dpdklab@iol.unh.edu To: Test Report Cc: dpdk-test-reports@iol.unh.edu Content-Type: text/plain X-BeenThere: test-report@dpdk.org X-Mailman-Version: 2.1.29 Precedence: list List-Id: automatic DPDK test reports List-Unsubscribe: , List-Archive: List-Post: List-Help: List-Subscribe: , Errors-To: test-report-bounces@dpdk.org _Testing PASS_ Branch: dpdk 388b1abe291544106e406cb0a200b5b0c96fe599 --> testing pass Upstream job id: Generic-DPDK-Compile-ABI#115394 Test environment and result as below: +-------------------+----------+ | Environment | abi_test | +===================+==========+ | CentOS Stream 9 | PASS | +-------------------+----------+ | Fedora 41 (Clang) | PASS | +-------------------+----------+ | Fedora 40 | PASS | +-------------------+----------+ | Debian Bullseye | PASS | +-------------------+----------+ | Fedora 40 (Clang) | PASS | +-------------------+----------+ | openSUSE Leap 15 | PASS | +-------------------+----------+ | RHEL8 | PASS | +-------------------+----------+ | Fedora 41 | PASS | +-------------------+----------+ | RHEL9 | PASS | +-------------------+----------+ | Ubuntu 24.04 | PASS | +-------------------+----------+ | Arch Linux | PASS | +-------------------+----------+ | Ubuntu 22.04 | PASS | +-------------------+----------+ | Debian 12 | PASS | +-------------------+----------+ CentOS Stream 9 Kernel: Depends on container host Compiler: gcc 11.5.0 20240719 (Red Hat 11.5.0-2) Fedora 41 (Clang) Kernel: Depends on container host Compiler: clang 19.1.5 (Fedora 19.1.5-1.fc41) Fedora 40 Kernel: Depends on container host Compiler: gcc 14.2.1 20240912 (Red Hat 14.2.1-3) Debian Bullseye Kernel: Depends on container host Compiler: gcc (Debian 10.2.1-6) 10.2.1 20210110 Fedora 40 (Clang) Kernel: Depends on container host Compiler: clang 18.1.8 (Fedora 18.1.8-1.fc40) openSUSE Leap 15 Kernel: Depends on container host Compiler: gcc (SUSE Linux) 7.5.0 RHEL8 Kernel: Depends on container host Compiler: gcc 8.5.0 20210514 (Red Hat 8.5.0-22) Fedora 41 Kernel: Depends on container host Compiler: gcc 14.2.1 20240912 (Red Hat 14.2.1-3) RHEL9 Kernel: Depends on container host Compiler: gcc 11.5.0 20240719 (Red Hat 11.5.0-2) Ubuntu 24.04 Kernel: Depends on container host Compiler: gcc (Ubuntu 13.3.0-6ubuntu2~24.04) 13.3.0 Arch Linux Kernel: Depends on container host Compiler: gcc 14.2.1 20240910 Ubuntu 22.04 Kernel: Depends on container host Compiler: gcc (Ubuntu 11.4.0-1ubuntu1~22.04) 11.4.0 Debian 12 Kernel: Depends on container host Compiler: gcc (Debian 12.2.0-14) 12.2.0 To view detailed results, visit: https://lab.dpdk.org/results/dashboard/tarballs/32502/ UNH-IOL DPDK Community Lab To manage your email subscriptions, visit: https://lab.dpdk.org/results/dashboard/preferences/subscriptions/