From mboxrd@z Thu Jan 1 00:00:00 1970 Return-Path: Received: from mails.dpdk.org (mails.dpdk.org [217.70.189.124]) by inbox.dpdk.org (Postfix) with ESMTP id DDD48461C6 for ; Sat, 8 Feb 2025 09:11:23 +0100 (CET) Received: from mails.dpdk.org (localhost [127.0.0.1]) by mails.dpdk.org (Postfix) with ESMTP id DADB240280; Sat, 8 Feb 2025 09:11:23 +0100 (CET) Received: from mail-io1-f100.google.com (mail-io1-f100.google.com [209.85.166.100]) by mails.dpdk.org (Postfix) with ESMTP id E3C4340279 for ; Sat, 8 Feb 2025 09:11:22 +0100 (CET) Received: by mail-io1-f100.google.com with SMTP id ca18e2360f4ac-844eb33827eso91844839f.2 for ; Sat, 08 Feb 2025 00:11:22 -0800 (PST) DKIM-Signature: v=1; a=rsa-sha256; c=relaxed/relaxed; d=iol.unh.edu; s=unh-iol; t=1739002282; x=1739607082; darn=dpdk.org; h=cc:to:from:subject:message-id:date:from:to:cc:subject:date :message-id:reply-to; bh=xsC+7Z9BILPPZiGRfLX772lz3teGm2dqaD8f6RDhf5E=; b=RaRFAZu72VKYQNvr01+futKZZ/Ij746AvjcOnAH8/TuuUUbLM9FiYqhP05QPUb5YGa XtmL6jqGoLFQ96XgiSOC+z/8mtY7gZWam+E/s7ilv7FjGE1s4EIbmw1qhR6DHQ1XMwPg 9GyiZv4REAz/uMLRygEVsPmfkPJd5VDSLx+WI= X-Google-DKIM-Signature: v=1; a=rsa-sha256; c=relaxed/relaxed; d=1e100.net; s=20230601; t=1739002282; x=1739607082; h=cc:to:from:subject:message-id:date:x-gm-message-state:from:to:cc :subject:date:message-id:reply-to; bh=xsC+7Z9BILPPZiGRfLX772lz3teGm2dqaD8f6RDhf5E=; b=Go1krztpyAahXRtusSEjau+ghIFTjIXTcAYOT6rlxTQ3FnVikZCrMLv3/9muFVF2mA 2NoytZlS6gDzegWa0tKHAMXt/5rLaab+svCmwzIIlUKasFNuenC1q+3IV3PJAihAWxbY undhAlp4+RpiUYagh2HQsJej/YQjsaqp00WfzoAJ+/OZ0u9TP9WfSMmaMdHTCDFwF/Mo bmU4aYdbo2tdox8T7tcv57qGphrNA/TD0KbfYkYMUXX/RkynpL2PwvTUioZDd3rh7B0y EapYYFhYeArsgketO2De8lAAiigNt6eLLGx+0ybS28EmSL50dKIMJ0u5PvytnX/EoxRL u/qw== X-Gm-Message-State: AOJu0YwlILHU3twPJbOvbT9XEN4kAxaJNSLxbUS83TsXPFdhuLenK1Y8 5cn0j6qIW9dBqqM4z75eo5okb0uisyGhbfrNUyIir6VjkonUYMh9MKm91PmWzu6RVhMA1G6V1Fh 6/3YrzMivGDF9AcFnnk8mvCyhumfbNfNQ X-Gm-Gg: ASbGncu1V/sS3TfiajuiL6waNsFQ1dkzUPVOQyzKBmNuHgyqfOWRURIzAsTwm/G+/T1 7FweCCGdtCmQSZ9bviDFRt4TUC7CvRbCq0yQsLCtCAGghmKX0BRG2p87RKeiE6jatYJGkSpn1wu cqdzz8PmbBPXwHnOmJ83/G4BHiJsGAQkRPTeYGuThYKkaCcGnGPpE6NFN1FINdenGg0YM8ZOHga kKWOojPneaJnYKOQnaktLOdCds1GvS7YBIHE0Iml994fdjanopD2RsysxT3Km6D5xETQfdq6NAo ZJEpjp/zsAuCowi5KYmETIVjVoNATg== X-Google-Smtp-Source: AGHT+IGIfkz1O/MI5SiefydLWBdRISo55W3XeJ0mlyb3CuXZQY0R6GGUfiPP5efw28tuTSMpkHwOIihRybWU X-Received: by 2002:a05:6602:3886:b0:842:ff2d:c3bb with SMTP id ca18e2360f4ac-854fd8982ffmr663639839f.6.1739002282246; Sat, 08 Feb 2025 00:11:22 -0800 (PST) Received: from postal.iol.unh.edu (postal.iol.unh.edu. [132.177.123.84]) by smtp-relay.gmail.com with ESMTPS id ca18e2360f4ac-854f6660d93sm31327039f.5.2025.02.08.00.11.22 (version=TLS1_2 cipher=ECDHE-ECDSA-AES128-GCM-SHA256 bits=128/128); Sat, 08 Feb 2025 00:11:22 -0800 (PST) X-Relaying-Domain: iol.unh.edu Date: Sat, 08 Feb 2025 00:11:22 -0800 (PST) Message-ID: <67a711aa.050a0220.29559d.fe8dSMTPIN_ADDED_MISSING@mx.google.com> Received: from [172.21.0.5] (unknown [172.18.0.240]) by postal.iol.unh.edu (Postfix) with ESMTP id B65896052472; Sat, 8 Feb 2025 03:11:21 -0500 (EST) Subject: |SUCCESS| [GIT MASTER] f2eea2f37a82bb73fb01d56350708f7d70e21379 From: dpdklab@iol.unh.edu To: Test Report Cc: dpdk-test-reports@iol.unh.edu, Xueming Li , Christian Ehrhardt , Kevin Traynor , Luca Boccassi Content-Type: text/plain X-BeenThere: test-report@dpdk.org X-Mailman-Version: 2.1.29 Precedence: list List-Id: automatic DPDK test reports List-Unsubscribe: , List-Archive: List-Post: List-Help: List-Subscribe: , Errors-To: test-report-bounces@dpdk.org _Testing PASS_ Branch: tags/v24.11 f2eea2f37a82bb73fb01d56350708f7d70e21379 --> testing pass Upstream job id: Windows-Compile-DPDK-Native#26549 Test environment and result as below: +---------------------+-------------------------+-------------------+--------------------+----------------------+ | Environment | dpdk_llvm_clang_compile | dpdk_msvc_compile | dpdk_meson_compile | dpdk_mingw64_compile | +=====================+=========================+===================+====================+======================+ | Windows Server 2022 | PASS | PASS | SKIPPED | PASS | +---------------------+-------------------------+-------------------+--------------------+----------------------+ | FreeBSD 13.4 | SKIPPED | SKIPPED | PASS | SKIPPED | +---------------------+-------------------------+-------------------+--------------------+----------------------+ Windows Server 2022 Kernel: 10.0.20348.2031 Compiler: clang 15.0.7, gcc 14.1.0 (MinGW), and MSVC VS 19.39.33521 FreeBSD 13.4 Kernel: 13.4-RELEASE-p1 Compiler: clang 18.1.6 To view detailed results, visit: https://lab.dpdk.org/results/dashboard/tarballs/32504/ UNH-IOL DPDK Community Lab To manage your email subscriptions, visit: https://lab.dpdk.org/results/dashboard/preferences/subscriptions/