From mboxrd@z Thu Jan 1 00:00:00 1970 Return-Path: Received: from mails.dpdk.org (mails.dpdk.org [217.70.189.124]) by inbox.dpdk.org (Postfix) with ESMTP id 00ADB461C6 for ; Sat, 8 Feb 2025 09:12:02 +0100 (CET) Received: from mails.dpdk.org (localhost [127.0.0.1]) by mails.dpdk.org (Postfix) with ESMTP id F05FA40280; Sat, 8 Feb 2025 09:12:02 +0100 (CET) Received: from mail-pl1-f227.google.com (mail-pl1-f227.google.com [209.85.214.227]) by mails.dpdk.org (Postfix) with ESMTP id 71CA140279 for ; Sat, 8 Feb 2025 09:12:01 +0100 (CET) Received: by mail-pl1-f227.google.com with SMTP id d9443c01a7336-21f55fbb72bso24442875ad.2 for ; Sat, 08 Feb 2025 00:12:01 -0800 (PST) DKIM-Signature: v=1; a=rsa-sha256; c=relaxed/relaxed; d=iol.unh.edu; s=unh-iol; t=1739002320; x=1739607120; darn=dpdk.org; h=cc:to:from:subject:message-id:date:from:to:cc:subject:date :message-id:reply-to; bh=wpERyldiy3shZ7WW3N3I1vL537jV9Qu8Fg+W1dgKSyA=; b=VyfByDTQ3/pF5F6TOd9/wUtRGrhW2wVpgXGxMl3CsPK3a18459HKmC/yHhyO7llDgw TlYRdvhTZw8I6rLwoIuEDLLyimAR3YuDLKOhEWpej/me8lkBxcFIoTibtoItUhMqe6w/ kfPtVRZZJb5EVssgZZTugUCuSBHKBfM1DqVng= X-Google-DKIM-Signature: v=1; a=rsa-sha256; c=relaxed/relaxed; d=1e100.net; s=20230601; t=1739002320; x=1739607120; h=cc:to:from:subject:message-id:date:x-gm-message-state:from:to:cc :subject:date:message-id:reply-to; bh=wpERyldiy3shZ7WW3N3I1vL537jV9Qu8Fg+W1dgKSyA=; b=HZATiVXSGA0jJcmF1KYa0mYFDT0OT0U4vSYnC/bHQryZr5LxWR7I2fKFVBjtBGIyZH kHRjCIe+PBrwuCo+u29ttjb5OGTHLKQaoV846xQy5pvi1XsjbyCFU3FxkgZvDUTf5hac ALoOgo69mAfVctQqo1iB0re1sjlEiw42PJFB7kDxQWcO0IZvdm4w/U3SSDjjah+sgkcj VtAerlIykeMDXYs26ungsPxiAtZJw35wFYwH2Xj7wfQrqAmppTtrR3LVNVvd7BPcNbc7 bzDPHAxcGajEPET0Up26kIuJL+BiodFIDpOMpQk9tp8U6hzp2pd+Vz0Pd2JkeWCrtp8Z Fo3w== X-Gm-Message-State: AOJu0Yzq4Tl306aQnc/SLZBQoruRjD8AnC48/bysh5HsYsJ1SUfcnMVK JX8Sictgk2UKyR4JkvHPNSXH/c+IEXSkTP9SeTBq0v4QjXoPAgaScSksg/0QOCjYB0ha31bAHwS tedC2hjW1POeFhlp/gULblswov3McIsEg X-Gm-Gg: ASbGncs0OIy2Mc8iMPLubhqMiKyiZWXl66BhrHjlWFmlPQ5+Kkftvly7EQXKV4fdcgo o4hSfTieeVrTkpbo5FH4dsWehTBtTyikx4xgcZxaXdWxaf709NkO9by3Mkm+cTsQ538JxnyaQ7B 535zgfHPtWGDshKt3oQsJXe/lh8p10jOIrjblLRB0/jUb84XBLl/z+8ZO1x4p7UJJG2D8H8ld1k 7/kG/Xa2CgN5v3wq2KkLJoJ5IjE9i7smAMgrfJZnYTpCHAUKHbvMpccLjXhDr9br2S5bcSTV4nz HO/oZuI4FBlodm/vFsLjiopWLHH9KQ== X-Google-Smtp-Source: AGHT+IEsgggucJieTSVXPYQExHO8Okza25hd32g1n6HfDFKJCHOnJ1pThASsRnxRlLFREQCYCyMJX43qzNxA X-Received: by 2002:a05:6a20:c706:b0:1e1:af74:a235 with SMTP id adf61e73a8af0-1ee03a6b2d6mr12267247637.24.1739002320589; Sat, 08 Feb 2025 00:12:00 -0800 (PST) Received: from postal.iol.unh.edu (postal.iol.unh.edu. [132.177.123.84]) by smtp-relay.gmail.com with ESMTPS id 41be03b00d2f7-ad53de9eeb2sm54256a12.17.2025.02.08.00.12.00 (version=TLS1_2 cipher=ECDHE-ECDSA-AES128-GCM-SHA256 bits=128/128); Sat, 08 Feb 2025 00:12:00 -0800 (PST) X-Relaying-Domain: iol.unh.edu Date: Sat, 08 Feb 2025 00:12:00 -0800 (PST) Message-ID: <67a711d0.630a0220.21e723.28a8SMTPIN_ADDED_MISSING@mx.google.com> Received: from [172.21.0.5] (unknown [172.18.0.240]) by postal.iol.unh.edu (Postfix) with ESMTP id CE6216052471; Sat, 8 Feb 2025 03:11:59 -0500 (EST) Subject: |SUCCESS| [GIT MASTER] c66daa12e76d7b4912cfb7109a761856a7a873ab From: dpdklab@iol.unh.edu To: Test Report Cc: dpdk-test-reports@iol.unh.edu, Xueming Li , Christian Ehrhardt , Kevin Traynor , Luca Boccassi Content-Type: text/plain X-BeenThere: test-report@dpdk.org X-Mailman-Version: 2.1.29 Precedence: list List-Id: automatic DPDK test reports List-Unsubscribe: , List-Archive: List-Post: List-Help: List-Subscribe: , Errors-To: test-report-bounces@dpdk.org _Testing PASS_ Branch: tags/v23.11 c66daa12e76d7b4912cfb7109a761856a7a873ab --> testing pass Upstream job id: Windows-Compile-DPDK-VS#4870 Test environment and result as below: +---------------------+--------------------+-------------------+ | Environment | dpdk_meson_compile | dpdk_msvc_compile | +=====================+====================+===================+ | FreeBSD 13.4 | PASS | SKIPPED | +---------------------+--------------------+-------------------+ | FreeBSD 14.2 | PASS | SKIPPED | +---------------------+--------------------+-------------------+ | Windows Server 2022 | SKIPPED | PASS | +---------------------+--------------------+-------------------+ FreeBSD 13.4 Kernel: 13.4-RELEASE-p1 Compiler: clang 18.1.6 FreeBSD 14.2 Kernel: 14.2-RELEASE Compiler: clang 18.1.6 Windows Server 2022 Kernel: 10.0.20348.2031 Compiler: clang 15.0.7, gcc 14.1.0 (MinGW), and MSVC VS 19.39.33521 To view detailed results, visit: https://lab.dpdk.org/results/dashboard/tarballs/32505/ UNH-IOL DPDK Community Lab To manage your email subscriptions, visit: https://lab.dpdk.org/results/dashboard/preferences/subscriptions/