From mboxrd@z Thu Jan 1 00:00:00 1970 Return-Path: Received: from mails.dpdk.org (mails.dpdk.org [217.70.189.124]) by inbox.dpdk.org (Postfix) with ESMTP id 73598461C6 for ; Sat, 8 Feb 2025 09:31:45 +0100 (CET) Received: from mails.dpdk.org (localhost [127.0.0.1]) by mails.dpdk.org (Postfix) with ESMTP id 6E4A740280; Sat, 8 Feb 2025 09:31:45 +0100 (CET) Received: from mail-pl1-f225.google.com (mail-pl1-f225.google.com [209.85.214.225]) by mails.dpdk.org (Postfix) with ESMTP id 3541A40279 for ; Sat, 8 Feb 2025 09:31:44 +0100 (CET) Received: by mail-pl1-f225.google.com with SMTP id d9443c01a7336-21f464b9a27so42839925ad.1 for ; Sat, 08 Feb 2025 00:31:44 -0800 (PST) DKIM-Signature: v=1; a=rsa-sha256; c=relaxed/relaxed; d=iol.unh.edu; s=unh-iol; t=1739003503; x=1739608303; darn=dpdk.org; h=cc:to:from:subject:message-id:date:from:to:cc:subject:date :message-id:reply-to; bh=05WocUGU046dKC6ejK1nDV8GLi5xBo662TPFP3nX/SU=; b=jB/d2RKyxOTUoo3LjeGfPxTaQUu3uo0gw/iehNriZ1yPb+mJoVSNroCa6AfQinhzRe gBIRgKD2q5pPblPB/V1QBobZ53UQ/Pr7D4K2SbkFymRWltr+Bvca4d2PAWpfxF5MQ2tz ykFPTsIrNKXnddoRp+RCGyXe6CMbv9RsB2LvI= X-Google-DKIM-Signature: v=1; a=rsa-sha256; c=relaxed/relaxed; d=1e100.net; s=20230601; t=1739003503; x=1739608303; h=cc:to:from:subject:message-id:date:x-gm-message-state:from:to:cc :subject:date:message-id:reply-to; bh=05WocUGU046dKC6ejK1nDV8GLi5xBo662TPFP3nX/SU=; b=JDQz9z3oT3e0js9tp77eIsHU8uMAokdjpIQUk8q19gOxeKqsJ1/Z+tPjXs/cxsSkJS 0eEO6Wu4WiFuUyItc6Mxqp5xp7WJstgfExbl8U/rFKhN2J9GKFt/ZauJPP4rBDvKlfkT U88FINRYwi2ylYLVVKBfjkiuUrjoDrXKStIkndQtADOT/DFLAADwBvH8eIRwD44+vlPP vODWCK4NxlDJ0+uADifT4uaG2dXU7Vyej4KTZk4a486cQ/aegYjnFL+LujTSWAMOjIGs wV/plqPeCekzuUBqvj1dqrJei5A3QSCshxrXRggPQIwZeVoRjjhzR/RhDXq1FfHC9SRI A+Ng== X-Gm-Message-State: AOJu0YzQjMMy0Lj8NJs+1OC0+IlsfGSIy6wDlIjD01ZESu0k09f6uwlo fQpHycubst/E1vKlspB2oLqod3k7GqcmOmaaNIy0dswwq/hlQyGDO8rjXZy4hVCnaynDYwc82hT uMKfJicjQDeFZvZcyzYDJkHE4l+TRFR9C X-Gm-Gg: ASbGncu4PvI2fGgkZZmtVyPTA1SbhBdLHDQ5I95VNVYbt/UgScSLVRJH9Ln3rNoj+9l D8/dmDiyfBFSpDVCYkPcCsvQtOtqblcYy79rcRhojM9b5jEW8Hh3rumaAMfdNvVm2Z1uLHkkXtf OVxUyi4O1rtlsEsRqwtj16n7dK2AXg04zmNkH6PqMYRG7388iqAi5szb5Zgn4JFydSKCx76mQzW gbbMe1gYPuutwSVu9QiTTiYZGgnqRUUVbL3qov63WAVKgHu/nhENn5e6YJoyyadJk7kha6XtzcT J2Pux9auE09RmXbqCBC6agdOXJT/Cg== X-Google-Smtp-Source: AGHT+IFpFgQd1rOtTIzYBSVzlxV8mDNZZMC4ELNz0qR0wkKQJlsbsGEiEDJPGMioFZPg8VtIiz239KIfrNXa X-Received: by 2002:a17:903:22d1:b0:21f:592b:b4b6 with SMTP id d9443c01a7336-21f592bb851mr72619555ad.47.1739003503408; Sat, 08 Feb 2025 00:31:43 -0800 (PST) Received: from postal.iol.unh.edu (postal.iol.unh.edu. [132.177.123.84]) by smtp-relay.gmail.com with ESMTPS id d9443c01a7336-21f3688af58sm2949575ad.115.2025.02.08.00.31.43 (version=TLS1_2 cipher=ECDHE-ECDSA-AES128-GCM-SHA256 bits=128/128); Sat, 08 Feb 2025 00:31:43 -0800 (PST) X-Relaying-Domain: iol.unh.edu Date: Sat, 08 Feb 2025 00:31:43 -0800 (PST) Message-ID: <67a7166f.170a0220.18e7.eacfSMTPIN_ADDED_MISSING@mx.google.com> Received: from [172.21.0.7] (unknown [172.18.0.240]) by postal.iol.unh.edu (Postfix) with ESMTP id 923486052471; Sat, 8 Feb 2025 03:31:38 -0500 (EST) Subject: |SUCCESS| [GIT MASTER] c66daa12e76d7b4912cfb7109a761856a7a873ab From: dpdklab@iol.unh.edu To: Test Report Cc: dpdk-test-reports@iol.unh.edu, Xueming Li , Christian Ehrhardt , Kevin Traynor , Luca Boccassi Content-Type: text/plain X-BeenThere: test-report@dpdk.org X-Mailman-Version: 2.1.29 Precedence: list List-Id: automatic DPDK test reports List-Unsubscribe: , List-Archive: List-Post: List-Help: List-Subscribe: , Errors-To: test-report-bounces@dpdk.org _Testing PASS_ Branch: tags/v23.11 c66daa12e76d7b4912cfb7109a761856a7a873ab --> testing pass Upstream job id: Windows-Compile-DPDK-Native#26550 Test environment and result as below: +---------------------+--------------------+-------------------+-------------------------+ | Environment | dpdk_meson_compile | dpdk_msvc_compile | dpdk_llvm_clang_compile | +=====================+====================+===================+=========================+ | FreeBSD 13.4 | PASS | SKIPPED | SKIPPED | +---------------------+--------------------+-------------------+-------------------------+ | FreeBSD 14.2 | PASS | SKIPPED | SKIPPED | +---------------------+--------------------+-------------------+-------------------------+ | Windows Server 2022 | SKIPPED | PASS | PASS | +---------------------+--------------------+-------------------+-------------------------+ FreeBSD 13.4 Kernel: 13.4-RELEASE-p1 Compiler: clang 18.1.6 FreeBSD 14.2 Kernel: 14.2-RELEASE Compiler: clang 18.1.6 Windows Server 2022 Kernel: 10.0.20348.2031 Compiler: clang 15.0.7, gcc 14.1.0 (MinGW), and MSVC VS 19.39.33521 To view detailed results, visit: https://lab.dpdk.org/results/dashboard/tarballs/32505/ UNH-IOL DPDK Community Lab To manage your email subscriptions, visit: https://lab.dpdk.org/results/dashboard/preferences/subscriptions/