From mboxrd@z Thu Jan 1 00:00:00 1970 Return-Path: Received: from mails.dpdk.org (mails.dpdk.org [217.70.189.124]) by inbox.dpdk.org (Postfix) with ESMTP id A44F1461C6 for ; Sat, 8 Feb 2025 09:33:10 +0100 (CET) Received: from mails.dpdk.org (localhost [127.0.0.1]) by mails.dpdk.org (Postfix) with ESMTP id A03CE40280; Sat, 8 Feb 2025 09:33:10 +0100 (CET) Received: from mail-qt1-f225.google.com (mail-qt1-f225.google.com [209.85.160.225]) by mails.dpdk.org (Postfix) with ESMTP id 6092C40279 for ; Sat, 8 Feb 2025 09:33:09 +0100 (CET) Received: by mail-qt1-f225.google.com with SMTP id d75a77b69052e-47182317174so720271cf.2 for ; Sat, 08 Feb 2025 00:33:09 -0800 (PST) DKIM-Signature: v=1; a=rsa-sha256; c=relaxed/relaxed; d=iol.unh.edu; s=unh-iol; t=1739003589; x=1739608389; darn=dpdk.org; h=cc:to:from:subject:message-id:date:from:to:cc:subject:date :message-id:reply-to; bh=HxZBzdNTV20f+sqyfiG3pgQ1euTQ2DyXVpmufbeZz2I=; b=eD30qB3spUXxqeRiOI8RJbCVJYKeakJ/9j3LJOkJGOldBXC6LVCNHL4GMhMm1jX8cg MwPztTpRk5EtrxdJ2M2VUZIKztxb2J1/uOzqew4oqlgHaK/on7WsPzntxusYCtC577s7 nzQ8ut2Ewodiibtzv/k0bQPaAYmlGg1pdjOR4= X-Google-DKIM-Signature: v=1; a=rsa-sha256; c=relaxed/relaxed; d=1e100.net; s=20230601; t=1739003589; x=1739608389; h=cc:to:from:subject:message-id:date:x-gm-message-state:from:to:cc :subject:date:message-id:reply-to; bh=HxZBzdNTV20f+sqyfiG3pgQ1euTQ2DyXVpmufbeZz2I=; b=F36nq9o7afcsbiZVuEUM2xqp0w2UxjF44QzM5cHyEhI0Qq/P+AYj+kTbSCjrSFBsbC dT1KF9aTeskbBIocqcofD5laDUvQgbRqeiNTo8le3VG5H6DqBIdBEFA/505kBhFOm0aK dP1q/eoSfBX2wIKxfRn9tm9zIwe5Gq04CuldsN0Mu7IdxjPSptTWl2pEEyFf+QDmDLYY KNyxI6bXygxc+0pNPfpBJKXrEH1ifoWZ8hJeHnlbsbkXJXzj86AD6vHYlDzz/rn46Xj7 EB85/hGw+1oV+Xz3fBZ0mh/k2WGfritzIx8Skk5ZLvoIRWWjOL3AcJXhTg1P/IKZhFne Yidw== X-Gm-Message-State: AOJu0Yy73WBi43arfeP/idmM1lFzCXORbcWgY0ZEVSfsVbwigchR7GPk uw5YuGbn6gUTt/Q5hgP1sPV38JPd85BsPU3brJR4P+LvSdajaUyE3uilBGME7T+y7k0QlrehGYp nAgzgis9C9jrR5q70SqF0DVjgnvgMJJjczAJFCnMj X-Gm-Gg: ASbGncu5WipTea8FlTN7rdi6IXL8J1e4r/IP5Gw94m5bqXGN0bdrTIkmaaJb15/Pjqd DiqENhEFnb75dMfmcD0ZqmrfHsUKFXtkLcdC3IG9XNzLXg3N2ql8yJlo8huCp2tZKZI+bfw3jbS sHqhCDAUgIsuhT6arvqIE7XVqxe8AwO3h03MrF1+FnMdai0qwuwQ+3HdxAL86C/owMJGIENaop3 W84QvdJh7M6Stvs5798e0+JAisxbKiD4V1MlcW2UG3wy7SS73gAFEaddiwDcWtfL0tD7V1MvQQ5 cEPMncfzrh2EPut8cK+kDPk47hiHxQ== X-Google-Smtp-Source: AGHT+IESx4GE7VcvGxCnF1gMNzMnlVSyPWduuRsf9K5WsnNq9Ft7d3VayUlG0VOkuu80xnRZuAgtINau93YV X-Received: by 2002:ac8:7f09:0:b0:466:ad0d:f0ca with SMTP id d75a77b69052e-47167b023acmr94664791cf.50.1739003588782; Sat, 08 Feb 2025 00:33:08 -0800 (PST) Received: from postal.iol.unh.edu (postal.iol.unh.edu. [132.177.123.84]) by smtp-relay.gmail.com with ESMTPS id d75a77b69052e-4714928d27csm2672841cf.6.2025.02.08.00.33.08 (version=TLS1_2 cipher=ECDHE-ECDSA-AES128-GCM-SHA256 bits=128/128); Sat, 08 Feb 2025 00:33:08 -0800 (PST) X-Relaying-Domain: iol.unh.edu Date: Sat, 08 Feb 2025 00:33:08 -0800 (PST) Message-ID: <67a716c4.050a0220.2b65e3.d474SMTPIN_ADDED_MISSING@mx.google.com> Received: from [172.21.0.7] (unknown [172.18.0.240]) by postal.iol.unh.edu (Postfix) with ESMTP id 687F76052471; Sat, 8 Feb 2025 03:33:08 -0500 (EST) Subject: |SUCCESS| [GIT MASTER] 992fd7e15692e3faab0c0e590aaa63998657d804 From: dpdklab@iol.unh.edu To: Test Report Cc: dpdk-test-reports@iol.unh.edu, Chenbo Xia , Maxime Coquelin Content-Type: text/plain X-BeenThere: test-report@dpdk.org X-Mailman-Version: 2.1.29 Precedence: list List-Id: automatic DPDK test reports List-Unsubscribe: , List-Archive: List-Post: List-Help: List-Subscribe: , Errors-To: test-report-bounces@dpdk.org _Testing PASS_ Branch: dpdk-next-virtio 992fd7e15692e3faab0c0e590aaa63998657d804 --> testing pass Upstream job id: Windows-Compile-DPDK-VS#4871 Test environment and result as below: +---------------------+--------------------+-------------------+ | Environment | dpdk_meson_compile | dpdk_msvc_compile | +=====================+====================+===================+ | FreeBSD 13.4 | PASS | SKIPPED | +---------------------+--------------------+-------------------+ | FreeBSD 14.2 | PASS | SKIPPED | +---------------------+--------------------+-------------------+ | Windows Server 2022 | SKIPPED | PASS | +---------------------+--------------------+-------------------+ FreeBSD 13.4 Kernel: 13.4-RELEASE-p1 Compiler: clang 18.1.6 FreeBSD 14.2 Kernel: 14.2-RELEASE Compiler: clang 18.1.6 Windows Server 2022 Kernel: 10.0.20348.2031 Compiler: clang 15.0.7, gcc 14.1.0 (MinGW), and MSVC VS 19.39.33521 To view detailed results, visit: https://lab.dpdk.org/results/dashboard/tarballs/32507/ UNH-IOL DPDK Community Lab To manage your email subscriptions, visit: https://lab.dpdk.org/results/dashboard/preferences/subscriptions/