From mboxrd@z Thu Jan 1 00:00:00 1970 Return-Path: Received: from mails.dpdk.org (mails.dpdk.org [217.70.189.124]) by inbox.dpdk.org (Postfix) with ESMTP id 5215E461C6 for ; Sat, 8 Feb 2025 09:38:07 +0100 (CET) Received: from mails.dpdk.org (localhost [127.0.0.1]) by mails.dpdk.org (Postfix) with ESMTP id 4D9FE40280; Sat, 8 Feb 2025 09:38:07 +0100 (CET) Received: from mail-il1-f225.google.com (mail-il1-f225.google.com [209.85.166.225]) by mails.dpdk.org (Postfix) with ESMTP id A167240279 for ; Sat, 8 Feb 2025 09:38:06 +0100 (CET) Received: by mail-il1-f225.google.com with SMTP id e9e14a558f8ab-3d03ac846a7so9114945ab.2 for ; Sat, 08 Feb 2025 00:38:06 -0800 (PST) DKIM-Signature: v=1; a=rsa-sha256; c=relaxed/relaxed; d=iol.unh.edu; s=unh-iol; t=1739003886; x=1739608686; darn=dpdk.org; h=cc:to:from:subject:message-id:date:from:to:cc:subject:date :message-id:reply-to; bh=yBSayw2xBFvaUpZ8oWZT4R848rl2mOaw7z4C58jGnGw=; b=RMb2ml7Y5w9Ki0G+6jog9000j/0WTjMiCInqJC9Rei0595XrBpoj33YW9yOi2cASrL YmZuFmUvSIKzHXQpT/dUvp58pRjTxN68LRBMEDQgD8/W16YUJghifCDsSyt41hBOab59 /kIq29Pz8q+zpuFYMa6mmDATetXrC+1lEMpJs= X-Google-DKIM-Signature: v=1; a=rsa-sha256; c=relaxed/relaxed; d=1e100.net; s=20230601; t=1739003886; x=1739608686; h=cc:to:from:subject:message-id:date:x-gm-message-state:from:to:cc :subject:date:message-id:reply-to; bh=yBSayw2xBFvaUpZ8oWZT4R848rl2mOaw7z4C58jGnGw=; b=VvC+3rhRnXXgcjG30sDmLUgGQqx6Rq3kdiKEroCKEgdInhk+6CQHGgtezJMuknTZg1 /iNIg4M8KIVZA8Iqc6vbfYJVRXtk0OlD12/RispeCNfYzuC6NLcIwwLj//9zgr6EWe5v /z4ja0XFeOODnMC/ToWO5u96YsU90Oxsl0s+fGXn9kF0e4dCZ2drWU9kAXMykFMhJBmu Yp+gpq+RzrwicLOb31FmWixYNLQ4ZN8SziASVv4AFJGs+bAe5cslIZ/eQAKSrDRsrrvE jRJg9tFAuRQFPvefjhKn/rcFhlgXeaDAE5yhAvNSdT8c+uI/+I1OiKvqdcQM6Ua/VwlO Omtw== X-Gm-Message-State: AOJu0YzRTCzeW3HxWiuaMMoRvt0C7/yiOJ6EMkSj0Zt1lHyPGx8SkNlf oUDIKWcngWPALwdkwmaeTkymH5xgDKN4PINpD44jIH7ysHUo8F68lSiyhg/SCE1HJeVtAn2l03r +7OD4XFPRkIDXaeHXMCWiHS4RJ1dn4u3+eDNgmm+r X-Gm-Gg: ASbGncvyracS/P/JlqpPzIWlDpwxaFlDZbNV9jaqERnYpEuBDUu/ssMQz6C+ulZQFsa xxGZctUztFcxZJfFl6KNTgwFPycpD8rMRr61/0sIMf4kAnbFXOPAuPthoP33vJ8SxP+g4rItUwi 1Kc9GF313yozL5xOwi9Igyz/NF+mnLAnBUudwzfjfGCLGPpEbVPp/Ew54shLBS7ZAgeBLw7SNEx rAEUpcxPXnozTXC4c6beZkHFlf7LMxVGsLl761pSpiAbxdKlqSo8aec8i/6/U4lWGYQLiyYCzHW /dQhVRZgWexM8VNRTPhEa7pPk4yjoQ== X-Google-Smtp-Source: AGHT+IG3HyVg0oFLjdwda9teDnHtXbQl0amIqIcJmi0F7TcP/ReRWKzRwoGWRRtg5cJS8yyx+pGfhDHUL/ZK X-Received: by 2002:a05:6602:b8f:b0:843:ec8d:be00 with SMTP id ca18e2360f4ac-854fd90833emr609449739f.13.1739003885916; Sat, 08 Feb 2025 00:38:05 -0800 (PST) Received: from postal.iol.unh.edu (postal.iol.unh.edu. [132.177.123.84]) by smtp-relay.gmail.com with ESMTPS id ca18e2360f4ac-854f6660d93sm31482639f.5.2025.02.08.00.38.05 (version=TLS1_2 cipher=ECDHE-ECDSA-AES128-GCM-SHA256 bits=128/128); Sat, 08 Feb 2025 00:38:05 -0800 (PST) X-Relaying-Domain: iol.unh.edu Date: Sat, 08 Feb 2025 00:38:05 -0800 (PST) Message-ID: <67a717ed.050a0220.29559d.ffa2SMTPIN_ADDED_MISSING@mx.google.com> Received: from [172.21.0.5] (unknown [172.18.0.240]) by postal.iol.unh.edu (Postfix) with ESMTP id 67C3E6052471; Sat, 8 Feb 2025 03:37:35 -0500 (EST) Subject: |SUCCESS| [GIT MASTER] b82daa7d47bda76b3879ef6d715b2d3eb737793f From: dpdklab@iol.unh.edu To: Test Report Cc: dpdk-test-reports@iol.unh.edu, Stephen Hemminger Content-Type: text/plain X-BeenThere: test-report@dpdk.org X-Mailman-Version: 2.1.29 Precedence: list List-Id: automatic DPDK test reports List-Unsubscribe: , List-Archive: List-Post: List-Help: List-Subscribe: , Errors-To: test-report-bounces@dpdk.org _Testing PASS_ Branch: dpdk-next-net b82daa7d47bda76b3879ef6d715b2d3eb737793f --> testing pass Upstream job id: Windows-Compile-DPDK-VS#4872 Test environment and result as below: +---------------------+--------------------+-------------------+ | Environment | dpdk_meson_compile | dpdk_msvc_compile | +=====================+====================+===================+ | FreeBSD 13.4 | PASS | SKIPPED | +---------------------+--------------------+-------------------+ | FreeBSD 14.2 | PASS | SKIPPED | +---------------------+--------------------+-------------------+ | Windows Server 2022 | SKIPPED | PASS | +---------------------+--------------------+-------------------+ FreeBSD 13.4 Kernel: 13.4-RELEASE-p1 Compiler: clang 18.1.6 FreeBSD 14.2 Kernel: 14.2-RELEASE Compiler: clang 18.1.6 Windows Server 2022 Kernel: 10.0.20348.2031 Compiler: clang 15.0.7, gcc 14.1.0 (MinGW), and MSVC VS 19.39.33521 To view detailed results, visit: https://lab.dpdk.org/results/dashboard/tarballs/32508/ UNH-IOL DPDK Community Lab To manage your email subscriptions, visit: https://lab.dpdk.org/results/dashboard/preferences/subscriptions/