From mboxrd@z Thu Jan 1 00:00:00 1970 Return-Path: Received: from mails.dpdk.org (mails.dpdk.org [217.70.189.124]) by inbox.dpdk.org (Postfix) with ESMTP id 9BC55461C6 for ; Sat, 8 Feb 2025 09:39:45 +0100 (CET) Received: from mails.dpdk.org (localhost [127.0.0.1]) by mails.dpdk.org (Postfix) with ESMTP id 8B95540280; Sat, 8 Feb 2025 09:39:45 +0100 (CET) Received: from mail-qv1-f99.google.com (mail-qv1-f99.google.com [209.85.219.99]) by mails.dpdk.org (Postfix) with ESMTP id 92B3040279 for ; Sat, 8 Feb 2025 09:39:44 +0100 (CET) Received: by mail-qv1-f99.google.com with SMTP id 6a1803df08f44-6dd15d03eacso24121196d6.0 for ; Sat, 08 Feb 2025 00:39:44 -0800 (PST) DKIM-Signature: v=1; a=rsa-sha256; c=relaxed/relaxed; d=iol.unh.edu; s=unh-iol; t=1739003984; x=1739608784; darn=dpdk.org; h=references:in-reply-to:cc:to:from:subject:message-id:date:from:to :cc:subject:date:message-id:reply-to; bh=cdrwDzl0c2Cj2QB929galDKHu2NG5YQTNB112tcCGws=; b=Dl2wmsVbjU4fwIWlI7B1SzrVKJKFeAgLCYgh9d07AwBeFjverOkF82BPPHO7qJV4P6 SJIvfuIZm9OSxwn/YLbP0ZjB1XXyYWF0qS5B+rrnDdGcBTcOhRBL833xuppQpYq6VTYT ZBrvLcX75ZubJmoB297HEFuHA1hqGQ4VpInX8= X-Google-DKIM-Signature: v=1; a=rsa-sha256; c=relaxed/relaxed; d=1e100.net; s=20230601; t=1739003984; x=1739608784; h=references:in-reply-to:cc:to:from:subject:message-id:date :x-gm-message-state:from:to:cc:subject:date:message-id:reply-to; bh=cdrwDzl0c2Cj2QB929galDKHu2NG5YQTNB112tcCGws=; b=vYDGh33yw6aLMQ9CwVRrQ9w5liJ8d20nj7PFBmiC6+ee2DgzBqNqtyNUo7CofL75If oMC3IoSDOCw5LD0vxTjAs1gMAbpg3USnE61KtvxtFYRig07lcs/y4qfGDY3IQ2rN4zbX E4cPWlDeBvJnjDsNwfZ5lXVk3upI90vxcZAD1C0t+TM5gZXy7N7UEVCN2A4X9kkIMC5N Ormd5Pxvr0AAlIGcuxV4swICoe9MPpsvRm2HQ3VHCyIkC7OhhqdUD1CwawP8krFc4091 lSJUOpd54nxvQdlIsXV7JRX9psRTcEOlGrPA6I64RrzosQiFXg5KYCOXj3Nin3kG4M7s 7ldQ== X-Gm-Message-State: AOJu0Ywk9ZrbVjEPNs+2TDcYhjUMq83A7/Dtaq7K0cPG8coxgAk2Wqma 8CjuYm6wvrWjR+Gm+VHLW0QWO4G3tM6tfWSmqk3u4Y3WnJ/NSM3IOa/xUusME2QSaCFt5UGwC8Z GikDtnEhGigPLbl9Gv+9e3lnlrkQGMausOTUIEsHn X-Gm-Gg: ASbGnctQpicYn7/LZBbEtSXH5I8BwxZ79pBjHCzEbxqnnFBapAqbesdeojyyZqiXAgh hp/MDImqgJE1XWdhzALFSj7tmQ6ycrOWjJo8ovJe4oAXYHcKJ5jNnd3PeCixHrQ8tlXCVi0Jir2 ylalYY08+7YOIMwVHmd2W6Ena9Q63zL0U8PKDgz/pKRzcS5tZRdp9gOmus22peCg3iVotknmItV /xrWXfpp5PrKf3IL4I4FigIkLodTAemEkK1vrLBp7WQQ7IV+j6CCDZ7DCats32ogeeNEkdZeFQW SeLaMmAYYReklaXjJmpCE50RfJQD5g== X-Google-Smtp-Source: AGHT+IGWhQdqrOGvRkKFuwvv2G2aGqRxPlmVOPGiZOErQ7MXlwUkoqxWtR6PTvxfbBUqUky1q79Kkeo1Gt6j X-Received: by 2002:ad4:5cca:0:b0:6d8:a9a6:83ef with SMTP id 6a1803df08f44-6e445a4707cmr111772676d6.20.1739003983961; Sat, 08 Feb 2025 00:39:43 -0800 (PST) Received: from postal.iol.unh.edu (postal.iol.unh.edu. [132.177.123.84]) by smtp-relay.gmail.com with ESMTPS id 6a1803df08f44-6e43ba4123csm2989856d6.25.2025.02.08.00.39.43 (version=TLS1_2 cipher=ECDHE-ECDSA-AES128-GCM-SHA256 bits=128/128); Sat, 08 Feb 2025 00:39:43 -0800 (PST) X-Relaying-Domain: iol.unh.edu Date: Sat, 08 Feb 2025 00:39:43 -0800 (PST) Message-ID: <67a7184f.050a0220.177405.ee42SMTPIN_ADDED_MISSING@mx.google.com> Received: from [172.21.0.5] (unknown [172.18.0.240]) by postal.iol.unh.edu (Postfix) with ESMTP id 903196052471; Sat, 8 Feb 2025 03:39:13 -0500 (EST) Subject: |SUCCESS| pw151141 [PATCH] net/mana: use mana_local_data for trackin From: dpdklab@iol.unh.edu To: Test Report Cc: dpdk-test-reports@iol.unh.edu In-Reply-To: <1738970505-7864-1-git-send-email-longli@linuxonhyperv.com> References: <1738970505-7864-1-git-send-email-longli@linuxonhyperv.com> Content-Type: text/plain X-BeenThere: test-report@dpdk.org X-Mailman-Version: 2.1.29 Precedence: list List-Id: automatic DPDK test reports List-Unsubscribe: , List-Archive: List-Post: List-Help: List-Subscribe: , Errors-To: test-report-bounces@dpdk.org Test-Label: iol-unit-amd64-testing Test-Status: SUCCESS http://dpdk.org/patch/151141 _Testing PASS_ Submitter: Long Li Date: Friday, February 07 2025 23:21:45 DPDK git baseline: Repo:dpdk Branch: master CommitID:b82daa7d47bda76b3879ef6d715b2d3eb737793f 151141 --> testing pass Upstream job id: Generic-Unit-Test-DPDK#313140 Test environment and result as below: +---------------------+----------------+ | Environment | dpdk_unit_test | +=====================+================+ | Debian Bullseye | PASS | +---------------------+----------------+ | CentOS Stream 9 | PASS | +---------------------+----------------+ | Fedora 41 | PASS | +---------------------+----------------+ | Fedora 40 | PASS | +---------------------+----------------+ | Debian 12 | PASS | +---------------------+----------------+ | Fedora 41 (Clang) | PASS | +---------------------+----------------+ | Fedora 40 (Clang) | PASS | +---------------------+----------------+ | RHEL8 | PASS | +---------------------+----------------+ | RHEL9 | PASS | +---------------------+----------------+ | Ubuntu 20.04 | PASS | +---------------------+----------------+ | Ubuntu 22.04 | PASS | +---------------------+----------------+ | Ubuntu 24.04 | PASS | +---------------------+----------------+ | Windows Server 2022 | PASS | +---------------------+----------------+ Debian Bullseye Kernel: Depends on container host Compiler: gcc (Debian 10.2.1-6) 10.2.1 20210110 CentOS Stream 9 Kernel: Depends on container host Compiler: gcc 11.5.0 20240719 (Red Hat 11.5.0-2) Fedora 41 Kernel: Depends on container host Compiler: gcc 14.2.1 20240912 (Red Hat 14.2.1-3) Fedora 40 Kernel: Depends on container host Compiler: gcc 14.2.1 20240912 (Red Hat 14.2.1-3) Debian 12 Kernel: Depends on container host Compiler: gcc (Debian 12.2.0-14) 12.2.0 Fedora 41 (Clang) Kernel: Depends on container host Compiler: clang 19.1.5 (Fedora 19.1.5-1.fc41) Fedora 40 (Clang) Kernel: Depends on container host Compiler: clang 18.1.8 (Fedora 18.1.8-1.fc40) RHEL8 Kernel: Depends on container host Compiler: gcc 8.5.0 20210514 (Red Hat 8.5.0-22) RHEL9 Kernel: Depends on container host Compiler: gcc 11.5.0 20240719 (Red Hat 11.5.0-2) Ubuntu 20.04 Kernel: Depends on container host Compiler: gcc (Ubuntu 9.4.0-1ubuntu1~20.04.2) 9.4.0 Ubuntu 22.04 Kernel: Depends on container host Compiler: gcc (Ubuntu 11.4.0-1ubuntu1~22.04) 11.4.0 Ubuntu 24.04 Kernel: Depends on container host Compiler: gcc (Ubuntu 13.3.0-6ubuntu2~24.04) 13.3.0 Windows Server 2022 Kernel: 10.0.20348.2031 Compiler: clang 15.0.7, gcc 14.1.0 (MinGW), and MSVC VS 19.39.33521 To view detailed results, visit: https://lab.dpdk.org/results/dashboard/patchsets/32533/ UNH-IOL DPDK Community Lab To manage your email subscriptions, visit: https://lab.dpdk.org/results/dashboard/preferences/subscriptions/