From mboxrd@z Thu Jan 1 00:00:00 1970 Return-Path: Received: from mails.dpdk.org (mails.dpdk.org [217.70.189.124]) by inbox.dpdk.org (Postfix) with ESMTP id 6DCA2461C8 for ; Sat, 8 Feb 2025 10:07:02 +0100 (CET) Received: from mails.dpdk.org (localhost [127.0.0.1]) by mails.dpdk.org (Postfix) with ESMTP id 4B7A440280; Sat, 8 Feb 2025 10:07:02 +0100 (CET) Received: from mail-qv1-f98.google.com (mail-qv1-f98.google.com [209.85.219.98]) by mails.dpdk.org (Postfix) with ESMTP id 1847F40279 for ; Sat, 8 Feb 2025 10:07:01 +0100 (CET) Received: by mail-qv1-f98.google.com with SMTP id 6a1803df08f44-6dd01781b56so33782136d6.0 for ; Sat, 08 Feb 2025 01:07:01 -0800 (PST) DKIM-Signature: v=1; a=rsa-sha256; c=relaxed/relaxed; d=iol.unh.edu; s=unh-iol; t=1739005620; x=1739610420; darn=dpdk.org; h=cc:to:from:subject:message-id:date:from:to:cc:subject:date :message-id:reply-to; bh=KkZR5P9l2TCwyyj7tdO4fRMB7C+I0VVTPE2XqxWD/V0=; b=Cb5h9areH0VKtLHW7xGoB/Df687MGD2r5zI3YMZrHtNKFuZXM1fytNV28B7a9gcaYk rLoaVw85ZGngCC9+PSdxposxrNJsXfzxXYp3OTyjCjnS0RrudJsW4NcQrJlk/ajR38an PsPJ9LGIhH/ha0IZRgZkW7t8gYW0JoTh+nLY0= X-Google-DKIM-Signature: v=1; a=rsa-sha256; c=relaxed/relaxed; d=1e100.net; s=20230601; t=1739005620; x=1739610420; h=cc:to:from:subject:message-id:date:x-gm-message-state:from:to:cc :subject:date:message-id:reply-to; bh=KkZR5P9l2TCwyyj7tdO4fRMB7C+I0VVTPE2XqxWD/V0=; b=Oa/OBa/zdnE1404KruJfoNgPhqQSCoFoeont+f7fx4eqFD28eHa2cvv4Iefdnx3ehD Ltt5bwBJz/FK/d245fnnVnJSrCx0zmzQjSz3qpe3gwBigMbfqEcb9etnylc547Xi/3lh sWTPckHXmyvyV+tGzaDithDt6en4kw3yVpxHVlGU1zsXVVMdDM5ba48nMM/9LWt7P3WV YqUFwbdcBNe9YLEIQSFDK519wVXp+ZYM8i+JVsr3hqOY9Kn+pxcfg01iNih4ecnT6DAb aahPdt+HElWkAihLnLSfJZ90sfiCKZQ6nVRl97+y86Q+5oJR4XZpxSPcBKx3OBNKrZZR M9Eg== X-Gm-Message-State: AOJu0Yz2P2si1LC8nV2aZntc0XPbFVQVGIcl+Do+SEs516M6BX00UxB2 LfI2SmYT0gI4QC1nFeol8NGiNCGbmi19LpsczIsreaZHsEePv0lbaIk8mm95CAeUuV9UPEnSK/0 GMHx23cXbLTBqNaODIwP4tYQCltDHlBRMNgOh/xTP X-Gm-Gg: ASbGnct1EIDOSvHbAZ/Qlmu6ASSg0t5AAHGoVyTK9WkHlC3laY1148M83TVFrNtpCha s79HUgHzjPOjjkUiC7s8o4bwWbe/J0xejsIYUdpc6IWA2VhwbuqDbeb+Iunq5BgjKOqPNTwx9fM kofvsyVkSdBbHxFpSHPo0jeV3v5zKZd+mxoy3R88u4bfDzNuxz1W8UdxGLA2m8YkFhYgR1PO3qM JxDovd0U8y6vnic5WWshtHWnFbum/z0v5Tk3rj3hFqB75Z0I9uz5L/8NesToEOCiVmXYI7EjbW7 7rODowDYtTvrwQYO6KgO3gY1BnkkvA== X-Google-Smtp-Source: AGHT+IHPo2QEBjXLtwuVNgPSIEXY2uXioKL/ttQMwiNMKHEyTFFbyYh3KlIGe0Sae7T3uWtW2oVh4+2eG7/i X-Received: by 2002:ad4:4eea:0:b0:6e4:4393:de7 with SMTP id 6a1803df08f44-6e4455c55f6mr87153126d6.2.1739005620380; Sat, 08 Feb 2025 01:07:00 -0800 (PST) Received: from postal.iol.unh.edu (postal.iol.unh.edu. [132.177.123.84]) by smtp-relay.gmail.com with ESMTPS id 6a1803df08f44-6e4483471c3sm1843156d6.32.2025.02.08.01.07.00 (version=TLS1_2 cipher=ECDHE-ECDSA-AES128-GCM-SHA256 bits=128/128); Sat, 08 Feb 2025 01:07:00 -0800 (PST) X-Relaying-Domain: iol.unh.edu Date: Sat, 08 Feb 2025 01:07:00 -0800 (PST) Message-ID: <67a71eb4.050a0220.62c2c.8b35SMTPIN_ADDED_MISSING@mx.google.com> Received: from [172.21.0.6] (unknown [172.18.0.240]) by postal.iol.unh.edu (Postfix) with ESMTP id 081A86052471; Sat, 8 Feb 2025 04:07:00 -0500 (EST) Subject: |SUCCESS| [GIT MASTER] 992fd7e15692e3faab0c0e590aaa63998657d804 From: dpdklab@iol.unh.edu To: Test Report Cc: dpdk-test-reports@iol.unh.edu, Chenbo Xia , Maxime Coquelin Content-Type: text/plain X-BeenThere: test-report@dpdk.org X-Mailman-Version: 2.1.29 Precedence: list List-Id: automatic DPDK test reports List-Unsubscribe: , List-Archive: List-Post: List-Help: List-Subscribe: , Errors-To: test-report-bounces@dpdk.org _Testing PASS_ Branch: dpdk-next-virtio 992fd7e15692e3faab0c0e590aaa63998657d804 --> testing pass Upstream job id: Windows-Compile-DPDK-Native#26554 Test environment and result as below: +---------------------+--------------------+-------------------+-------------------------+ | Environment | dpdk_meson_compile | dpdk_msvc_compile | dpdk_llvm_clang_compile | +=====================+====================+===================+=========================+ | FreeBSD 13.4 | PASS | SKIPPED | SKIPPED | +---------------------+--------------------+-------------------+-------------------------+ | FreeBSD 14.2 | PASS | SKIPPED | SKIPPED | +---------------------+--------------------+-------------------+-------------------------+ | Windows Server 2022 | SKIPPED | PASS | PASS | +---------------------+--------------------+-------------------+-------------------------+ FreeBSD 13.4 Kernel: 13.4-RELEASE-p1 Compiler: clang 18.1.6 FreeBSD 14.2 Kernel: 14.2-RELEASE Compiler: clang 18.1.6 Windows Server 2022 Kernel: 10.0.20348.2031 Compiler: clang 15.0.7, gcc 14.1.0 (MinGW), and MSVC VS 19.39.33521 To view detailed results, visit: https://lab.dpdk.org/results/dashboard/tarballs/32507/ UNH-IOL DPDK Community Lab To manage your email subscriptions, visit: https://lab.dpdk.org/results/dashboard/preferences/subscriptions/