From mboxrd@z Thu Jan 1 00:00:00 1970 Return-Path: Received: from mails.dpdk.org (mails.dpdk.org [217.70.189.124]) by inbox.dpdk.org (Postfix) with ESMTP id 1DF1A461C8 for ; Sat, 8 Feb 2025 10:14:01 +0100 (CET) Received: from mails.dpdk.org (localhost [127.0.0.1]) by mails.dpdk.org (Postfix) with ESMTP id 194CD402A1; Sat, 8 Feb 2025 10:14:01 +0100 (CET) Received: from mail-qv1-f100.google.com (mail-qv1-f100.google.com [209.85.219.100]) by mails.dpdk.org (Postfix) with ESMTP id A46F0402A0 for ; Sat, 8 Feb 2025 10:14:00 +0100 (CET) Received: by mail-qv1-f100.google.com with SMTP id 6a1803df08f44-6e41e17645dso25553986d6.2 for ; Sat, 08 Feb 2025 01:14:00 -0800 (PST) DKIM-Signature: v=1; a=rsa-sha256; c=relaxed/relaxed; d=iol.unh.edu; s=unh-iol; t=1739006040; x=1739610840; darn=dpdk.org; h=cc:to:from:subject:message-id:date:from:to:cc:subject:date :message-id:reply-to; bh=/BlZBlvIvNOlbyeymUH7OFi592PzvYVQ++9X8kjamBY=; b=OuBLtK0KRFTRvu70M0s24dPA2nyC5PM+750pJJMzNM5X8q8qpz9meD7LOdo1GC7DIp WbhXomWapmy34M9SXCjcEmTDA2JHkXfSrUPzctuH1tY1ysV5ENDGAgQ/D2FUuWZR9PBL PprhU7y9vULc/Ic8QDH68n45MUpQ8GwPscET4= X-Google-DKIM-Signature: v=1; a=rsa-sha256; c=relaxed/relaxed; d=1e100.net; s=20230601; t=1739006040; x=1739610840; h=cc:to:from:subject:message-id:date:x-gm-message-state:from:to:cc :subject:date:message-id:reply-to; bh=/BlZBlvIvNOlbyeymUH7OFi592PzvYVQ++9X8kjamBY=; b=YdfV4tB7J8QMu1Q+3M7KvSYlf0+d2wDGGmXKUqq1js1Gf55HyidTl+VA6xmNsjDiaT Bza83jJMDa9/QTeXlTkx9GjWheKbJcK5vfgck7GPgUawPmb7J3ExkeOYuoYDNGLBWixa xxis+v5sCAQg9miQkGdqPDyP4xrQEMJefqscaWHShl6bAVgD6CU4Z2TjUNAHRAODg26K ftWQNqgiW6S6LKKc6tWT1EioN2J+5rTbujUCaHXrPIegzaCXvSsjggd7wm9sbO8aiOxQ QOclYBhY/zlQY0dQt1HDjOkbt1yKJ76+/lbO5+BqPyl9kj4jRSicqGLEC7uXg8T8xtNW hAVg== X-Gm-Message-State: AOJu0YxFgbxaMtzC6//xhJ7BCuI3JYf/OZpv2OJQC4NHbjQN0nPAFjzm 8erq77loIE8kcjFdDuw9Ebe5jr+eMXGP6qkjDneVpReksNt+KhflRqqewbXPF+bO4tx8UsD+LYt hLkUeLn/8CFDfePVYeSX6kF1X7ikRxeUk1Xr/6d1u X-Gm-Gg: ASbGncuS1yPgf4J2o0L+mqzkVK1ZdAUzV23W/sbeX+xf9LDVfFRVAgHzMMIHYrviDZe bwFn7iEZ/YkCNlcNkcyVhqwDy9DIOUYbR/d0DXxW0ZRM3Q9zsYcAb1GRtPZxHAvb8o4wPnksftd RHU2cgm/tB0vGiqULAlQR57T730LI8SlDSrrgSWzmK9BSrMFiLS3auis/Dm7n89Ktlf/QNn4NZF YJqUZGunAVYIFvcFELBfC07S5ZsfhIz3C/OEbv1GO5RZA8k98yHxXYx2Sj0mpnq+K4yq85DtP2B Nkx6U0IJbWlBGlyBf4idgyX/se33Og== X-Google-Smtp-Source: AGHT+IEAFngqN1XjJG/tPiAPBO6BZ+B7keQejawlKFEZSzKy8W9ORTbH3DtkEh0Qgv2dPfj5AuVqjAntiKlk X-Received: by 2002:a05:6214:5098:b0:6e0:86ab:4b46 with SMTP id 6a1803df08f44-6e4456d2125mr99916916d6.31.1739006040035; Sat, 08 Feb 2025 01:14:00 -0800 (PST) Received: from postal.iol.unh.edu (postal.iol.unh.edu. [132.177.123.84]) by smtp-relay.gmail.com with ESMTPS id 6a1803df08f44-6e4490afbfesm1797166d6.4.2025.02.08.01.13.59 (version=TLS1_2 cipher=ECDHE-ECDSA-AES128-GCM-SHA256 bits=128/128); Sat, 08 Feb 2025 01:14:00 -0800 (PST) X-Relaying-Domain: iol.unh.edu Date: Sat, 08 Feb 2025 01:14:00 -0800 (PST) Message-ID: <67a72058.050a0220.366b5.8ff6SMTPIN_ADDED_MISSING@mx.google.com> Received: from [172.21.0.6] (unknown [172.18.0.240]) by postal.iol.unh.edu (Postfix) with ESMTP id B604F6052472; Sat, 8 Feb 2025 04:13:59 -0500 (EST) Subject: |SUCCESS| [GIT MASTER] 388b1abe291544106e406cb0a200b5b0c96fe599 From: dpdklab@iol.unh.edu To: Test Report Cc: dpdk-test-reports@iol.unh.edu Content-Type: text/plain X-BeenThere: test-report@dpdk.org X-Mailman-Version: 2.1.29 Precedence: list List-Id: automatic DPDK test reports List-Unsubscribe: , List-Archive: List-Post: List-Help: List-Subscribe: , Errors-To: test-report-bounces@dpdk.org _Testing PASS_ Branch: dpdk 388b1abe291544106e406cb0a200b5b0c96fe599 --> testing pass Upstream job id: Generic-DPDK-Compile-Meson#359492 Test environment and result as below: +----------------------------------------+--------------------+ | Environment | dpdk_meson_compile | +========================================+====================+ | RHEL9 (ARM) | PASS | +----------------------------------------+--------------------+ | Ubuntu 20.04 ARM GCC Cross Compile | PASS | +----------------------------------------+--------------------+ | Ubuntu 20.04 ARM SVE | PASS | +----------------------------------------+--------------------+ | Debian 12 with MUSDK | PASS | +----------------------------------------+--------------------+ | Fedora 40 (ARM) | PASS | +----------------------------------------+--------------------+ | Fedora 40 (ARM Clang) | PASS | +----------------------------------------+--------------------+ | Fedora 41 (ARM) | PASS | +----------------------------------------+--------------------+ | Fedora 41 (ARM Clang) | PASS | +----------------------------------------+--------------------+ | Ubuntu 20.04 (ARM) | PASS | +----------------------------------------+--------------------+ | Ubuntu 22.04 (ARM) | PASS | +----------------------------------------+--------------------+ | Ubuntu 24.04 (ARM) | PASS | +----------------------------------------+--------------------+ | CentOS Stream 9 (ARM) | PASS | +----------------------------------------+--------------------+ | Debian 11 (Buster) (ARM) | PASS | +----------------------------------------+--------------------+ | Debian 12 (arm) | PASS | +----------------------------------------+--------------------+ | Ubuntu 20.04 ARM Clang Cross Compile | PASS | +----------------------------------------+--------------------+ | Ubuntu 20.04 aarch32 GCC Cross Compile | PASS | +----------------------------------------+--------------------+ RHEL9 (ARM) Kernel: Depends on container host Compiler: gcc 11.5.0 20240719 (Red Hat 11.5.0-2) Ubuntu 20.04 ARM GCC Cross Compile Kernel: Depends on container host Compiler: aarch64-linux-gnu-gcc (Ubuntu 9.4.0-1ubuntu1~20.04.2) 9.4.0 Ubuntu 20.04 ARM SVE Kernel: Depends on container host Compiler: gcc (Ubuntu 10.5.0-1ubuntu1~20.04) 10.5.0 Debian 12 with MUSDK Kernel: Depends on container host Compiler: gcc (Debian 12.2.0-14) 12.2.0 Fedora 40 (ARM) Kernel: Depends on container host Compiler: gcc 14.2.1 20240912 (Red Hat 14.2.1-3) Fedora 40 (ARM Clang) Kernel: Depends on container host Compiler: clang 18.1.8 (Fedora 18.1.8-1.fc40) Fedora 41 (ARM) Kernel: Depends on container host Compiler: gcc 14.2.1 20240912 (Red Hat 14.2.1-3) Fedora 41 (ARM Clang) Kernel: Depends on container host Compiler: clang 19.1.5 (Fedora 19.1.5-1.fc41) Ubuntu 20.04 (ARM) Kernel: Depends on container host Compiler: gcc (Ubuntu 9.4.0-1ubuntu1~20.04.2) 9.4.0 Ubuntu 22.04 (ARM) Kernel: Depends on container host Compiler: gcc (Ubuntu 11.4.0-1ubuntu1~22.04) 11.4.0 Ubuntu 24.04 (ARM) Kernel: Depends on container host Compiler: gcc (Ubuntu 13.3.0-6ubuntu2~24.04) 13.3.0 CentOS Stream 9 (ARM) Kernel: Depends on container host Compiler: gcc 11.5.0 20240719 (Red Hat 11.5.0-2) Debian 11 (Buster) (ARM) Kernel: Depends on container host Compiler: gcc (Debian 10.2.1-6) 10.2.1 20210110 Debian 12 (arm) Kernel: Depends on container host Compiler: gcc (Debian 12.2.0-14) 12.2.0 Ubuntu 20.04 ARM Clang Cross Compile Kernel: Depends on container host Compiler: clang 10.0.0-4ubuntu1 Ubuntu 20.04 aarch32 GCC Cross Compile Kernel: Depends on container host Compiler: gcc 9.4.0 To view detailed results, visit: https://lab.dpdk.org/results/dashboard/tarballs/32502/ UNH-IOL DPDK Community Lab To manage your email subscriptions, visit: https://lab.dpdk.org/results/dashboard/preferences/subscriptions/