From mboxrd@z Thu Jan 1 00:00:00 1970 Return-Path: Received: from mails.dpdk.org (mails.dpdk.org [217.70.189.124]) by inbox.dpdk.org (Postfix) with ESMTP id 78F5A461C8 for ; Sat, 8 Feb 2025 10:15:47 +0100 (CET) Received: from mails.dpdk.org (localhost [127.0.0.1]) by mails.dpdk.org (Postfix) with ESMTP id 5D8D840280; Sat, 8 Feb 2025 10:15:47 +0100 (CET) Received: from mail-pj1-f99.google.com (mail-pj1-f99.google.com [209.85.216.99]) by mails.dpdk.org (Postfix) with ESMTP id EBE9D40279 for ; Sat, 8 Feb 2025 10:15:45 +0100 (CET) Received: by mail-pj1-f99.google.com with SMTP id 98e67ed59e1d1-2f42992f608so4364093a91.0 for ; Sat, 08 Feb 2025 01:15:45 -0800 (PST) DKIM-Signature: v=1; a=rsa-sha256; c=relaxed/relaxed; d=iol.unh.edu; s=unh-iol; t=1739006145; x=1739610945; darn=dpdk.org; h=cc:to:from:subject:message-id:date:from:to:cc:subject:date :message-id:reply-to; bh=P4e9FCXWObkIPAuGqfpI4b8uVJpZA1vKZ4nbnxAcfd4=; b=hDiWw5pBqDDCdZdv8zgzwvoWch7rJebZNmILg2umtmkpH977lLAwqPeFwGDfLMctoA n/UW5hRyhUQUEQ6CnBZI5X7v0KaOwRDjMWnMuh4FConndy0+/VBuEseqUHWma9UaC6nH /CaK92JA9hxa3YOItB4Cvlid9jxWDYWxTlpaI= X-Google-DKIM-Signature: v=1; a=rsa-sha256; c=relaxed/relaxed; d=1e100.net; s=20230601; t=1739006145; x=1739610945; h=cc:to:from:subject:message-id:date:x-gm-message-state:from:to:cc :subject:date:message-id:reply-to; bh=P4e9FCXWObkIPAuGqfpI4b8uVJpZA1vKZ4nbnxAcfd4=; b=Vu/faVyfnW1tLspqlgCq5fS7rlTe0RCH4C/WtXmT78ZrlL8q5y4nNi1yLw3V54w1AC 8jOSs4uohN4zyMxlFi8u6b8mEPm14laKP4Ve+1mHJaVNWj1YCWccvlF7d4tOzi7ks5Yo QbDX3NcQFBwlAsC06VBroq6VyYHt8p84YYMGlZXDXcsfjnityc4wPsmMipPt2Qh+MBgc licOn3Gt+SPFT9x83X+ov3zUuOb759wm/Tk+p0nJ1Y4HzMD7KuHE82kjCFtJ/5XE1aER FzLo4iixOcAywGo/xA0XCBUqPw7WhCbxW18nwpaE6nH2nrWRkRaVDmLx3svtXNGTY4Yr kTLQ== X-Gm-Message-State: AOJu0YzQCnL3CL5I4YP0kV7lFIqFPLQyH9OlzHtgKgnYgO14wFFGopJz lT9L5gj3KhYqy2zH0GitCmNCxCVR9Omf3b7wyIFuM8LvjJtC++qK4V5zvsIbxQc7e2Xng0scHVG 3wP+VFj8rYq2nQLxJkZ4+bSVUC+Oaptg+vVPQuIqb X-Gm-Gg: ASbGncsJ21BNkjHpiWC4c4MRpR4vEd4jBOoCf78zO3Zutzrn52Rb4eKNe5Lglsj1P8h ihQGmZBbelKnfETeBMkze3m58I4Qa/esTM5FBLMdVxI8wSGsfjKO1NHyi/Q5epb11yyri0/MDn8 jMrjV7q+e41EtVlM674xGXq5hm6rDXdstoZ4NJxkh0ptWX9SlgSj2wLQPU1USPVL0CLrAYbHhdx VnlqddSyLrxrazpJTmDcEsvCWfYcRzTUGbdh/UtpLSlBrMeyWhLDwLQEVUqmZGUKlM6upwmvQwY +RZS819ha8vyHuzs2DvwLwcbmc/yfQ== X-Google-Smtp-Source: AGHT+IHFkioAuJiKdec1CAgAvM0AbXsFhrc/GB4HQHiEZnjzJLIYH9SiSfYnb0CrAzacVstvCoIqKd105w25 X-Received: by 2002:a05:6a21:7a4b:b0:1e0:c3bf:7909 with SMTP id adf61e73a8af0-1ee03bc6b08mr12738174637.41.1739006145035; Sat, 08 Feb 2025 01:15:45 -0800 (PST) Received: from postal.iol.unh.edu (postal.iol.unh.edu. [132.177.123.84]) by smtp-relay.gmail.com with ESMTPS id d2e1a72fcca58-73048ad8adasm251057b3a.8.2025.02.08.01.15.44 (version=TLS1_2 cipher=ECDHE-ECDSA-AES128-GCM-SHA256 bits=128/128); Sat, 08 Feb 2025 01:15:45 -0800 (PST) X-Relaying-Domain: iol.unh.edu Date: Sat, 08 Feb 2025 01:15:45 -0800 (PST) Message-ID: <67a720c1.a70a0220.2b72c5.c93eSMTPIN_ADDED_MISSING@mx.google.com> Received: from [172.21.0.8] (unknown [172.18.0.240]) by postal.iol.unh.edu (Postfix) with ESMTP id 2F0666052471; Sat, 8 Feb 2025 04:15:44 -0500 (EST) Subject: |SUCCESS| [GIT MASTER] 388b1abe291544106e406cb0a200b5b0c96fe599 From: dpdklab@iol.unh.edu To: Test Report Cc: dpdk-test-reports@iol.unh.edu Content-Type: text/plain X-BeenThere: test-report@dpdk.org X-Mailman-Version: 2.1.29 Precedence: list List-Id: automatic DPDK test reports List-Unsubscribe: , List-Archive: List-Post: List-Help: List-Subscribe: , Errors-To: test-report-bounces@dpdk.org _Testing PASS_ Branch: dpdk 388b1abe291544106e406cb0a200b5b0c96fe599 --> testing pass Upstream job id: Generic-DPDK-Compile-Meson#359506 Test environment and result as below: +----------------------------------------+--------------------+ | Environment | dpdk_meson_compile | +========================================+====================+ | RHEL9 (ARM) | PASS | +----------------------------------------+--------------------+ | Ubuntu 20.04 ARM GCC Cross Compile | PASS | +----------------------------------------+--------------------+ | Ubuntu 20.04 ARM SVE | PASS | +----------------------------------------+--------------------+ | Debian 12 with MUSDK | PASS | +----------------------------------------+--------------------+ | Fedora 40 (ARM) | PASS | +----------------------------------------+--------------------+ | Fedora 40 (ARM Clang) | PASS | +----------------------------------------+--------------------+ | Fedora 41 (ARM) | PASS | +----------------------------------------+--------------------+ | Fedora 41 (ARM Clang) | PASS | +----------------------------------------+--------------------+ | Ubuntu 20.04 (ARM) | PASS | +----------------------------------------+--------------------+ | Ubuntu 22.04 (ARM) | PASS | +----------------------------------------+--------------------+ | Ubuntu 24.04 (ARM) | PASS | +----------------------------------------+--------------------+ | CentOS Stream 9 (ARM) | PASS | +----------------------------------------+--------------------+ | Debian 11 (Buster) (ARM) | PASS | +----------------------------------------+--------------------+ | Debian 12 (arm) | PASS | +----------------------------------------+--------------------+ | Ubuntu 20.04 ARM Clang Cross Compile | PASS | +----------------------------------------+--------------------+ | Ubuntu 20.04 aarch32 GCC Cross Compile | PASS | +----------------------------------------+--------------------+ RHEL9 (ARM) Kernel: Depends on container host Compiler: gcc 11.5.0 20240719 (Red Hat 11.5.0-2) Ubuntu 20.04 ARM GCC Cross Compile Kernel: Depends on container host Compiler: aarch64-linux-gnu-gcc (Ubuntu 9.4.0-1ubuntu1~20.04.2) 9.4.0 Ubuntu 20.04 ARM SVE Kernel: Depends on container host Compiler: gcc (Ubuntu 10.5.0-1ubuntu1~20.04) 10.5.0 Debian 12 with MUSDK Kernel: Depends on container host Compiler: gcc (Debian 12.2.0-14) 12.2.0 Fedora 40 (ARM) Kernel: Depends on container host Compiler: gcc 14.2.1 20240912 (Red Hat 14.2.1-3) Fedora 40 (ARM Clang) Kernel: Depends on container host Compiler: clang 18.1.8 (Fedora 18.1.8-1.fc40) Fedora 41 (ARM) Kernel: Depends on container host Compiler: gcc 14.2.1 20240912 (Red Hat 14.2.1-3) Fedora 41 (ARM Clang) Kernel: Depends on container host Compiler: clang 19.1.5 (Fedora 19.1.5-1.fc41) Ubuntu 20.04 (ARM) Kernel: Depends on container host Compiler: gcc (Ubuntu 9.4.0-1ubuntu1~20.04.2) 9.4.0 Ubuntu 22.04 (ARM) Kernel: Depends on container host Compiler: gcc (Ubuntu 11.4.0-1ubuntu1~22.04) 11.4.0 Ubuntu 24.04 (ARM) Kernel: Depends on container host Compiler: gcc (Ubuntu 13.3.0-6ubuntu2~24.04) 13.3.0 CentOS Stream 9 (ARM) Kernel: Depends on container host Compiler: gcc 11.5.0 20240719 (Red Hat 11.5.0-2) Debian 11 (Buster) (ARM) Kernel: Depends on container host Compiler: gcc (Debian 10.2.1-6) 10.2.1 20210110 Debian 12 (arm) Kernel: Depends on container host Compiler: gcc (Debian 12.2.0-14) 12.2.0 Ubuntu 20.04 ARM Clang Cross Compile Kernel: Depends on container host Compiler: clang 10.0.0-4ubuntu1 Ubuntu 20.04 aarch32 GCC Cross Compile Kernel: Depends on container host Compiler: gcc 9.4.0 To view detailed results, visit: https://lab.dpdk.org/results/dashboard/tarballs/32502/ UNH-IOL DPDK Community Lab To manage your email subscriptions, visit: https://lab.dpdk.org/results/dashboard/preferences/subscriptions/