From mboxrd@z Thu Jan 1 00:00:00 1970 Return-Path: Received: from mails.dpdk.org (mails.dpdk.org [217.70.189.124]) by inbox.dpdk.org (Postfix) with ESMTP id B288E461C8 for ; Sat, 8 Feb 2025 10:17:41 +0100 (CET) Received: from mails.dpdk.org (localhost [127.0.0.1]) by mails.dpdk.org (Postfix) with ESMTP id AFBE740280; Sat, 8 Feb 2025 10:17:41 +0100 (CET) Received: from mail-qt1-f227.google.com (mail-qt1-f227.google.com [209.85.160.227]) by mails.dpdk.org (Postfix) with ESMTP id 6847E40279 for ; Sat, 8 Feb 2025 10:17:40 +0100 (CET) Received: by mail-qt1-f227.google.com with SMTP id d75a77b69052e-467a3f1e667so17915831cf.0 for ; Sat, 08 Feb 2025 01:17:40 -0800 (PST) DKIM-Signature: v=1; a=rsa-sha256; c=relaxed/relaxed; d=iol.unh.edu; s=unh-iol; t=1739006260; x=1739611060; darn=dpdk.org; h=cc:to:from:subject:message-id:date:from:to:cc:subject:date :message-id:reply-to; bh=NE9bCywmNTHyOd7OtqtabjBjMdkKIHSvl8LC1qbSsos=; b=U+Bqn5gfaasFg6CAPWgkcsdr49hQO4ANTWD9eyjb6VIgpFjbjkLri4kbIrvhlS3Dn/ uvfDSQ5jyMSL4yGrfkR6/a8DyOh62nonGRFW7WXTKJ68efOko9hbLkXhW2jUVS0dwUK0 VUc1vGe1kA7TlhvGD/gmKwdLTGvtUNiVys9uw= X-Google-DKIM-Signature: v=1; a=rsa-sha256; c=relaxed/relaxed; d=1e100.net; s=20230601; t=1739006260; x=1739611060; h=cc:to:from:subject:message-id:date:x-gm-message-state:from:to:cc :subject:date:message-id:reply-to; bh=NE9bCywmNTHyOd7OtqtabjBjMdkKIHSvl8LC1qbSsos=; b=q3B414HUTWGK++b9TLihjl7XeLsQm/LmI8onHb+U8rCtGqp22J1c0q6GKCbto47zcZ 21Lw/mioFT8WBr7wQ3nb6gxM8s79Sk2DW+BGzCMjNoGc/u34HbjCgcik1tFz05oekbrL WRJXnWomB/7S/F1cDbvL99FRYfk//wJEU4Fc9ZvPzErOn68BISa2z5JRcyKG4z4wfeQO 00RTjt7nrC0hZgW3gE0lK6GokYDGehiDlaFuB5AMA7JRuUrN9i/kJga/UdJR4b55BTye jis+L0t3MITNKij6zWqWX77I8kV0p/cqMFXBny5qIDygP2FUD9qUeRuBtmRQofP8gynd ZBGg== X-Gm-Message-State: AOJu0YzZC4CCi1hqnzgQIbxCQApwYJ8BQg2VJojdwKEsr3pCjDCtE4m2 fKmhFYZftTfvH5i3O/LS0IHvHZ61V5nSylcxPmmA4LUffN0wrCrGXusNJVX2wVppadT/9SRarK1 3fswtVteIB4GWKnfrsKAUKCgX7YlB3pTYXuS6HQ1c X-Gm-Gg: ASbGncvGVNXdyx+pKsxzd6XnVlhwxzVSvQH3RzdmddpigUxgWL9QEZjKj0if6DskpRj Ra5jciIQ3CtvRyRgmelag4WMG3NEDV/X0uU5uL1c05QzO404whGz042+xdGARU42Cbdlh5NAehe MPurnNRc+DcRXLRHUl0WiDokX0rpZ5jMzzroB/17FXn/vX95pFyXjpTT2tGis1xxbcLpaVPMOMQ ShJAaPe2SnBo5GclWhXOqtfLM9FaQGjLzdSl0F6jrqp7YYlr2Ij4bXbj5yj+IhlfF9HSF4wrKeO c5JfFjzoqM01XOzNfURS7DsMijYHZg== X-Google-Smtp-Source: AGHT+IEpw8u9U7DNVcvwaXJ8hRr+y1GWof24Lh/SCx3CMP8+BGV7HJDN5blIMbk3SeRV+1u5tXxWAnB29z2R X-Received: by 2002:ac8:5d03:0:b0:467:69f5:c2d9 with SMTP id d75a77b69052e-47167b7d00amr103838981cf.47.1739006259851; Sat, 08 Feb 2025 01:17:39 -0800 (PST) Received: from postal.iol.unh.edu (postal.iol.unh.edu. [132.177.123.84]) by smtp-relay.gmail.com with ESMTPS id d75a77b69052e-47153b3d23fsm2541931cf.19.2025.02.08.01.17.39 (version=TLS1_2 cipher=ECDHE-ECDSA-AES128-GCM-SHA256 bits=128/128); Sat, 08 Feb 2025 01:17:39 -0800 (PST) X-Relaying-Domain: iol.unh.edu Date: Sat, 08 Feb 2025 01:17:39 -0800 (PST) Message-ID: <67a72133.c80a0220.1a95fe.c70bSMTPIN_ADDED_MISSING@mx.google.com> Received: from [172.21.0.5] (unknown [172.18.0.240]) by postal.iol.unh.edu (Postfix) with ESMTP id 7CE9A6052471; Sat, 8 Feb 2025 04:17:39 -0500 (EST) Subject: |SUCCESS| [GIT MASTER] 388b1abe291544106e406cb0a200b5b0c96fe599 From: dpdklab@iol.unh.edu To: Test Report Cc: dpdk-test-reports@iol.unh.edu Content-Type: text/plain X-BeenThere: test-report@dpdk.org X-Mailman-Version: 2.1.29 Precedence: list List-Id: automatic DPDK test reports List-Unsubscribe: , List-Archive: List-Post: List-Help: List-Subscribe: , Errors-To: test-report-bounces@dpdk.org _Testing PASS_ Branch: dpdk 388b1abe291544106e406cb0a200b5b0c96fe599 --> testing pass Upstream job id: Generic-DPDK-Compile-Meson#359505 Test environment and result as below: +----------------------------------------+--------------------+ | Environment | dpdk_meson_compile | +========================================+====================+ | RHEL9 (ARM) | PASS | +----------------------------------------+--------------------+ | Ubuntu 20.04 ARM GCC Cross Compile | PASS | +----------------------------------------+--------------------+ | Ubuntu 20.04 ARM SVE | PASS | +----------------------------------------+--------------------+ | Debian 12 with MUSDK | PASS | +----------------------------------------+--------------------+ | Fedora 40 (ARM) | PASS | +----------------------------------------+--------------------+ | Fedora 40 (ARM Clang) | PASS | +----------------------------------------+--------------------+ | Fedora 41 (ARM) | PASS | +----------------------------------------+--------------------+ | Fedora 41 (ARM Clang) | PASS | +----------------------------------------+--------------------+ | Ubuntu 20.04 (ARM) | PASS | +----------------------------------------+--------------------+ | Ubuntu 22.04 (ARM) | PASS | +----------------------------------------+--------------------+ | Ubuntu 24.04 (ARM) | PASS | +----------------------------------------+--------------------+ | CentOS Stream 9 (ARM) | PASS | +----------------------------------------+--------------------+ | Debian 11 (Buster) (ARM) | PASS | +----------------------------------------+--------------------+ | Debian 12 (arm) | PASS | +----------------------------------------+--------------------+ | Ubuntu 20.04 ARM Clang Cross Compile | PASS | +----------------------------------------+--------------------+ | Ubuntu 20.04 aarch32 GCC Cross Compile | PASS | +----------------------------------------+--------------------+ RHEL9 (ARM) Kernel: Depends on container host Compiler: gcc 11.5.0 20240719 (Red Hat 11.5.0-2) Ubuntu 20.04 ARM GCC Cross Compile Kernel: Depends on container host Compiler: aarch64-linux-gnu-gcc (Ubuntu 9.4.0-1ubuntu1~20.04.2) 9.4.0 Ubuntu 20.04 ARM SVE Kernel: Depends on container host Compiler: gcc (Ubuntu 10.5.0-1ubuntu1~20.04) 10.5.0 Debian 12 with MUSDK Kernel: Depends on container host Compiler: gcc (Debian 12.2.0-14) 12.2.0 Fedora 40 (ARM) Kernel: Depends on container host Compiler: gcc 14.2.1 20240912 (Red Hat 14.2.1-3) Fedora 40 (ARM Clang) Kernel: Depends on container host Compiler: clang 18.1.8 (Fedora 18.1.8-1.fc40) Fedora 41 (ARM) Kernel: Depends on container host Compiler: gcc 14.2.1 20240912 (Red Hat 14.2.1-3) Fedora 41 (ARM Clang) Kernel: Depends on container host Compiler: clang 19.1.5 (Fedora 19.1.5-1.fc41) Ubuntu 20.04 (ARM) Kernel: Depends on container host Compiler: gcc (Ubuntu 9.4.0-1ubuntu1~20.04.2) 9.4.0 Ubuntu 22.04 (ARM) Kernel: Depends on container host Compiler: gcc (Ubuntu 11.4.0-1ubuntu1~22.04) 11.4.0 Ubuntu 24.04 (ARM) Kernel: Depends on container host Compiler: gcc (Ubuntu 13.3.0-6ubuntu2~24.04) 13.3.0 CentOS Stream 9 (ARM) Kernel: Depends on container host Compiler: gcc 11.5.0 20240719 (Red Hat 11.5.0-2) Debian 11 (Buster) (ARM) Kernel: Depends on container host Compiler: gcc (Debian 10.2.1-6) 10.2.1 20210110 Debian 12 (arm) Kernel: Depends on container host Compiler: gcc (Debian 12.2.0-14) 12.2.0 Ubuntu 20.04 ARM Clang Cross Compile Kernel: Depends on container host Compiler: clang 10.0.0-4ubuntu1 Ubuntu 20.04 aarch32 GCC Cross Compile Kernel: Depends on container host Compiler: gcc 9.4.0 To view detailed results, visit: https://lab.dpdk.org/results/dashboard/tarballs/32502/ UNH-IOL DPDK Community Lab To manage your email subscriptions, visit: https://lab.dpdk.org/results/dashboard/preferences/subscriptions/