From mboxrd@z Thu Jan 1 00:00:00 1970 Return-Path: Received: from mails.dpdk.org (mails.dpdk.org [217.70.189.124]) by inbox.dpdk.org (Postfix) with ESMTP id E0B4D461C8 for ; Sat, 8 Feb 2025 10:18:57 +0100 (CET) Received: from mails.dpdk.org (localhost [127.0.0.1]) by mails.dpdk.org (Postfix) with ESMTP id DB62A40280; Sat, 8 Feb 2025 10:18:57 +0100 (CET) Received: from mail-pl1-f227.google.com (mail-pl1-f227.google.com [209.85.214.227]) by mails.dpdk.org (Postfix) with ESMTP id BACCC40279 for ; Sat, 8 Feb 2025 10:18:56 +0100 (CET) Received: by mail-pl1-f227.google.com with SMTP id d9443c01a7336-21f6a47d617so6449455ad.2 for ; Sat, 08 Feb 2025 01:18:56 -0800 (PST) DKIM-Signature: v=1; a=rsa-sha256; c=relaxed/relaxed; d=iol.unh.edu; s=unh-iol; t=1739006336; x=1739611136; darn=dpdk.org; h=references:in-reply-to:cc:to:from:subject:message-id:date:from:to :cc:subject:date:message-id:reply-to; bh=nQxbGlmu9EbR6dyF9AhlCYtTrvLq2SA1mBbTYRHn0wQ=; b=EBGhGD9W+KUz1Bp+a4lqO8B+xp4ZqD06/sr8BJOtjiIM6QU50iSKukC3GYYdgeJ1GI 4Z7V9vGnHovvr4DyeB3owZ7cyZnvkfcqJaPIjDPH/H8Kh1XakOKHx5OGULRSdtTdDeCN H56iYcIBp2+fFSUtlPupbrVmsKv89c3zA6Hfc= X-Google-DKIM-Signature: v=1; a=rsa-sha256; c=relaxed/relaxed; d=1e100.net; s=20230601; t=1739006336; x=1739611136; h=references:in-reply-to:cc:to:from:subject:message-id:date :x-gm-message-state:from:to:cc:subject:date:message-id:reply-to; bh=nQxbGlmu9EbR6dyF9AhlCYtTrvLq2SA1mBbTYRHn0wQ=; b=W3mhEqeifGY4jYlmzWwQBP9bw3VxleV5hr7fpHakQCOUngQ77ej5GlGuzrqZzhxJrN OK3lUVqbqrO1E8SKdJPKqXn8Fef4dBH7bnL4gYF6creGwjc7jaaaA/Q6zkN5GiIVAS+R uOH86S6mmta/M6xAYulXW4d8DyTjAqgttGVmIA12f0YB/GHLEzN+Wykgvs5kRQwV9tx9 NJAKeorR00GFh6fi5kT5b2yXuYKCw7nzEh0wtp2E2tuReGGS/eJUOhB/g4Pzoqoz6O6j ynsiY2U6ZXlu7wfYZm2MdqIY048fbrp1MeczKkhzMve8S23wl67Let9O44sLvp5bWQ0M XvnQ== X-Gm-Message-State: AOJu0YwtIIodDYy3QYKJ+RifeO/d7cLCzds5Tx9x4LrehaAtMSECh7oc eZyhPqa5WJO5xyki6OXJ1B9Jpz0Fz5A4MDpwRtoDJ/PlifEfBs/xjUo756G/By424K5XyQDcstb vPDLBHBDcFEJNve1xdh6YngpelLPIazg5hLICqTIq X-Gm-Gg: ASbGnctQR6nTZCrvwE8cfWNKy+IT6olA1LzRCfGA3HtxANv7vpfEhXLSklAlesS4Nvf wfYezJDxgS+earLPfrmnUxR6pg71jKkL3sUszKRq+4VZJnZ3qryi9OiNC2M5sRrMYXENZN1BaRr XHKHCEjsA319ezlmY6dr3uQPSKYPBtPBVpjZHxlsG+/TFfNNZt8NVOc3k/Ny89R/H48PpMcywhJ 51BGOGHJI7txs2m5AetNcD2GgHzitp+LgeUIDAH1IzBSctRIzUsxMRfI+SYg0j5FSPogjJAHOUu 37Bjx0Y7tXhyGZynSg1w3GFGG/hNZw== X-Google-Smtp-Source: AGHT+IHM4sxfreYsb201E0TtIoD6WNkT9RyHZ22+dG5rHb7+Haudc/R6jyikNItgIKGi242man+j8heKMOfP X-Received: by 2002:a17:902:e848:b0:21f:4c8b:c513 with SMTP id d9443c01a7336-21f4e759fb8mr87373695ad.36.1739006335886; Sat, 08 Feb 2025 01:18:55 -0800 (PST) Received: from postal.iol.unh.edu (postal.iol.unh.edu. [132.177.123.84]) by smtp-relay.gmail.com with ESMTPS id d9443c01a7336-21f36561152sm3033725ad.49.2025.02.08.01.18.55 (version=TLS1_2 cipher=ECDHE-ECDSA-AES128-GCM-SHA256 bits=128/128); Sat, 08 Feb 2025 01:18:55 -0800 (PST) X-Relaying-Domain: iol.unh.edu Date: Sat, 08 Feb 2025 01:18:55 -0800 (PST) Message-ID: <67a7217f.170a0220.2c4760.f481SMTPIN_ADDED_MISSING@mx.google.com> Received: from [172.21.0.6] (unknown [172.18.0.240]) by postal.iol.unh.edu (Postfix) with ESMTP id 030ED6052472; Sat, 8 Feb 2025 04:18:55 -0500 (EST) Subject: |SUCCESS| pw151136 [PATCH] [v5] net: add thread-safe crc api From: dpdklab@iol.unh.edu To: Test Report Cc: dpdk-test-reports@iol.unh.edu In-Reply-To: <20250207182443.9775-1-arkadiuszx.kusztal@intel.com> References: <20250207182443.9775-1-arkadiuszx.kusztal@intel.com> Content-Type: text/plain X-BeenThere: test-report@dpdk.org X-Mailman-Version: 2.1.29 Precedence: list List-Id: automatic DPDK test reports List-Unsubscribe: , List-Archive: List-Post: List-Help: List-Subscribe: , Errors-To: test-report-bounces@dpdk.org Test-Label: iol-compile-arm64-testing Test-Status: SUCCESS http://dpdk.org/patch/151136 _Testing PASS_ Submitter: Arkadiusz Kusztal Date: Friday, February 07 2025 18:24:43 DPDK git baseline: Repo:dpdk Branch: master CommitID:7125636162d67b1c40ba6802a3ff4466d125d243 151136 --> testing pass Upstream job id: Generic-DPDK-Compile-Meson#359431 Test environment and result as below: +----------------------------------------+--------------------+ | Environment | dpdk_meson_compile | +========================================+====================+ | RHEL9 (ARM) | PASS | +----------------------------------------+--------------------+ | Ubuntu 20.04 ARM GCC Cross Compile | PASS | +----------------------------------------+--------------------+ | Ubuntu 20.04 ARM SVE | PASS | +----------------------------------------+--------------------+ | Debian 12 with MUSDK | PASS | +----------------------------------------+--------------------+ | Fedora 40 (ARM) | PASS | +----------------------------------------+--------------------+ | Fedora 40 (ARM Clang) | PASS | +----------------------------------------+--------------------+ | Fedora 41 (ARM) | PASS | +----------------------------------------+--------------------+ | Fedora 41 (ARM Clang) | PASS | +----------------------------------------+--------------------+ | Ubuntu 20.04 (ARM) | PASS | +----------------------------------------+--------------------+ | Ubuntu 22.04 (ARM) | PASS | +----------------------------------------+--------------------+ | Ubuntu 24.04 (ARM) | PASS | +----------------------------------------+--------------------+ | CentOS Stream 9 (ARM) | PASS | +----------------------------------------+--------------------+ | Debian 11 (Buster) (ARM) | PASS | +----------------------------------------+--------------------+ | Debian 12 (arm) | PASS | +----------------------------------------+--------------------+ | Ubuntu 20.04 ARM Clang Cross Compile | PASS | +----------------------------------------+--------------------+ | Ubuntu 20.04 aarch32 GCC Cross Compile | PASS | +----------------------------------------+--------------------+ RHEL9 (ARM) Kernel: Depends on container host Compiler: gcc 11.5.0 20240719 (Red Hat 11.5.0-2) Ubuntu 20.04 ARM GCC Cross Compile Kernel: Depends on container host Compiler: aarch64-linux-gnu-gcc (Ubuntu 9.4.0-1ubuntu1~20.04.2) 9.4.0 Ubuntu 20.04 ARM SVE Kernel: Depends on container host Compiler: gcc (Ubuntu 10.5.0-1ubuntu1~20.04) 10.5.0 Debian 12 with MUSDK Kernel: Depends on container host Compiler: gcc (Debian 12.2.0-14) 12.2.0 Fedora 40 (ARM) Kernel: Depends on container host Compiler: gcc 14.2.1 20240912 (Red Hat 14.2.1-3) Fedora 40 (ARM Clang) Kernel: Depends on container host Compiler: clang 18.1.8 (Fedora 18.1.8-1.fc40) Fedora 41 (ARM) Kernel: Depends on container host Compiler: gcc 14.2.1 20240912 (Red Hat 14.2.1-3) Fedora 41 (ARM Clang) Kernel: Depends on container host Compiler: clang 19.1.5 (Fedora 19.1.5-1.fc41) Ubuntu 20.04 (ARM) Kernel: Depends on container host Compiler: gcc (Ubuntu 9.4.0-1ubuntu1~20.04.2) 9.4.0 Ubuntu 22.04 (ARM) Kernel: Depends on container host Compiler: gcc (Ubuntu 11.4.0-1ubuntu1~22.04) 11.4.0 Ubuntu 24.04 (ARM) Kernel: Depends on container host Compiler: gcc (Ubuntu 13.3.0-6ubuntu2~24.04) 13.3.0 CentOS Stream 9 (ARM) Kernel: Depends on container host Compiler: gcc 11.5.0 20240719 (Red Hat 11.5.0-2) Debian 11 (Buster) (ARM) Kernel: Depends on container host Compiler: gcc (Debian 10.2.1-6) 10.2.1 20210110 Debian 12 (arm) Kernel: Depends on container host Compiler: gcc (Debian 12.2.0-14) 12.2.0 Ubuntu 20.04 ARM Clang Cross Compile Kernel: Depends on container host Compiler: clang 10.0.0-4ubuntu1 Ubuntu 20.04 aarch32 GCC Cross Compile Kernel: Depends on container host Compiler: gcc 9.4.0 To view detailed results, visit: https://lab.dpdk.org/results/dashboard/patchsets/32530/ UNH-IOL DPDK Community Lab To manage your email subscriptions, visit: https://lab.dpdk.org/results/dashboard/preferences/subscriptions/