From mboxrd@z Thu Jan 1 00:00:00 1970 Return-Path: Received: from mails.dpdk.org (mails.dpdk.org [217.70.189.124]) by inbox.dpdk.org (Postfix) with ESMTP id 435EA461C8 for ; Sat, 8 Feb 2025 10:21:21 +0100 (CET) Received: from mails.dpdk.org (localhost [127.0.0.1]) by mails.dpdk.org (Postfix) with ESMTP id 40CA840280; Sat, 8 Feb 2025 10:21:21 +0100 (CET) Received: from mail-qv1-f98.google.com (mail-qv1-f98.google.com [209.85.219.98]) by mails.dpdk.org (Postfix) with ESMTP id CA5E940279 for ; Sat, 8 Feb 2025 10:21:19 +0100 (CET) Received: by mail-qv1-f98.google.com with SMTP id 6a1803df08f44-6e440e64249so27370696d6.3 for ; Sat, 08 Feb 2025 01:21:19 -0800 (PST) DKIM-Signature: v=1; a=rsa-sha256; c=relaxed/relaxed; d=iol.unh.edu; s=unh-iol; t=1739006479; x=1739611279; darn=dpdk.org; h=references:in-reply-to:cc:to:from:subject:message-id:date:from:to :cc:subject:date:message-id:reply-to; bh=fwHMzDCWKDZ7Xfst1MHYguMmhUF+wO3KD97fL/qgn6k=; b=aIB1UDxWF7IaTBxEtcW/TLZTCXygJfui195MZRJ+HPIACW8imtQJQnHvelj38F0q1v aJmtwOgCaimOsigvVJVncyfqC5jhB7seFX+AaHUsjtqgs8cKHcyug/IHaVVA0s/AS/DB NkAyW+x1epHFOGZGei0uj5fa4EZzm1TaWUl+g= X-Google-DKIM-Signature: v=1; a=rsa-sha256; c=relaxed/relaxed; d=1e100.net; s=20230601; t=1739006479; x=1739611279; h=references:in-reply-to:cc:to:from:subject:message-id:date :x-gm-message-state:from:to:cc:subject:date:message-id:reply-to; bh=fwHMzDCWKDZ7Xfst1MHYguMmhUF+wO3KD97fL/qgn6k=; b=XlZWOvHJklqkW0ZE5tb+pWDUKCDELK56zcxnrFbRLRFZy1cSM4TbozLApihBlad+BS X7FM8Vj1x6InOs2fbHF97519bK50+iPCvR04Yi8aVg14xBArsZzqTH/NUFwPfBG65Ugh wq57vgOiJvLkNXuAUeAIPOFfl3/OR7NIVVgLmQMlYPTMuMqkUhOfN9c2STEZR6bMQd6Y V/rGl/K82ZAyKNcNefI7NSFPkx8PMXScF+edlfFJVmMfLs4U5pvvwH6BeVOXRqAdWMft 7Fdu/yvAdNPA5ioos99UW6A9zD1QRv3ktDpwyL5HDSIqSleLiL9FpIFhF/TVeNPyfx/9 5AUA== X-Gm-Message-State: AOJu0YzOlIVT7I1pEUiXtZORgooz2asWOp3pxI7EnCpbKAQboGBCMUfE yKzEYE7b+yzvkhIrzXHPESpho/cdTogQnNjhNt3A3bfyOY9mg6ACaHm16/8C8Ks52Mp+RjLHLPJ gkGS6uHOf9Cr3EzI/NDeEKFTxFJ9kEYLkGr0T1ocs X-Gm-Gg: ASbGnct74lgLMFIutmfjNCeyqRSLgszsc//asgqALUe9ANcZXCtpAry2ahPd9YmH9Ye IQTbcLMZTh+G4pVelUuJvo/mAuTkeERs6celRZt2i+v1KETAw/hwTW2hmyri15je3n+2uDFfE4p eRbHZkhcqIpZeYsJVDZa4pXbbZBqxXLmrrpk2Tl28PHac8Kn6AVCRqyRk7cwDC3cI2Z1KDn4jUk pNaQNbZHLrp8TjpVV/13B3m2l5tlUroznaFSvmpjIuFRed3e5+k/GxK1+uUNPgFE/pj1e/Cpt3H 02jUkn3Wdry0oxgB+m0bBqeokOIVjg== X-Google-Smtp-Source: AGHT+IEvcd/qKYik8+cdNX1A4uG6pMSYU/VCUKXyXwgRw5yB2NE2v8iFA+/c4rl4wChCDl6N1IhgXOGNJF2s X-Received: by 2002:a05:6214:5188:b0:6e2:4575:6bd5 with SMTP id 6a1803df08f44-6e4455e60b9mr87462996d6.12.1739006479233; Sat, 08 Feb 2025 01:21:19 -0800 (PST) Received: from postal.iol.unh.edu (postal.iol.unh.edu. [132.177.123.84]) by smtp-relay.gmail.com with ESMTPS id 6a1803df08f44-6e4473c0a82sm1902556d6.9.2025.02.08.01.21.19 (version=TLS1_2 cipher=ECDHE-ECDSA-AES128-GCM-SHA256 bits=128/128); Sat, 08 Feb 2025 01:21:19 -0800 (PST) X-Relaying-Domain: iol.unh.edu Date: Sat, 08 Feb 2025 01:21:19 -0800 (PST) Message-ID: <67a7220f.d40a0220.206870.91c9SMTPIN_ADDED_MISSING@mx.google.com> Received: from [172.21.0.5] (unknown [172.18.0.240]) by postal.iol.unh.edu (Postfix) with ESMTP id DFC816052471; Sat, 8 Feb 2025 04:20:48 -0500 (EST) Subject: |SUCCESS| pw151136 [PATCH] [v5] net: add thread-safe crc api From: dpdklab@iol.unh.edu To: Test Report Cc: dpdk-test-reports@iol.unh.edu In-Reply-To: <20250207182443.9775-1-arkadiuszx.kusztal@intel.com> References: <20250207182443.9775-1-arkadiuszx.kusztal@intel.com> Content-Type: text/plain X-BeenThere: test-report@dpdk.org X-Mailman-Version: 2.1.29 Precedence: list List-Id: automatic DPDK test reports List-Unsubscribe: , List-Archive: List-Post: List-Help: List-Subscribe: , Errors-To: test-report-bounces@dpdk.org Test-Label: iol-compile-arm64-testing Test-Status: SUCCESS http://dpdk.org/patch/151136 _Testing PASS_ Submitter: Arkadiusz Kusztal Date: Friday, February 07 2025 18:24:43 DPDK git baseline: Repo:dpdk Branch: master CommitID:7125636162d67b1c40ba6802a3ff4466d125d243 151136 --> testing pass Upstream job id: Generic-DPDK-Compile-Meson#359444 Test environment and result as below: +----------------------------------------+--------------------+ | Environment | dpdk_meson_compile | +========================================+====================+ | RHEL9 (ARM) | PASS | +----------------------------------------+--------------------+ | Ubuntu 20.04 ARM GCC Cross Compile | PASS | +----------------------------------------+--------------------+ | Ubuntu 20.04 ARM SVE | PASS | +----------------------------------------+--------------------+ | Debian 12 with MUSDK | PASS | +----------------------------------------+--------------------+ | Fedora 40 (ARM) | PASS | +----------------------------------------+--------------------+ | Fedora 40 (ARM Clang) | PASS | +----------------------------------------+--------------------+ | Fedora 41 (ARM) | PASS | +----------------------------------------+--------------------+ | Fedora 41 (ARM Clang) | PASS | +----------------------------------------+--------------------+ | Ubuntu 20.04 (ARM) | PASS | +----------------------------------------+--------------------+ | Ubuntu 22.04 (ARM) | PASS | +----------------------------------------+--------------------+ | Ubuntu 24.04 (ARM) | PASS | +----------------------------------------+--------------------+ | CentOS Stream 9 (ARM) | PASS | +----------------------------------------+--------------------+ | Debian 11 (Buster) (ARM) | PASS | +----------------------------------------+--------------------+ | Debian 12 (arm) | PASS | +----------------------------------------+--------------------+ | Ubuntu 20.04 ARM Clang Cross Compile | PASS | +----------------------------------------+--------------------+ | Ubuntu 20.04 aarch32 GCC Cross Compile | PASS | +----------------------------------------+--------------------+ RHEL9 (ARM) Kernel: Depends on container host Compiler: gcc 11.5.0 20240719 (Red Hat 11.5.0-2) Ubuntu 20.04 ARM GCC Cross Compile Kernel: Depends on container host Compiler: aarch64-linux-gnu-gcc (Ubuntu 9.4.0-1ubuntu1~20.04.2) 9.4.0 Ubuntu 20.04 ARM SVE Kernel: Depends on container host Compiler: gcc (Ubuntu 10.5.0-1ubuntu1~20.04) 10.5.0 Debian 12 with MUSDK Kernel: Depends on container host Compiler: gcc (Debian 12.2.0-14) 12.2.0 Fedora 40 (ARM) Kernel: Depends on container host Compiler: gcc 14.2.1 20240912 (Red Hat 14.2.1-3) Fedora 40 (ARM Clang) Kernel: Depends on container host Compiler: clang 18.1.8 (Fedora 18.1.8-1.fc40) Fedora 41 (ARM) Kernel: Depends on container host Compiler: gcc 14.2.1 20240912 (Red Hat 14.2.1-3) Fedora 41 (ARM Clang) Kernel: Depends on container host Compiler: clang 19.1.5 (Fedora 19.1.5-1.fc41) Ubuntu 20.04 (ARM) Kernel: Depends on container host Compiler: gcc (Ubuntu 9.4.0-1ubuntu1~20.04.2) 9.4.0 Ubuntu 22.04 (ARM) Kernel: Depends on container host Compiler: gcc (Ubuntu 11.4.0-1ubuntu1~22.04) 11.4.0 Ubuntu 24.04 (ARM) Kernel: Depends on container host Compiler: gcc (Ubuntu 13.3.0-6ubuntu2~24.04) 13.3.0 CentOS Stream 9 (ARM) Kernel: Depends on container host Compiler: gcc 11.5.0 20240719 (Red Hat 11.5.0-2) Debian 11 (Buster) (ARM) Kernel: Depends on container host Compiler: gcc (Debian 10.2.1-6) 10.2.1 20210110 Debian 12 (arm) Kernel: Depends on container host Compiler: gcc (Debian 12.2.0-14) 12.2.0 Ubuntu 20.04 ARM Clang Cross Compile Kernel: Depends on container host Compiler: clang 10.0.0-4ubuntu1 Ubuntu 20.04 aarch32 GCC Cross Compile Kernel: Depends on container host Compiler: gcc 9.4.0 To view detailed results, visit: https://lab.dpdk.org/results/dashboard/patchsets/32530/ UNH-IOL DPDK Community Lab To manage your email subscriptions, visit: https://lab.dpdk.org/results/dashboard/preferences/subscriptions/