From mboxrd@z Thu Jan 1 00:00:00 1970 Return-Path: Received: from mails.dpdk.org (mails.dpdk.org [217.70.189.124]) by inbox.dpdk.org (Postfix) with ESMTP id AB2E0461C8 for ; Sat, 8 Feb 2025 10:25:03 +0100 (CET) Received: from mails.dpdk.org (localhost [127.0.0.1]) by mails.dpdk.org (Postfix) with ESMTP id 8F17D40280; Sat, 8 Feb 2025 10:25:03 +0100 (CET) Received: from mail-pl1-f228.google.com (mail-pl1-f228.google.com [209.85.214.228]) by mails.dpdk.org (Postfix) with ESMTP id 75F7640279 for ; Sat, 8 Feb 2025 10:25:02 +0100 (CET) Received: by mail-pl1-f228.google.com with SMTP id d9443c01a7336-21f5a224544so15225765ad.0 for ; Sat, 08 Feb 2025 01:25:02 -0800 (PST) DKIM-Signature: v=1; a=rsa-sha256; c=relaxed/relaxed; d=iol.unh.edu; s=unh-iol; t=1739006701; x=1739611501; darn=dpdk.org; h=cc:to:from:subject:message-id:date:from:to:cc:subject:date :message-id:reply-to; bh=XuJUTeEUK3qVhfGf/6SUsbXFntLD1A97p9VFm2VOM4g=; b=UuHQWtLHnF8i3QCt+eUlhUpbSGkLKJSl+E299EB2DN4rPfzCIyblkZJnuyGzxZhi08 O2922MewfllwNJTbZgNs6GCfa7O229yTczg0WODQT4o9S/tSOKs946b9AC+x7KwzR1o8 OR3+sv1sXhNKotGpwuFq7V+/0hhPlVnRffNTM= X-Google-DKIM-Signature: v=1; a=rsa-sha256; c=relaxed/relaxed; d=1e100.net; s=20230601; t=1739006701; x=1739611501; h=cc:to:from:subject:message-id:date:x-gm-message-state:from:to:cc :subject:date:message-id:reply-to; bh=XuJUTeEUK3qVhfGf/6SUsbXFntLD1A97p9VFm2VOM4g=; b=HLg3qPHDA4QgUyRLU9IU6TL9X7JOCC7fdmkYLCllzv1d9xUjNZR/bKqrcwFRmmNOwY 4PRwlUEfZdmOBK+edRwaNYflP1pYWDt0mz2WLiuJHCCEofNHbfrAHLoR7I+ila248Mev VOplRUJgrdnAG20wcfRgZD8TfNjkJjuSXv5o7zDk9AuWaNOCX2W+PljhUIV0FJtkjkCK 85VAYqp6MqOcZrVTelcMhZUYXYhq/zlhtRJD5x8+As3kYE8WA2ZRXFfOC33gMYRwyQUm Qmu5cZqfd4OIFGpXDzRpVbD/Ov0pEW1Yhd7d1Uv0TVHPfeNW5KvpCrciP6kN8GC1oakv wlBg== X-Gm-Message-State: AOJu0YzkyBm8mqhMVdkD+zxmktakOqbcCcT9CoxYz8RhotzQzb4qBdUA UwrJbP2TO+UvahVBymy8/N8YXi35Icq2IUZsiBTRHpnX348WU/9IKk9tQOvp5SZTGZ1bYTr5gHO 1mJupKnbCCorumc14FGPadOKTP4G7T6Mh+6ptgese X-Gm-Gg: ASbGncvPqQmr/YcSWJoFLW0J1HtMPMxnmgcNBfCf6FYt2HvA6kZizjZdh5PJFP+pl6O hdCezOfZGa4Qss1lGPghm7ooBGzPdbO0wNQQj86nTwxrFCCAkxWXmJDwMZI8TI80tEGQnqbq8X8 StsNjV5O9FyL0w5ODhvLUZiMO4SBg0RG2yISTQMQU9IS23dkY57YJXqq/oa36S3mzpnOHcA/7mu KkOqtg4lcqfrYnvN8ntEvoEYk9LcG9Msl74hzALu0Q2RmAvJnFEJPlL67YJp02fj5bXVEhRFNkI rrivprKKiDJ9fQB3FhQBMpmdG0rc3A== X-Google-Smtp-Source: AGHT+IHphze3qpUvq5JQlDTYq1MHqoqoOMvxEF9KvgpZQi+vJz/c6GxwVzYTAp0Njn61VzULDCkbZNJGHSB3 X-Received: by 2002:a05:6a20:d503:b0:1e1:c8f5:19ee with SMTP id adf61e73a8af0-1ee03a966a6mr11982320637.25.1739006701335; Sat, 08 Feb 2025 01:25:01 -0800 (PST) Received: from postal.iol.unh.edu (postal.iol.unh.edu. [132.177.123.84]) by smtp-relay.gmail.com with ESMTPS id 41be03b00d2f7-ad529319645sm240398a12.20.2025.02.08.01.25.01 (version=TLS1_2 cipher=ECDHE-ECDSA-AES128-GCM-SHA256 bits=128/128); Sat, 08 Feb 2025 01:25:01 -0800 (PST) X-Relaying-Domain: iol.unh.edu Date: Sat, 08 Feb 2025 01:25:01 -0800 (PST) Message-ID: <67a722ed.630a0220.ee6e7.c09bSMTPIN_ADDED_MISSING@mx.google.com> Received: from [172.21.0.6] (unknown [172.18.0.240]) by postal.iol.unh.edu (Postfix) with ESMTP id 82E5A6052471; Sat, 8 Feb 2025 04:24:30 -0500 (EST) Subject: |SUCCESS| [GIT MASTER] 992fd7e15692e3faab0c0e590aaa63998657d804 From: dpdklab@iol.unh.edu To: Test Report Cc: dpdk-test-reports@iol.unh.edu, Chenbo Xia , Maxime Coquelin Content-Type: text/plain X-BeenThere: test-report@dpdk.org X-Mailman-Version: 2.1.29 Precedence: list List-Id: automatic DPDK test reports List-Unsubscribe: , List-Archive: List-Post: List-Help: List-Subscribe: , Errors-To: test-report-bounces@dpdk.org _Testing PASS_ Branch: dpdk-next-virtio 992fd7e15692e3faab0c0e590aaa63998657d804 --> testing pass Upstream job id: Windows-Compile-DPDK-Native#26555 Test environment and result as below: +---------------------+--------------------+-------------------+-------------------------+----------------------+ | Environment | dpdk_meson_compile | dpdk_msvc_compile | dpdk_llvm_clang_compile | dpdk_mingw64_compile | +=====================+====================+===================+=========================+======================+ | FreeBSD 13.4 | PASS | SKIPPED | SKIPPED | SKIPPED | +---------------------+--------------------+-------------------+-------------------------+----------------------+ | FreeBSD 14.2 | PASS | SKIPPED | SKIPPED | SKIPPED | +---------------------+--------------------+-------------------+-------------------------+----------------------+ | Windows Server 2022 | SKIPPED | PASS | PASS | PASS | +---------------------+--------------------+-------------------+-------------------------+----------------------+ FreeBSD 13.4 Kernel: 13.4-RELEASE-p1 Compiler: clang 18.1.6 FreeBSD 14.2 Kernel: 14.2-RELEASE Compiler: clang 18.1.6 Windows Server 2022 Kernel: 10.0.20348.2031 Compiler: clang 15.0.7, gcc 14.1.0 (MinGW), and MSVC VS 19.39.33521 To view detailed results, visit: https://lab.dpdk.org/results/dashboard/tarballs/32507/ UNH-IOL DPDK Community Lab To manage your email subscriptions, visit: https://lab.dpdk.org/results/dashboard/preferences/subscriptions/