From mboxrd@z Thu Jan 1 00:00:00 1970 Return-Path: Received: from mails.dpdk.org (mails.dpdk.org [217.70.189.124]) by inbox.dpdk.org (Postfix) with ESMTP id 30EED461C8 for ; Sat, 8 Feb 2025 10:39:21 +0100 (CET) Received: from mails.dpdk.org (localhost [127.0.0.1]) by mails.dpdk.org (Postfix) with ESMTP id 2A67540280; Sat, 8 Feb 2025 10:39:21 +0100 (CET) Received: from mail-il1-f227.google.com (mail-il1-f227.google.com [209.85.166.227]) by mails.dpdk.org (Postfix) with ESMTP id C325340279 for ; Sat, 8 Feb 2025 10:39:19 +0100 (CET) Received: by mail-il1-f227.google.com with SMTP id e9e14a558f8ab-3d03d2bd7d2so27470715ab.0 for ; Sat, 08 Feb 2025 01:39:19 -0800 (PST) DKIM-Signature: v=1; a=rsa-sha256; c=relaxed/relaxed; d=iol.unh.edu; s=unh-iol; t=1739007559; x=1739612359; darn=dpdk.org; h=references:in-reply-to:cc:to:from:subject:message-id:date:from:to :cc:subject:date:message-id:reply-to; bh=mXQ3suDLtXZKlIV+ul1DJrH1R1+UjP5i8alkMS+7Oic=; b=eLtUryAwVDep1yhuhpubkQQqPcOKNaMJbF6bsUmSM9qYF01RD5kDwDd78ZSUZvUDVT Fu7OYcTlAWUfBVXdfjEXZrzysSMMSrcO7Tf5YMYma0Ufi2q83/1tGM41WIe+e8UPN2r2 KC0Y+Gj97jkNCld6aiYafyYFkEoLgRSIBhozQ= X-Google-DKIM-Signature: v=1; a=rsa-sha256; c=relaxed/relaxed; d=1e100.net; s=20230601; t=1739007559; x=1739612359; h=references:in-reply-to:cc:to:from:subject:message-id:date :x-gm-message-state:from:to:cc:subject:date:message-id:reply-to; bh=mXQ3suDLtXZKlIV+ul1DJrH1R1+UjP5i8alkMS+7Oic=; b=WJ5zzIchGWfA4JKjMmgwKjmC8vNXJbK7AeaRt1Gx0vOuvvwlih1Q+XGtoraWPG2/2V 00GaFNOj/Twc+iZlU9guXebWay7+WwvFVGDz0wIeEqKL5+rBJK1pqWuOq1FFbjn0p2Rd 1zEUBLeHioIcz8gBdR+4nR3FN3RHyDmz9ISyTu3oq1rWI6IzoGE6C0Bsg/KqV5G43/sy 4Ay+RoIV8QuH5v5a251JM2c5GJFgllUxMbfoDqGY+ZteXu7ZehsQdsS0LBCmLoLH8Bdj T15lnRcVIMZFMh24bYESv4sfUOJfZImGivoK6lOOipkueLZFFb4VxF9o0OlgNHtNJpfG Uk5w== X-Gm-Message-State: AOJu0YxISRfBlbPTIa9kI0iAo7c1nNagvefNZe58BT3zvsf9VadKAKpy nGhW2iVGy4HSCIlhZGT2hYyv50BCI5zZ2Z9OYKX2CLQSqQP71pptKy2pE6nrqIl/ne1wfuEjYUO udB5WoRK4sF/gefo/u53XVqH/l1OMvMaYDSiyHddr X-Gm-Gg: ASbGnctdrp6iGkzq9NcqREQgK07kf0RmLwR0+e+zk/0u2CQ2UQTYaVzVwUa17ChA1HO ukVqkaU4WpLpaNnH/CeyiZWfxk3PXOjHLdUNNKrTIVZhEkamDw/s5y3XGwc6N8j6nYM3ZmRPKky yEX9GfXHkaJDgRctDhilpt+hirUtVbMMHUTsIjrUdCoK0EFl7fqBIJ+e6DWuSYEzxvZQKygq6H7 VBv4V2uFdNTht0G2T4P9HiHXvshZRYSZZOJqJM5yaeLi/cBggbbJ1VIl6SUZsmHFQpGiM6ZqFjk Hbw50+EAZ3zSBDfV9SF902HeLjxi9Q== X-Google-Smtp-Source: AGHT+IHCoXE8mFhWfRIYekxn+b04cyAZYMxeulphqfVDYNZXIRqEpfvOoCGOTXtZS7wQ5dT4eITe5dRBJDWl X-Received: by 2002:a05:6e02:481c:b0:3cf:b626:66c2 with SMTP id e9e14a558f8ab-3d13df546c4mr46881465ab.19.1739007559158; Sat, 08 Feb 2025 01:39:19 -0800 (PST) Received: from postal.iol.unh.edu (postal.iol.unh.edu. [132.177.123.84]) by smtp-relay.gmail.com with ESMTPS id e9e14a558f8ab-3d14de1df4bsm894115ab.54.2025.02.08.01.39.19 (version=TLS1_2 cipher=ECDHE-ECDSA-AES128-GCM-SHA256 bits=128/128); Sat, 08 Feb 2025 01:39:19 -0800 (PST) X-Relaying-Domain: iol.unh.edu Date: Sat, 08 Feb 2025 01:39:19 -0800 (PST) Message-ID: <67a72647.050a0220.3d2d9a.4609SMTPIN_ADDED_MISSING@mx.google.com> Received: from [172.21.0.5] (unknown [172.18.0.240]) by postal.iol.unh.edu (Postfix) with ESMTP id B0C996052471; Sat, 8 Feb 2025 04:39:13 -0500 (EST) Subject: |SUCCESS| pw151138-151140 [PATCH] [v1,3/3] net/intel: add Tx time qu From: dpdklab@iol.unh.edu To: Test Report Cc: dpdk-test-reports@iol.unh.edu In-Reply-To: <20250207124300.1022523-4-soumyadeep.hore@intel.com> References: <20250207124300.1022523-4-soumyadeep.hore@intel.com> Content-Type: text/plain X-BeenThere: test-report@dpdk.org X-Mailman-Version: 2.1.29 Precedence: list List-Id: automatic DPDK test reports List-Unsubscribe: , List-Archive: List-Post: List-Help: List-Subscribe: , Errors-To: test-report-bounces@dpdk.org Test-Label: iol-compile-amd64-testing Test-Status: SUCCESS http://dpdk.org/patch/151140 _Testing PASS_ Submitter: Soumyadeep Hore Date: Friday, February 07 2025 12:43:00 DPDK git baseline: Repo:dpdk Branch: master CommitID:cebec711bdc507d1b271b50ea1e696db86a3a202 151138-151140 --> testing pass Upstream job id: Generic-DPDK-Compile-Meson#359475 Test environment and result as below: +---------------------+--------------------+-------------------+-------------------------+----------------------+------------------+-------------------+ | Environment | dpdk_meson_compile | dpdk_msvc_compile | dpdk_llvm_clang_compile | dpdk_mingw64_compile | dpdk_compile_ovs | dpdk_compile_spdk | +=====================+====================+===================+=========================+======================+==================+===================+ | FreeBSD 13.4 | PASS | SKIPPED | SKIPPED | SKIPPED | SKIPPED | SKIPPED | +---------------------+--------------------+-------------------+-------------------------+----------------------+------------------+-------------------+ | FreeBSD 14.2 | PASS | SKIPPED | SKIPPED | SKIPPED | SKIPPED | SKIPPED | +---------------------+--------------------+-------------------+-------------------------+----------------------+------------------+-------------------+ | CentOS Stream 9 | PASS | SKIPPED | SKIPPED | SKIPPED | PASS | PASS | +---------------------+--------------------+-------------------+-------------------------+----------------------+------------------+-------------------+ | Debian Bullseye | PASS | SKIPPED | SKIPPED | SKIPPED | PASS | PASS | +---------------------+--------------------+-------------------+-------------------------+----------------------+------------------+-------------------+ | Debian 12 | PASS | SKIPPED | SKIPPED | SKIPPED | PASS | PASS | +---------------------+--------------------+-------------------+-------------------------+----------------------+------------------+-------------------+ | Fedora 40 (Clang) | PASS | SKIPPED | SKIPPED | SKIPPED | PASS | PASS | +---------------------+--------------------+-------------------+-------------------------+----------------------+------------------+-------------------+ | Fedora 40 | PASS | SKIPPED | SKIPPED | SKIPPED | PASS | PASS | +---------------------+--------------------+-------------------+-------------------------+----------------------+------------------+-------------------+ | Fedora 41 (Clang) | PASS | SKIPPED | SKIPPED | SKIPPED | PASS | PASS | +---------------------+--------------------+-------------------+-------------------------+----------------------+------------------+-------------------+ | Fedora 41 | PASS | SKIPPED | SKIPPED | SKIPPED | PASS | PASS | +---------------------+--------------------+-------------------+-------------------------+----------------------+------------------+-------------------+ | openSUSE Leap 15 | PASS | SKIPPED | SKIPPED | SKIPPED | SKIPPED | SKIPPED | +---------------------+--------------------+-------------------+-------------------------+----------------------+------------------+-------------------+ | RHEL8 | PASS | SKIPPED | SKIPPED | SKIPPED | PASS | SKIPPED | +---------------------+--------------------+-------------------+-------------------------+----------------------+------------------+-------------------+ | RHEL9 | PASS | SKIPPED | SKIPPED | SKIPPED | PASS | SKIPPED | +---------------------+--------------------+-------------------+-------------------------+----------------------+------------------+-------------------+ | Ubuntu 20.04 | PASS | SKIPPED | SKIPPED | SKIPPED | SKIPPED | SKIPPED | +---------------------+--------------------+-------------------+-------------------------+----------------------+------------------+-------------------+ | Ubuntu 22.04 | PASS | SKIPPED | SKIPPED | SKIPPED | PASS | PASS | +---------------------+--------------------+-------------------+-------------------------+----------------------+------------------+-------------------+ | Ubuntu 24.04 | PASS | SKIPPED | SKIPPED | SKIPPED | PASS | PASS | +---------------------+--------------------+-------------------+-------------------------+----------------------+------------------+-------------------+ | Alpine | PASS | SKIPPED | SKIPPED | SKIPPED | PASS | SKIPPED | +---------------------+--------------------+-------------------+-------------------------+----------------------+------------------+-------------------+ | Windows Server 2022 | SKIPPED | PASS | PASS | PASS | SKIPPED | SKIPPED | +---------------------+--------------------+-------------------+-------------------------+----------------------+------------------+-------------------+ FreeBSD 13.4 Kernel: 13.4-RELEASE-p1 Compiler: clang 18.1.6 FreeBSD 14.2 Kernel: 14.2-RELEASE Compiler: clang 18.1.6 CentOS Stream 9 Kernel: Depends on container host Compiler: gcc 11.5.0 20240719 (Red Hat 11.5.0-2) Debian Bullseye Kernel: Depends on container host Compiler: gcc (Debian 10.2.1-6) 10.2.1 20210110 Debian 12 Kernel: Depends on container host Compiler: gcc (Debian 12.2.0-14) 12.2.0 Fedora 40 (Clang) Kernel: Depends on container host Compiler: clang 18.1.8 (Fedora 18.1.8-1.fc40) Fedora 40 Kernel: Depends on container host Compiler: gcc 14.2.1 20240912 (Red Hat 14.2.1-3) Fedora 41 (Clang) Kernel: Depends on container host Compiler: clang 19.1.5 (Fedora 19.1.5-1.fc41) Fedora 41 Kernel: Depends on container host Compiler: gcc 14.2.1 20240912 (Red Hat 14.2.1-3) openSUSE Leap 15 Kernel: Depends on container host Compiler: gcc (SUSE Linux) 7.5.0 RHEL8 Kernel: Depends on container host Compiler: gcc 8.5.0 20210514 (Red Hat 8.5.0-22) RHEL9 Kernel: Depends on container host Compiler: gcc 11.5.0 20240719 (Red Hat 11.5.0-2) Ubuntu 20.04 Kernel: Depends on container host Compiler: gcc (Ubuntu 9.4.0-1ubuntu1~20.04.2) 9.4.0 Ubuntu 22.04 Kernel: Depends on container host Compiler: gcc (Ubuntu 11.4.0-1ubuntu1~22.04) 11.4.0 Ubuntu 24.04 Kernel: Depends on container host Compiler: gcc (Ubuntu 13.3.0-6ubuntu2~24.04) 13.3.0 Alpine Kernel: Depends on container host Compiler: gcc (Alpine 14.2.0) 14.2.0 Windows Server 2022 Kernel: 10.0.20348.2031 Compiler: clang 15.0.7, gcc 14.1.0 (MinGW), and MSVC VS 19.39.33521 To view detailed results, visit: https://lab.dpdk.org/results/dashboard/patchsets/32532/ UNH-IOL DPDK Community Lab To manage your email subscriptions, visit: https://lab.dpdk.org/results/dashboard/preferences/subscriptions/