From mboxrd@z Thu Jan 1 00:00:00 1970 Return-Path: Received: from mails.dpdk.org (mails.dpdk.org [217.70.189.124]) by inbox.dpdk.org (Postfix) with ESMTP id CA3CE461C8 for ; Sat, 8 Feb 2025 11:14:30 +0100 (CET) Received: from mails.dpdk.org (localhost [127.0.0.1]) by mails.dpdk.org (Postfix) with ESMTP id A75A040280; Sat, 8 Feb 2025 11:14:30 +0100 (CET) Received: from mail-qv1-f97.google.com (mail-qv1-f97.google.com [209.85.219.97]) by mails.dpdk.org (Postfix) with ESMTP id 26D1B40279 for ; Sat, 8 Feb 2025 11:14:29 +0100 (CET) Received: by mail-qv1-f97.google.com with SMTP id 6a1803df08f44-6e4468b7099so18785256d6.1 for ; Sat, 08 Feb 2025 02:14:29 -0800 (PST) DKIM-Signature: v=1; a=rsa-sha256; c=relaxed/relaxed; d=iol.unh.edu; s=unh-iol; t=1739009668; x=1739614468; darn=dpdk.org; h=references:in-reply-to:cc:to:from:subject:message-id:date:from:to :cc:subject:date:message-id:reply-to; bh=iCSe0AqfPPwy4Tmr6CVqCKHd1MZpkD+tLOg8FwcuHQM=; b=WQURzaOdmnbaIzoBSpqHaj8lCtBcB4gPNbVzSm4D1LjZlYfHLOl+PkNr4zMqGXUOmV nbOakjmZAiiQgpOg/Gaq42tcfznPVdOHmkXUUHHpXFHMp+K3Oi1Fs4Q82zJRWpNxw8Yu nKuA7IyLhe3e+U2FnBrarH/ZF9qxL6wwS5X24= X-Google-DKIM-Signature: v=1; a=rsa-sha256; c=relaxed/relaxed; d=1e100.net; s=20230601; t=1739009668; x=1739614468; h=references:in-reply-to:cc:to:from:subject:message-id:date :x-gm-message-state:from:to:cc:subject:date:message-id:reply-to; bh=iCSe0AqfPPwy4Tmr6CVqCKHd1MZpkD+tLOg8FwcuHQM=; b=vCaps8K+1CnPKnsNfDDpmHjGaoEzGFBHuWSgF/qJWhfuRWuPwABrk4Gz4T9/OXOyge rfeqjebZ+SWaaqnJPuH5M2ihfcDYmDqO6/NbgRRWzzujlhqxNILvjUidjC2W6Kdsjrli io21B0VrC2OJ89wq/isaPGVLIsAUFgkyFxlmZWLLk5i0gWo2wfZYQN/v4eY9YblOcUHA PP+s6zrbjhOpEszql0CUZGyFWXfdngVwrXeRaUzDxI94vJ81UGmrdBc2PIBIIJUQmhd+ wj4xQ2yMz/sXpmxsfSG6gQVlNyfqMtaVA75gjb/yIj1gTJGbqhnGWRr+H5z1v/ZUIOjP gvOA== X-Gm-Message-State: AOJu0Yw+yaJqOdaTZsOSIJlWBVNVF99pwIUF9KaRko2aWprvYq7QSgEL wWukeZy5iBVgIsObdR18rxiaQpdynwZYPJzooCmsjJ8zM3W4L2hIHbYNoXjujdtLzDr0v8OrtOe CUONzNeoP8On4Og8piigtAlNFUkzChNxleprVLuvr X-Gm-Gg: ASbGncvGfeJWvADE2zkDYnLzwUE+0ma6QIhwBe84wha0Jf2CXlOzexfOkYzxeCsO9Sz xt3g68m+lTDJlIVDlXzTgX6MVXjgo0w5wNMgPl/F1ghzbtZOgw8SGU7Lg+1R4bWr7aEdTCLLtjK XRIOFcD0V8S6VqdQxpz16Bfup6W3nksB1mkTd2vM8yujSjaQA5qEuXUYcwIJRuMh4TSER6dHThz MfwhXqCxsD3PIQnV3CDRn34QgivNXDg+4shQSP4NEIt90hZaJzALz5zFccsZ/qne3+j77L/KKSs PDK77Yp6lGBwM/S4GRC4d2SoglJaAA== X-Google-Smtp-Source: AGHT+IFem2ziY9XmgTXGU3Rr7eU1lZnQuW00p6sI8Dx6fSLCH3lm6WD2Fgxqrukv7wbHHQz1DNHzLJrAqQQl X-Received: by 2002:a05:6214:f61:b0:6e4:269f:60fe with SMTP id 6a1803df08f44-6e4455de7a0mr111996216d6.10.1739009668387; Sat, 08 Feb 2025 02:14:28 -0800 (PST) Received: from postal.iol.unh.edu (postal.iol.unh.edu. [132.177.123.84]) by smtp-relay.gmail.com with ESMTPS id 6a1803df08f44-6e43bb26ceasm3115386d6.69.2025.02.08.02.14.28 (version=TLS1_2 cipher=ECDHE-ECDSA-AES128-GCM-SHA256 bits=128/128); Sat, 08 Feb 2025 02:14:28 -0800 (PST) X-Relaying-Domain: iol.unh.edu Date: Sat, 08 Feb 2025 02:14:28 -0800 (PST) Message-ID: <67a72e84.050a0220.318048.f6f3SMTPIN_ADDED_MISSING@mx.google.com> Received: from [172.21.0.6] (unknown [172.18.0.240]) by postal.iol.unh.edu (Postfix) with ESMTP id 333BB6052471; Sat, 8 Feb 2025 05:14:24 -0500 (EST) Subject: |SUCCESS| pw151138-151140 [PATCH] [v1,3/3] net/intel: add Tx time qu From: dpdklab@iol.unh.edu To: Test Report Cc: dpdk-test-reports@iol.unh.edu In-Reply-To: <20250207124300.1022523-4-soumyadeep.hore@intel.com> References: <20250207124300.1022523-4-soumyadeep.hore@intel.com> Content-Type: text/plain X-BeenThere: test-report@dpdk.org X-Mailman-Version: 2.1.29 Precedence: list List-Id: automatic DPDK test reports List-Unsubscribe: , List-Archive: List-Post: List-Help: List-Subscribe: , Errors-To: test-report-bounces@dpdk.org Test-Label: iol-compile-arm64-testing Test-Status: SUCCESS http://dpdk.org/patch/151140 _Testing PASS_ Submitter: Soumyadeep Hore Date: Friday, February 07 2025 12:43:00 DPDK git baseline: Repo:dpdk Branch: master CommitID:cebec711bdc507d1b271b50ea1e696db86a3a202 151138-151140 --> testing pass Upstream job id: Generic-DPDK-Compile-Meson#359447 Test environment and result as below: +----------------------------------------+--------------------+ | Environment | dpdk_meson_compile | +========================================+====================+ | Ubuntu 20.04 ARM GCC Cross Compile | PASS | +----------------------------------------+--------------------+ | Ubuntu 20.04 ARM SVE | PASS | +----------------------------------------+--------------------+ | Debian 12 with MUSDK | PASS | +----------------------------------------+--------------------+ | Fedora 40 (ARM) | PASS | +----------------------------------------+--------------------+ | Fedora 40 (ARM Clang) | PASS | +----------------------------------------+--------------------+ | Fedora 41 (ARM) | PASS | +----------------------------------------+--------------------+ | Fedora 41 (ARM Clang) | PASS | +----------------------------------------+--------------------+ | Ubuntu 22.04 (ARM) | PASS | +----------------------------------------+--------------------+ | Ubuntu 24.04 (ARM) | PASS | +----------------------------------------+--------------------+ | CentOS Stream 9 (ARM) | PASS | +----------------------------------------+--------------------+ | Debian 11 (Buster) (ARM) | PASS | +----------------------------------------+--------------------+ | Debian 12 (arm) | PASS | +----------------------------------------+--------------------+ | Ubuntu 20.04 ARM Clang Cross Compile | PASS | +----------------------------------------+--------------------+ | Ubuntu 20.04 aarch32 GCC Cross Compile | PASS | +----------------------------------------+--------------------+ | Ubuntu 20.04 (ARM) | PASS | +----------------------------------------+--------------------+ | RHEL9 (ARM) | PASS | +----------------------------------------+--------------------+ Ubuntu 20.04 ARM GCC Cross Compile Kernel: Depends on container host Compiler: aarch64-linux-gnu-gcc (Ubuntu 9.4.0-1ubuntu1~20.04.2) 9.4.0 Ubuntu 20.04 ARM SVE Kernel: Depends on container host Compiler: gcc (Ubuntu 10.5.0-1ubuntu1~20.04) 10.5.0 Debian 12 with MUSDK Kernel: Depends on container host Compiler: gcc (Debian 12.2.0-14) 12.2.0 Fedora 40 (ARM) Kernel: Depends on container host Compiler: gcc 14.2.1 20240912 (Red Hat 14.2.1-3) Fedora 40 (ARM Clang) Kernel: Depends on container host Compiler: clang 18.1.8 (Fedora 18.1.8-1.fc40) Fedora 41 (ARM) Kernel: Depends on container host Compiler: gcc 14.2.1 20240912 (Red Hat 14.2.1-3) Fedora 41 (ARM Clang) Kernel: Depends on container host Compiler: clang 19.1.5 (Fedora 19.1.5-1.fc41) Ubuntu 22.04 (ARM) Kernel: Depends on container host Compiler: gcc (Ubuntu 11.4.0-1ubuntu1~22.04) 11.4.0 Ubuntu 24.04 (ARM) Kernel: Depends on container host Compiler: gcc (Ubuntu 13.3.0-6ubuntu2~24.04) 13.3.0 CentOS Stream 9 (ARM) Kernel: Depends on container host Compiler: gcc 11.5.0 20240719 (Red Hat 11.5.0-2) Debian 11 (Buster) (ARM) Kernel: Depends on container host Compiler: gcc (Debian 10.2.1-6) 10.2.1 20210110 Debian 12 (arm) Kernel: Depends on container host Compiler: gcc (Debian 12.2.0-14) 12.2.0 Ubuntu 20.04 ARM Clang Cross Compile Kernel: Depends on container host Compiler: clang 10.0.0-4ubuntu1 Ubuntu 20.04 aarch32 GCC Cross Compile Kernel: Depends on container host Compiler: gcc 9.4.0 Ubuntu 20.04 (ARM) Kernel: Depends on container host Compiler: gcc (Ubuntu 9.4.0-1ubuntu1~20.04.2) 9.4.0 RHEL9 (ARM) Kernel: Depends on container host Compiler: gcc 11.5.0 20240719 (Red Hat 11.5.0-2) To view detailed results, visit: https://lab.dpdk.org/results/dashboard/patchsets/32532/ UNH-IOL DPDK Community Lab To manage your email subscriptions, visit: https://lab.dpdk.org/results/dashboard/preferences/subscriptions/