From: dpdklab@iol.unh.edu
To: Test Report <test-report@dpdk.org>
Cc: dpdk-test-reports@iol.unh.edu
Subject: |SUCCESS| [GIT MASTER] 388b1abe291544106e406cb0a200b5b0c96fe599
Date: Sat, 08 Feb 2025 03:17:40 -0800 (PST) [thread overview]
Message-ID: <67a73d54.050a0220.1d268a.cedfSMTPIN_ADDED_MISSING@mx.google.com> (raw)
_Testing PASS_
Branch: dpdk
388b1abe291544106e406cb0a200b5b0c96fe599 --> testing pass
Upstream job id: Generic-DPDK-Compile-Meson#359485
Test environment and result as below:
+---------------------+--------------------+-------------------+-------------------------+----------------------+------------------+-------------------+
| Environment | dpdk_meson_compile | dpdk_msvc_compile | dpdk_llvm_clang_compile | dpdk_mingw64_compile | dpdk_compile_ovs | dpdk_compile_spdk |
+=====================+====================+===================+=========================+======================+==================+===================+
| FreeBSD 13.4 | PASS | SKIPPED | SKIPPED | SKIPPED | SKIPPED | SKIPPED |
+---------------------+--------------------+-------------------+-------------------------+----------------------+------------------+-------------------+
| FreeBSD 14.2 | PASS | SKIPPED | SKIPPED | SKIPPED | SKIPPED | SKIPPED |
+---------------------+--------------------+-------------------+-------------------------+----------------------+------------------+-------------------+
| CentOS Stream 9 | PASS | SKIPPED | SKIPPED | SKIPPED | PASS | PASS |
+---------------------+--------------------+-------------------+-------------------------+----------------------+------------------+-------------------+
| Debian Bullseye | PASS | SKIPPED | SKIPPED | SKIPPED | PASS | PASS |
+---------------------+--------------------+-------------------+-------------------------+----------------------+------------------+-------------------+
| Debian 12 | PASS | SKIPPED | SKIPPED | SKIPPED | PASS | PASS |
+---------------------+--------------------+-------------------+-------------------------+----------------------+------------------+-------------------+
| Fedora 40 (Clang) | PASS | SKIPPED | SKIPPED | SKIPPED | PASS | PASS |
+---------------------+--------------------+-------------------+-------------------------+----------------------+------------------+-------------------+
| Fedora 40 | PASS | SKIPPED | SKIPPED | SKIPPED | PASS | PASS |
+---------------------+--------------------+-------------------+-------------------------+----------------------+------------------+-------------------+
| Fedora 41 (Clang) | PASS | SKIPPED | SKIPPED | SKIPPED | PASS | PASS |
+---------------------+--------------------+-------------------+-------------------------+----------------------+------------------+-------------------+
| openSUSE Leap 15 | PASS | SKIPPED | SKIPPED | SKIPPED | SKIPPED | SKIPPED |
+---------------------+--------------------+-------------------+-------------------------+----------------------+------------------+-------------------+
| RHEL8 | PASS | SKIPPED | SKIPPED | SKIPPED | PASS | SKIPPED |
+---------------------+--------------------+-------------------+-------------------------+----------------------+------------------+-------------------+
| Ubuntu 20.04 | PASS | SKIPPED | SKIPPED | SKIPPED | SKIPPED | SKIPPED |
+---------------------+--------------------+-------------------+-------------------------+----------------------+------------------+-------------------+
| Ubuntu 22.04 | PASS | SKIPPED | SKIPPED | SKIPPED | PASS | PASS |
+---------------------+--------------------+-------------------+-------------------------+----------------------+------------------+-------------------+
| Ubuntu 24.04 | PASS | SKIPPED | SKIPPED | SKIPPED | PASS | PASS |
+---------------------+--------------------+-------------------+-------------------------+----------------------+------------------+-------------------+
| Alpine | PASS | SKIPPED | SKIPPED | SKIPPED | PASS | SKIPPED |
+---------------------+--------------------+-------------------+-------------------------+----------------------+------------------+-------------------+
| Arch Linux | PASS | SKIPPED | SKIPPED | SKIPPED | PASS | SKIPPED |
+---------------------+--------------------+-------------------+-------------------------+----------------------+------------------+-------------------+
| RHEL9 | PASS | SKIPPED | SKIPPED | SKIPPED | PASS | SKIPPED |
+---------------------+--------------------+-------------------+-------------------------+----------------------+------------------+-------------------+
| Fedora 41 | PASS | SKIPPED | SKIPPED | SKIPPED | PASS | PASS |
+---------------------+--------------------+-------------------+-------------------------+----------------------+------------------+-------------------+
| Windows Server 2022 | SKIPPED | PASS | PASS | PASS | SKIPPED | SKIPPED |
+---------------------+--------------------+-------------------+-------------------------+----------------------+------------------+-------------------+
FreeBSD 13.4
Kernel: 13.4-RELEASE-p1
Compiler: clang 18.1.6
FreeBSD 14.2
Kernel: 14.2-RELEASE
Compiler: clang 18.1.6
CentOS Stream 9
Kernel: Depends on container host
Compiler: gcc 11.5.0 20240719 (Red Hat 11.5.0-2)
Debian Bullseye
Kernel: Depends on container host
Compiler: gcc (Debian 10.2.1-6) 10.2.1 20210110
Debian 12
Kernel: Depends on container host
Compiler: gcc (Debian 12.2.0-14) 12.2.0
Fedora 40 (Clang)
Kernel: Depends on container host
Compiler: clang 18.1.8 (Fedora 18.1.8-1.fc40)
Fedora 40
Kernel: Depends on container host
Compiler: gcc 14.2.1 20240912 (Red Hat 14.2.1-3)
Fedora 41 (Clang)
Kernel: Depends on container host
Compiler: clang 19.1.5 (Fedora 19.1.5-1.fc41)
openSUSE Leap 15
Kernel: Depends on container host
Compiler: gcc (SUSE Linux) 7.5.0
RHEL8
Kernel: Depends on container host
Compiler: gcc 8.5.0 20210514 (Red Hat 8.5.0-22)
Ubuntu 20.04
Kernel: Depends on container host
Compiler: gcc (Ubuntu 9.4.0-1ubuntu1~20.04.2) 9.4.0
Ubuntu 22.04
Kernel: Depends on container host
Compiler: gcc (Ubuntu 11.4.0-1ubuntu1~22.04) 11.4.0
Ubuntu 24.04
Kernel: Depends on container host
Compiler: gcc (Ubuntu 13.3.0-6ubuntu2~24.04) 13.3.0
Alpine
Kernel: Depends on container host
Compiler: gcc (Alpine 14.2.0) 14.2.0
Arch Linux
Kernel: Depends on container host
Compiler: gcc 14.2.1 20240910
RHEL9
Kernel: Depends on container host
Compiler: gcc 11.5.0 20240719 (Red Hat 11.5.0-2)
Fedora 41
Kernel: Depends on container host
Compiler: gcc 14.2.1 20240912 (Red Hat 14.2.1-3)
Windows Server 2022
Kernel: 10.0.20348.2031
Compiler: clang 15.0.7, gcc 14.1.0 (MinGW), and MSVC VS 19.39.33521
To view detailed results, visit:
https://lab.dpdk.org/results/dashboard/tarballs/32502/
UNH-IOL DPDK Community Lab
To manage your email subscriptions, visit:
https://lab.dpdk.org/results/dashboard/preferences/subscriptions/
next reply other threads:[~2025-02-08 11:17 UTC|newest]
Thread overview: 16+ messages / expand[flat|nested] mbox.gz Atom feed top
2025-02-08 11:17 dpdklab [this message]
-- strict thread matches above, loose matches on Subject: below --
2025-02-08 9:17 dpdklab
2025-02-08 9:15 dpdklab
2025-02-08 9:14 dpdklab
2025-02-08 8:04 dpdklab
2025-02-08 8:02 dpdklab
2025-02-08 7:54 dpdklab
2025-02-08 4:36 dpdklab
2025-02-08 4:32 dpdklab
2025-02-08 3:37 dpdklab
2025-02-08 3:28 dpdklab
2025-02-08 3:21 dpdklab
2025-02-08 2:48 dpdklab
2025-02-08 2:42 dpdklab
2025-02-08 2:29 dpdklab
2025-02-08 2:29 dpdklab
Reply instructions:
You may reply publicly to this message via plain-text email
using any one of the following methods:
* Save the following mbox file, import it into your mail client,
and reply-to-all from there: mbox
Avoid top-posting and favor interleaved quoting:
https://en.wikipedia.org/wiki/Posting_style#Interleaved_style
* Reply using the --to, --cc, and --in-reply-to
switches of git-send-email(1):
git send-email \
--in-reply-to=67a73d54.050a0220.1d268a.cedfSMTPIN_ADDED_MISSING@mx.google.com \
--to=dpdklab@iol.unh.edu \
--cc=dpdk-test-reports@iol.unh.edu \
--cc=test-report@dpdk.org \
/path/to/YOUR_REPLY
https://kernel.org/pub/software/scm/git/docs/git-send-email.html
* If your mail client supports setting the In-Reply-To header
via mailto: links, try the mailto: link
Be sure your reply has a Subject: header at the top and a blank line
before the message body.
This is a public inbox, see mirroring instructions
for how to clone and mirror all data and code used for this inbox;
as well as URLs for NNTP newsgroup(s).