From mboxrd@z Thu Jan 1 00:00:00 1970 Return-Path: Received: from mails.dpdk.org (mails.dpdk.org [217.70.189.124]) by inbox.dpdk.org (Postfix) with ESMTP id 6CCE8461C9 for ; Sat, 8 Feb 2025 12:29:04 +0100 (CET) Received: from mails.dpdk.org (localhost [127.0.0.1]) by mails.dpdk.org (Postfix) with ESMTP id 4395440280; Sat, 8 Feb 2025 12:29:04 +0100 (CET) Received: from mail-il1-f227.google.com (mail-il1-f227.google.com [209.85.166.227]) by mails.dpdk.org (Postfix) with ESMTP id 6CEE040279 for ; Sat, 8 Feb 2025 12:29:03 +0100 (CET) Received: by mail-il1-f227.google.com with SMTP id e9e14a558f8ab-3d04fc1ea14so26739485ab.2 for ; Sat, 08 Feb 2025 03:29:03 -0800 (PST) DKIM-Signature: v=1; a=rsa-sha256; c=relaxed/relaxed; d=iol.unh.edu; s=unh-iol; t=1739014142; x=1739618942; darn=dpdk.org; h=cc:to:from:subject:message-id:date:from:to:cc:subject:date :message-id:reply-to; bh=+9O5mHXvhDaHs+tJQ1+VNbrlNRLlzthPqKXeRTT7+lk=; b=e25afeG+2c0jxPiQtZln0FIaehmepGDFbgFHb9SyXOG1TsBhyUjM1YNVaRJgJHYHby a8wxdaK+xxQ0zhwunRsrVlCugdEcwz0khQ4c/wvG8NCoay2lUtTkgZhAGEWyCok9XRXe 5xea8DDH5FILq1Tnn/3kf6V3joz2ylxT1M/8M= X-Google-DKIM-Signature: v=1; a=rsa-sha256; c=relaxed/relaxed; d=1e100.net; s=20230601; t=1739014142; x=1739618942; h=cc:to:from:subject:message-id:date:x-gm-message-state:from:to:cc :subject:date:message-id:reply-to; bh=+9O5mHXvhDaHs+tJQ1+VNbrlNRLlzthPqKXeRTT7+lk=; b=IlkPV3WnMdipgiVuJ9lnsM1JPQpsNxthH2H3sG5zKcqVMXak37X/5g96tIUcvMIRvi 79gTsCzY1P7CupZ26dN527/2ucWD93N8dTHou8Q3JdLe4pVr+hPy8YrS25nAI+tomT9U EBz042L3wp7Z3IPR5BADwC04OcpNMDelAkjv3dfn3gEbx/5SAqEC95NATk34IvsVjbia dzQMyEs/H772BPoh6DLqNb9Hy9SNJx+q39n8+7J5N+TtNDCku7uK0twEiagGXi5e3x5Z ZjtZv6jXm6+de33IzkGW4R2hwH0ZFFOrh2M+t/hx+aNeG9a1P7Nx2YxwQOpLRAQJ1gc+ 36gg== X-Gm-Message-State: AOJu0YweP9JkIXzssHIAe0lKXvIb9C8g7QeJ0pHrBLKt47XVtj+O+OX3 ddagOqD7TRhEfErRCdylVxmn4Xq9IwV0Tn8DrXY4wUJGsDXePc65sonIbzKbMfdmFwDSRyELGuF AhJ4eM9y5NH3qWiX7EF1xHirPpfoyHYsk X-Gm-Gg: ASbGncs3nOoTlODapRTKlsFzgiv1DNfmEJq5bf5V70bpEpogUxL1CNMug9RPzKiD6HJ lFPScD+0ctMmuQ7hO+7eutMW3ubm8VUSA2mtElgPruQYjkVQfh06v8BbyFPaE1Sy6YBoqN+7+Cf KrRtxkjIGqRtePeZIhmLtpcS+MtpqHrEgVVx6WBPvPSjfA9GReE2HvOB/dEI/41oZXA931SYTnh c51Q0FiKzy0FpjYaNMrWE9UjdEkkjVvCIqi6upETWX4+jppsB2nYTNLSG2KSd21I+0gE475RsU2 BF9eJ2KhlVCcsHKpTtzhSftw0sSllA== X-Google-Smtp-Source: AGHT+IEqqIG/esbd3xABstAFKi8D74coKTFhucFA4zS3lsnLe4aDcD5sflGj6OjrmJW+qyA8e4qjFnW+ZRu5 X-Received: by 2002:a05:6e02:b29:b0:3d0:4e57:bbe3 with SMTP id e9e14a558f8ab-3d13dd0b28bmr50874325ab.4.1739014142702; Sat, 08 Feb 2025 03:29:02 -0800 (PST) Received: from postal.iol.unh.edu (postal.iol.unh.edu. [132.177.123.84]) by smtp-relay.gmail.com with ESMTPS id e9e14a558f8ab-3d05e919183sm3619495ab.33.2025.02.08.03.29.02 (version=TLS1_2 cipher=ECDHE-ECDSA-AES128-GCM-SHA256 bits=128/128); Sat, 08 Feb 2025 03:29:02 -0800 (PST) X-Relaying-Domain: iol.unh.edu Date: Sat, 08 Feb 2025 03:29:02 -0800 (PST) Message-ID: <67a73ffe.050a0220.d3497.1d7fSMTPIN_ADDED_MISSING@mx.google.com> Received: from [172.21.0.8] (unknown [172.18.0.240]) by postal.iol.unh.edu (Postfix) with ESMTP id E80656052471; Sat, 8 Feb 2025 06:28:31 -0500 (EST) Subject: |SUCCESS| [GIT MASTER] f2eea2f37a82bb73fb01d56350708f7d70e21379 From: dpdklab@iol.unh.edu To: Test Report Cc: dpdk-test-reports@iol.unh.edu, Xueming Li , Christian Ehrhardt , Kevin Traynor , Luca Boccassi Content-Type: text/plain X-BeenThere: test-report@dpdk.org X-Mailman-Version: 2.1.29 Precedence: list List-Id: automatic DPDK test reports List-Unsubscribe: , List-Archive: List-Post: List-Help: List-Subscribe: , Errors-To: test-report-bounces@dpdk.org _Testing PASS_ Branch: tags/v24.11 f2eea2f37a82bb73fb01d56350708f7d70e21379 --> testing pass Upstream job id: Generic-Unit-Test-DPDK#313142 Test environment and result as below: +-----------------------------+----------------+------------------------------+---------------------------+--------------+ | Environment | dpdk_unit_test | cryptodev_sw_snow3g_autotest | cryptodev_sw_zuc_autotest | lpm_autotest | +=============================+================+==============================+===========================+==============+ | 32-bit Ubuntu 22.04.4 (ARM) | PASS | SKIPPED | SKIPPED | SKIPPED | +-----------------------------+----------------+------------------------------+---------------------------+--------------+ | Debian 12 (arm) | PASS | PASS | PASS | SKIPPED | +-----------------------------+----------------+------------------------------+---------------------------+--------------+ | Debian 11 (Buster) (ARM) | PASS | SKIPPED | SKIPPED | SKIPPED | +-----------------------------+----------------+------------------------------+---------------------------+--------------+ | CentOS Stream 9 (ARM) | PASS | SKIPPED | SKIPPED | SKIPPED | +-----------------------------+----------------+------------------------------+---------------------------+--------------+ | Fedora 40 (ARM Clang) | PASS | SKIPPED | SKIPPED | SKIPPED | +-----------------------------+----------------+------------------------------+---------------------------+--------------+ | Fedora 41 (ARM) | PASS | SKIPPED | SKIPPED | SKIPPED | +-----------------------------+----------------+------------------------------+---------------------------+--------------+ | Fedora 40 (ARM) | PASS | SKIPPED | SKIPPED | SKIPPED | +-----------------------------+----------------+------------------------------+---------------------------+--------------+ | Ubuntu 20.04 (ARM) | PASS | SKIPPED | SKIPPED | SKIPPED | +-----------------------------+----------------+------------------------------+---------------------------+--------------+ | Fedora 41 (ARM Clang) | PASS | SKIPPED | SKIPPED | SKIPPED | +-----------------------------+----------------+------------------------------+---------------------------+--------------+ | RHEL9 (ARM) | PASS | SKIPPED | SKIPPED | SKIPPED | +-----------------------------+----------------+------------------------------+---------------------------+--------------+ | Ubuntu 22.04 (ARM) | PASS | SKIPPED | SKIPPED | SKIPPED | +-----------------------------+----------------+------------------------------+---------------------------+--------------+ | Ubuntu 24.04 (ARM) | PASS | SKIPPED | SKIPPED | SKIPPED | +-----------------------------+----------------+------------------------------+---------------------------+--------------+ | Ubuntu 20.04 ARM SVE | SKIPPED | SKIPPED | SKIPPED | PASS | +-----------------------------+----------------+------------------------------+---------------------------+--------------+ 32-bit Ubuntu 22.04.4 (ARM) Kernel: 5.15.83+ aarch64 Compiler: gcc (Ubuntu 11.4.0-1ubuntu1~22.04) 11.4.0 Debian 12 (arm) Kernel: Depends on container host Compiler: gcc (Debian 12.2.0-14) 12.2.0 Debian 11 (Buster) (ARM) Kernel: Depends on container host Compiler: gcc (Debian 10.2.1-6) 10.2.1 20210110 CentOS Stream 9 (ARM) Kernel: Depends on container host Compiler: gcc 11.5.0 20240719 (Red Hat 11.5.0-2) Fedora 40 (ARM Clang) Kernel: Depends on container host Compiler: clang 18.1.8 (Fedora 18.1.8-1.fc40) Fedora 41 (ARM) Kernel: Depends on container host Compiler: gcc 14.2.1 20240912 (Red Hat 14.2.1-3) Fedora 40 (ARM) Kernel: Depends on container host Compiler: gcc 14.2.1 20240912 (Red Hat 14.2.1-3) Ubuntu 20.04 (ARM) Kernel: Depends on container host Compiler: gcc (Ubuntu 9.4.0-1ubuntu1~20.04.2) 9.4.0 Fedora 41 (ARM Clang) Kernel: Depends on container host Compiler: clang 19.1.5 (Fedora 19.1.5-1.fc41) RHEL9 (ARM) Kernel: Depends on container host Compiler: gcc 11.5.0 20240719 (Red Hat 11.5.0-2) Ubuntu 22.04 (ARM) Kernel: Depends on container host Compiler: gcc (Ubuntu 11.4.0-1ubuntu1~22.04) 11.4.0 Ubuntu 24.04 (ARM) Kernel: Depends on container host Compiler: gcc (Ubuntu 13.3.0-6ubuntu2~24.04) 13.3.0 Ubuntu 20.04 ARM SVE Kernel: Depends on container host Compiler: gcc (Ubuntu 10.5.0-1ubuntu1~20.04) 10.5.0 To view detailed results, visit: https://lab.dpdk.org/results/dashboard/tarballs/32504/ UNH-IOL DPDK Community Lab To manage your email subscriptions, visit: https://lab.dpdk.org/results/dashboard/preferences/subscriptions/