From mboxrd@z Thu Jan 1 00:00:00 1970 Return-Path: Received: from mails.dpdk.org (mails.dpdk.org [217.70.189.124]) by inbox.dpdk.org (Postfix) with ESMTP id 3F365461C9 for ; Sat, 8 Feb 2025 12:52:51 +0100 (CET) Received: from mails.dpdk.org (localhost [127.0.0.1]) by mails.dpdk.org (Postfix) with ESMTP id 68EE540280; Sat, 8 Feb 2025 12:52:50 +0100 (CET) Received: from mail-qt1-f227.google.com (mail-qt1-f227.google.com [209.85.160.227]) by mails.dpdk.org (Postfix) with ESMTP id 8580440279 for ; Sat, 8 Feb 2025 12:52:49 +0100 (CET) Received: by mail-qt1-f227.google.com with SMTP id d75a77b69052e-467a3f1e667so18239011cf.0 for ; Sat, 08 Feb 2025 03:52:49 -0800 (PST) DKIM-Signature: v=1; a=rsa-sha256; c=relaxed/relaxed; d=iol.unh.edu; s=unh-iol; t=1739015569; x=1739620369; darn=dpdk.org; h=cc:to:from:subject:message-id:date:from:to:cc:subject:date :message-id:reply-to; bh=ZPny/XHxDYaLtQDJk3l+W5BbqAXpEaVoLtHH/iBTqf0=; b=SzrConqdK1khVRcWISb4o0+YHp8C40SbBEw+WSkpy5tYDIKfJf6Epciz2fLGNm/I/h dmTSySgIKnhcCwNR1VZ3Ex7NKZGO4wkCAvSOvEZj5n087I2aP+U1qiuHLXs0zZR5bgqg wbFZe3im4QE/tRlyNI6hOb6C64FoucsadpIcA= X-Google-DKIM-Signature: v=1; a=rsa-sha256; c=relaxed/relaxed; d=1e100.net; s=20230601; t=1739015569; x=1739620369; h=cc:to:from:subject:message-id:date:x-gm-message-state:from:to:cc :subject:date:message-id:reply-to; bh=ZPny/XHxDYaLtQDJk3l+W5BbqAXpEaVoLtHH/iBTqf0=; b=bFOBrSxz9wenXkz7ZedoBs2FKpHL0B1zwBXOzIDcxRwBOyR/ibpR3iqDRG/VCyLVd9 jigigetVELuq0ztcgLdm2qARvIvFgGFlEnGa0PXkWeAurTFIh09qGzujgzSLpixllKdX dxf+r0Ediom3BqrDLCi04RUTxdkc4KoX8olyANFckPA2livRb7534DhK5CJBh0Io52fT E7nKX0uqzdahL3Pl1Y5Ehezs9cX+mVTXKnif8W43cLm4GjdFzdRyl4pdFp+ynwDNSiW+ 8l516wZSBeIcUiyRYgUt0C5Jj02o/+DEcpZz0asFO66ukzxznyBVs2nwYaXO3patSzHy 1+lA== X-Gm-Message-State: AOJu0YyQNkl6UBLfgJ+wKrgAMMRYFx/9p0dXg+pvvsfje96/joZqhUHI 0f5zxhw7/tgeTLl6NnDtlDPmYW3zgFORmcngGXvOeKBmphlV65+CYA8lCfqLtPPHj6+PQuTLIHa UJKHlilBwbqRlDY43cSTwNqsk5QTy1KRZgCm7j+0S X-Gm-Gg: ASbGncvUNVSUF+rWCdMUQLCIQN4Ggufb0uY0mzap4xQqUCqrDy4ki9W0HOw5sT118Ll EojCjvQ0jagAhwx3C9BYoYprNpNAKkBceSJ5gmUb4ZSX8TGqq0JyC3bPbJdhwAzGbVnb2QEJaQ8 7XaieClqsSXXyuIJKNveKyYUMyKbVVQCsorkR4hSzmss9Fu4D3PaI2/nA6Nj7BbcP9wxT0aXLAB Wamd7xmELKWduF4xsjkM/ZMvAZ7VYeZSX4Yz6EpzA/jorFl+NdSXkaRds0i2v+i/vN1ecTKFQHQ fL8vSrYNxWHuRlo6M3foUO3xArT4ew== X-Google-Smtp-Source: AGHT+IHbnrQS5gPafz1WEAqbDLdJB/217K0DThBTTomnyPivlrBXYAo4KwaOIpyjTLRM9JmmEjtHNZKP8McZ X-Received: by 2002:a05:6214:4108:b0:6e4:2962:6d04 with SMTP id 6a1803df08f44-6e4456d76acmr107175356d6.34.1739015568842; Sat, 08 Feb 2025 03:52:48 -0800 (PST) Received: from postal.iol.unh.edu (postal.iol.unh.edu. [132.177.123.84]) by smtp-relay.gmail.com with ESMTPS id 6a1803df08f44-6e43baee2a4sm3210416d6.47.2025.02.08.03.52.48 (version=TLS1_2 cipher=ECDHE-ECDSA-AES128-GCM-SHA256 bits=128/128); Sat, 08 Feb 2025 03:52:48 -0800 (PST) X-Relaying-Domain: iol.unh.edu Date: Sat, 08 Feb 2025 03:52:48 -0800 (PST) Message-ID: <67a74590.050a0220.3af682.16e0SMTPIN_ADDED_MISSING@mx.google.com> Received: from [172.21.0.5] (unknown [172.18.0.240]) by postal.iol.unh.edu (Postfix) with ESMTP id 8396E6052471; Sat, 8 Feb 2025 06:52:48 -0500 (EST) Subject: |WARNING| [GIT MASTER] e595e7b5758fc73d99b810f5a8748f94bd467084 From: dpdklab@iol.unh.edu To: Test Report Cc: dpdk-test-reports@iol.unh.edu, Stephen Hemminger Content-Type: text/plain X-BeenThere: test-report@dpdk.org X-Mailman-Version: 2.1.29 Precedence: list List-Id: automatic DPDK test reports List-Unsubscribe: , List-Archive: List-Post: List-Help: List-Subscribe: , Errors-To: test-report-bounces@dpdk.org _Testing issues_ Branch: dpdk-next-net e595e7b5758fc73d99b810f5a8748f94bd467084 --> testing issues Upstream job id: ACVP-FIPS-testing#8809 Test environment and result as below: +--------------------+----------------------+----------------------+ | Environment | compressdev_zlib_pmd | dpdk_fips_validation | +====================+======================+======================+ | Ubuntu 22.04 (ARM) | PASS | SKIPPED | +--------------------+----------------------+----------------------+ | Ubuntu 22.04 | PASS | SKIPPED | +--------------------+----------------------+----------------------+ | Ubuntu 20.04 | SKIPPED | WARN | +--------------------+----------------------+----------------------+ ==== 20 line log output for Ubuntu 20.04 (dpdk_fips_validation): ==== INFO:root:Fetching verdict... INFO:root:Downloading verdict for vector set 2879292 INFO:root:Vector set verdict not ready, waiting 30 seconds... INFO:root:Vector set verdict not ready, waiting 30 seconds... INFO:root:Vector set verdict not ready, waiting 30 seconds... INFO:root:Done INFO:root:Using response file... INFO:root:Uploading response file... INFO:root:Fetching verdict... INFO:root:Downloading verdict for vector set 2879293 INFO:root:Vector set verdict not ready, waiting 30 seconds... INFO:root:Vector set verdict not ready, waiting 30 seconds... INFO:root:Done INFO:root:Using response file... INFO:root:Uploading response file... INFO:root:Fetching verdict... INFO:root:Downloading verdict for vector set 2879294 INFO:root:Vector set verdict not ready, waiting 30 seconds... INFO:root:Vector set verdict not ready, waiting 30 seconds... INFO:root:Done ==== End log output ==== Ubuntu 22.04 (ARM) Kernel: 5.15.0-97-generic Compiler: gcc gcc (Ubuntu 11.4.0-1ubuntu1~22.04) 11.4.0 Ubuntu 22.04 Kernel: 5.15.0-100-generic Compiler: gcc gcc (Ubuntu 11.4.0-1ubuntu1~22.04) 11.4.0 Ubuntu 20.04 Kernel: Depends on container host Compiler: gcc (Ubuntu 9.4.0-1ubuntu1~20.04.2) 9.4.0 To view detailed results, visit: https://lab.dpdk.org/results/dashboard/tarballs/32469/ UNH-IOL DPDK Community Lab To manage your email subscriptions, visit: https://lab.dpdk.org/results/dashboard/preferences/subscriptions/