From mboxrd@z Thu Jan 1 00:00:00 1970 Return-Path: Received: from mails.dpdk.org (mails.dpdk.org [217.70.189.124]) by inbox.dpdk.org (Postfix) with ESMTP id 8F8C1461C9 for ; Sat, 8 Feb 2025 13:24:08 +0100 (CET) Received: from mails.dpdk.org (localhost [127.0.0.1]) by mails.dpdk.org (Postfix) with ESMTP id 8933740280; Sat, 8 Feb 2025 13:24:08 +0100 (CET) Received: from mail-oa1-f97.google.com (mail-oa1-f97.google.com [209.85.160.97]) by mails.dpdk.org (Postfix) with ESMTP id 0612340279 for ; Sat, 8 Feb 2025 13:24:08 +0100 (CET) Received: by mail-oa1-f97.google.com with SMTP id 586e51a60fabf-2a8690dcb35so902974fac.3 for ; Sat, 08 Feb 2025 04:24:07 -0800 (PST) DKIM-Signature: v=1; a=rsa-sha256; c=relaxed/relaxed; d=iol.unh.edu; s=unh-iol; t=1739017447; x=1739622247; darn=dpdk.org; h=cc:to:from:subject:message-id:date:from:to:cc:subject:date :message-id:reply-to; bh=P6ANr/DyN0PA+JJAQ/UoSmtXFuI3+KLMOYy26SpAnno=; b=N6YgVFLdX6tFMTgn/uPHwGX5+kxGEK1MIbjnx4Ahw1gsgEvTV1Ud/t8QQ6wQrVial3 9k5G9Yv72rgvjIlRPiUmllAxD4LuM9hPQLjsdXvRwcV+XG69pa90++ZOiVnNBF9FakIr IxHIh0IjSwjo+xfvPPs4TwxTzxCRMaLnMbox8= X-Google-DKIM-Signature: v=1; a=rsa-sha256; c=relaxed/relaxed; d=1e100.net; s=20230601; t=1739017447; x=1739622247; h=cc:to:from:subject:message-id:date:x-gm-message-state:from:to:cc :subject:date:message-id:reply-to; bh=P6ANr/DyN0PA+JJAQ/UoSmtXFuI3+KLMOYy26SpAnno=; b=wXx/hTUphi81GrVZAA97udhZ0jDTGVUCqv9uJfUfT/x9nXZdUOioUVOcy/zs+Vx2J1 OdPPzvyDvX8w50Dh22AucfX+uMprG/4OvZ58juKQy0qeZYO+5Y8KxrAroAkqG5cfq91e GNqWY07I1f7httuBLrk7l5EbnCkiRtGR/bTNQNkD11ZpthQB87AKkJwpmmMpgLp4PZfF ZhEN1mTbH8vKGq6ZF6nKwF5TaBs4ydnVt3q4vFhiYiAJBnRJxaWCrTtJ6hjR0q7TlggI VYqrmrh9fA4VX6gtURliEPT9WJ2eVO5uJ0yOUEf2o2NCZsgvYnuyfY4spv1lBA1HLHmU o++Q== X-Gm-Message-State: AOJu0YxZtIUrsmMIQGXnn900WC86cuPm0dpwBXac98cgRcfClyYGxZBs 9H8/LeTzF2PzzJzYm3cBc4EuKDZ9k49Ndsnvssl0ECCc4akb19+QyPIsjb7agHn+d0hpTIlrGwC +sJFJWHzgqgSCY1+9cjISZ42Dww2T63ls X-Gm-Gg: ASbGncvCuNTFbYmSwxsEs2MGUGxK6UsAOT3nNZHzmqLHfrJ5imsy3VJar3Y95GPzcEy ljKgbufj/rgzmAEujVXmtYDqY9gZ8Ndnnh/vCorAdU3ys3HCFl3i/ddwUMHDflgQvLUuQ1JKevj YD7WSTCoqKKqJ9nwrhpw01pP6CNu7HDTVC8d0PaChZ4l/MCIFbjydGA1ZcGA00oG2QWjW1sHJp/ TgNPo6BWHnZwAknJ3KxIiDD0768fu0W8G0rt8CUMBwn0rOhRWoxi5nVNykrLnvy5t6FzlWg/c83 S16tHw7mNwP8+RATYPb2Y2XTf2ns9w== X-Google-Smtp-Source: AGHT+IHszWmOSNAuwXMzq1GXuVkjh00G5ylvuPGd5HUnsyaN/vH1z80uiLKwpwLyV46sIbFrIDUU/0MvHtLX X-Received: by 2002:a05:6871:50c4:b0:29e:37af:c2d7 with SMTP id 586e51a60fabf-2b83ec776c6mr3890667fac.16.1739017447064; Sat, 08 Feb 2025 04:24:07 -0800 (PST) Received: from postal.iol.unh.edu (postal.iol.unh.edu. [132.177.123.84]) by smtp-relay.gmail.com with ESMTPS id 586e51a60fabf-2b825e3c602sm288846fac.7.2025.02.08.04.24.06 (version=TLS1_2 cipher=ECDHE-ECDSA-AES128-GCM-SHA256 bits=128/128); Sat, 08 Feb 2025 04:24:07 -0800 (PST) X-Relaying-Domain: iol.unh.edu Date: Sat, 08 Feb 2025 04:24:07 -0800 (PST) Message-ID: <67a74ce7.050a0220.2eebeb.f3d4SMTPIN_ADDED_MISSING@mx.google.com> Received: from [172.21.0.5] (unknown [172.18.0.240]) by postal.iol.unh.edu (Postfix) with ESMTP id 35DC46052472; Sat, 8 Feb 2025 07:24:05 -0500 (EST) Subject: |SUCCESS| [GIT MASTER] 7ce7d3341d7e21c2a81f2fea8e451681d7306d77 From: dpdklab@iol.unh.edu To: Test Report Cc: dpdk-test-reports@iol.unh.edu, Xueming Li , Christian Ehrhardt , Kevin Traynor , Luca Boccassi Content-Type: text/plain X-BeenThere: test-report@dpdk.org X-Mailman-Version: 2.1.29 Precedence: list List-Id: automatic DPDK test reports List-Unsubscribe: , List-Archive: List-Post: List-Help: List-Subscribe: , Errors-To: test-report-bounces@dpdk.org _Testing PASS_ Branch: tags/v22.11 7ce7d3341d7e21c2a81f2fea8e451681d7306d77 --> testing pass Upstream job id: Generic-DPDK-Compile-ABI#115451 Test environment and result as below: +-------------------+----------+ | Environment | abi_test | +===================+==========+ | Fedora 41 (Clang) | PASS | +-------------------+----------+ | RHEL8 | PASS | +-------------------+----------+ | Ubuntu 24.04 | PASS | +-------------------+----------+ | CentOS Stream 9 | PASS | +-------------------+----------+ | Debian Bullseye | PASS | +-------------------+----------+ | Debian 12 | PASS | +-------------------+----------+ | Fedora 40 (Clang) | PASS | +-------------------+----------+ | Fedora 40 | PASS | +-------------------+----------+ | openSUSE Leap 15 | PASS | +-------------------+----------+ | Fedora 41 | PASS | +-------------------+----------+ | RHEL9 | PASS | +-------------------+----------+ | Ubuntu 22.04 | PASS | +-------------------+----------+ Fedora 41 (Clang) Kernel: Depends on container host Compiler: clang 19.1.5 (Fedora 19.1.5-1.fc41) RHEL8 Kernel: Depends on container host Compiler: gcc 8.5.0 20210514 (Red Hat 8.5.0-22) Ubuntu 24.04 Kernel: Depends on container host Compiler: gcc (Ubuntu 13.3.0-6ubuntu2~24.04) 13.3.0 CentOS Stream 9 Kernel: Depends on container host Compiler: gcc 11.5.0 20240719 (Red Hat 11.5.0-2) Debian Bullseye Kernel: Depends on container host Compiler: gcc (Debian 10.2.1-6) 10.2.1 20210110 Debian 12 Kernel: Depends on container host Compiler: gcc (Debian 12.2.0-14) 12.2.0 Fedora 40 (Clang) Kernel: Depends on container host Compiler: clang 18.1.8 (Fedora 18.1.8-1.fc40) Fedora 40 Kernel: Depends on container host Compiler: gcc 14.2.1 20240912 (Red Hat 14.2.1-3) openSUSE Leap 15 Kernel: Depends on container host Compiler: gcc (SUSE Linux) 7.5.0 Fedora 41 Kernel: Depends on container host Compiler: gcc 14.2.1 20240912 (Red Hat 14.2.1-3) RHEL9 Kernel: Depends on container host Compiler: gcc 11.5.0 20240719 (Red Hat 11.5.0-2) Ubuntu 22.04 Kernel: Depends on container host Compiler: gcc (Ubuntu 11.4.0-1ubuntu1~22.04) 11.4.0 To view detailed results, visit: https://lab.dpdk.org/results/dashboard/tarballs/32506/ UNH-IOL DPDK Community Lab To manage your email subscriptions, visit: https://lab.dpdk.org/results/dashboard/preferences/subscriptions/