From mboxrd@z Thu Jan 1 00:00:00 1970 Return-Path: Received: from mails.dpdk.org (mails.dpdk.org [217.70.189.124]) by inbox.dpdk.org (Postfix) with ESMTP id 3BEC8461C9 for ; Sat, 8 Feb 2025 13:42:50 +0100 (CET) Received: from mails.dpdk.org (localhost [127.0.0.1]) by mails.dpdk.org (Postfix) with ESMTP id 659A740280; Sat, 8 Feb 2025 13:42:49 +0100 (CET) Received: from mail-io1-f97.google.com (mail-io1-f97.google.com [209.85.166.97]) by mails.dpdk.org (Postfix) with ESMTP id A2D7F40279 for ; Sat, 8 Feb 2025 13:42:48 +0100 (CET) Received: by mail-io1-f97.google.com with SMTP id ca18e2360f4ac-844eb33827eso94205839f.2 for ; Sat, 08 Feb 2025 04:42:48 -0800 (PST) DKIM-Signature: v=1; a=rsa-sha256; c=relaxed/relaxed; d=iol.unh.edu; s=unh-iol; t=1739018568; x=1739623368; darn=dpdk.org; h=cc:to:from:subject:message-id:date:from:to:cc:subject:date :message-id:reply-to; bh=QI1wshxTa7ZzGKNli96PquJjSJShF5y3LDcD27PRUfA=; b=jr/psuJqaKrUzE7jHLumKIXpmhGTYuviDEjw9F5v7hNjYzZXQCb7YmZGLGNXvtbkAU mhEiPJVY/nbwV/UOhwmbytFhOYayg2WRPFuItFwdu5Z++YhX99hlfbIZLKnz8VxofQUx +1V6VfdS8vFulfI9/rZaPPfZMVY1kM6pho47Y= X-Google-DKIM-Signature: v=1; a=rsa-sha256; c=relaxed/relaxed; d=1e100.net; s=20230601; t=1739018568; x=1739623368; h=cc:to:from:subject:message-id:date:x-gm-message-state:from:to:cc :subject:date:message-id:reply-to; bh=QI1wshxTa7ZzGKNli96PquJjSJShF5y3LDcD27PRUfA=; b=MT51/Jqwn/Kl89LQBk9OiLXB1uzYCXbjRHG0G5D2fyvTtt8GTMb2kRKRc1tDFzEdNI iVb4Fa1wNp0poBgPhg3qx5McMjcn8PvrrzASB8qFmfbtCj4LlvNkewj6Sj1cSTsboTTG heVCL+gI7ajDm+aXFBBXxVMME4l4tU8Im3yRpdj5UR6IGq/G6cytYXRYrzF9X/QivCGO UcrIknEaNQjPQAcGcmtI7KPDDLQDc3nFLBZIujQ9wEJTI7XvK2Yl4iUzUQ0IusK8KlNZ hpFHRfymwwrjPN9yGmuYtjKx1auRJUF/2yFyjvqpY0CfpVzFy60lwaAQrYB+ibwIM3Ev ss6g== X-Gm-Message-State: AOJu0Yw845no0aALCjaRXRBXdT8OagphJTIZVMEEC+xk7voi9RH+3PDR y5zvYQmgeNWiQkkoEndE2fxgKa6znPLu3N2fOz+0/lWj/jCpLuLr0oetc+iSScBG07FNd16oLw1 eWnKRWi8dj0UKAO6kafunOUqv/Xl3KNVn X-Gm-Gg: ASbGnctoOlLyHS3lf6fmBcc9p65DxmQ7khu/T0IWhmnBQbp5RmqxkNZWgBb+iCHfasm eKerHK8wysCmimgThT7OX8orSRAo+FaTRVbcgyVJQvMN4e4wHlhp+P0xdAlI0XIIpgjeT4oasVB Z1GlsffGsHTHa6rQ2y3u5dr/GnLSkZUCZwWfHc7ROthj5yWhraZIB5y7Cw8hrC6bForV4ktBRBh 2qgIfhiSXtIqEWCH18V0K50gCu+DbPG1WT9EAClgumo1Sxpx4UnWJeJ/dgT8HeqN018pVjNRuns xXbtvoEDCqX4xn96EPJ6xUrQdCst8Q== X-Google-Smtp-Source: AGHT+IGnTfnUiepIq2jR4779hDl8CCs0hqQJ79g10KK57Ip74ttkrqfCzJR/y6WgLV7NbToiCdfDr0/fTVEw X-Received: by 2002:a05:6602:4c06:b0:843:e667:f198 with SMTP id ca18e2360f4ac-854fd8866dcmr623987739f.2.1739018568004; Sat, 08 Feb 2025 04:42:48 -0800 (PST) Received: from postal.iol.unh.edu (postal.iol.unh.edu. [132.177.123.84]) by smtp-relay.gmail.com with ESMTPS id 8926c6da1cb9f-4eccf9aa0e1sm346383173.13.2025.02.08.04.42.47 (version=TLS1_2 cipher=ECDHE-ECDSA-AES128-GCM-SHA256 bits=128/128); Sat, 08 Feb 2025 04:42:47 -0800 (PST) X-Relaying-Domain: iol.unh.edu Date: Sat, 08 Feb 2025 04:42:47 -0800 (PST) Message-ID: <67a75147.050a0220.2acbc2.177cSMTPIN_ADDED_MISSING@mx.google.com> Received: from [172.21.0.5] (unknown [172.18.0.240]) by postal.iol.unh.edu (Postfix) with ESMTP id 7B5DC6052471; Sat, 8 Feb 2025 07:42:47 -0500 (EST) Subject: |SUCCESS| [GIT MASTER] c66daa12e76d7b4912cfb7109a761856a7a873ab From: dpdklab@iol.unh.edu To: Test Report Cc: dpdk-test-reports@iol.unh.edu, Xueming Li , Christian Ehrhardt , Kevin Traynor , Luca Boccassi Content-Type: text/plain X-BeenThere: test-report@dpdk.org X-Mailman-Version: 2.1.29 Precedence: list List-Id: automatic DPDK test reports List-Unsubscribe: , List-Archive: List-Post: List-Help: List-Subscribe: , Errors-To: test-report-bounces@dpdk.org _Testing PASS_ Branch: tags/v23.11 c66daa12e76d7b4912cfb7109a761856a7a873ab --> testing pass Upstream job id: Generic-Unit-Test-DPDK#313185 Test environment and result as below: +-----------------------------+----------------+--------------+---------------------------+------------------------------+ | Environment | dpdk_unit_test | lpm_autotest | cryptodev_sw_zuc_autotest | cryptodev_sw_snow3g_autotest | +=============================+================+==============+===========================+==============================+ | CentOS Stream 9 (ARM) | PASS | SKIPPED | SKIPPED | SKIPPED | +-----------------------------+----------------+--------------+---------------------------+------------------------------+ | Debian 11 (Buster) (ARM) | PASS | SKIPPED | SKIPPED | SKIPPED | +-----------------------------+----------------+--------------+---------------------------+------------------------------+ | Fedora 41 (ARM) | PASS | SKIPPED | SKIPPED | SKIPPED | +-----------------------------+----------------+--------------+---------------------------+------------------------------+ | Fedora 40 (ARM Clang) | PASS | SKIPPED | SKIPPED | SKIPPED | +-----------------------------+----------------+--------------+---------------------------+------------------------------+ | Fedora 41 (ARM Clang) | PASS | SKIPPED | SKIPPED | SKIPPED | +-----------------------------+----------------+--------------+---------------------------+------------------------------+ | Fedora 40 (ARM) | PASS | SKIPPED | SKIPPED | SKIPPED | +-----------------------------+----------------+--------------+---------------------------+------------------------------+ | Debian 12 (arm) | PASS | SKIPPED | PASS | PASS | +-----------------------------+----------------+--------------+---------------------------+------------------------------+ | Ubuntu 24.04 (ARM) | PASS | SKIPPED | SKIPPED | SKIPPED | +-----------------------------+----------------+--------------+---------------------------+------------------------------+ | RHEL9 (ARM) | PASS | SKIPPED | SKIPPED | SKIPPED | +-----------------------------+----------------+--------------+---------------------------+------------------------------+ | Ubuntu 22.04 (ARM) | PASS | SKIPPED | SKIPPED | SKIPPED | +-----------------------------+----------------+--------------+---------------------------+------------------------------+ | Ubuntu 20.04 (ARM) | PASS | SKIPPED | SKIPPED | SKIPPED | +-----------------------------+----------------+--------------+---------------------------+------------------------------+ | 32-bit Ubuntu 22.04.4 (ARM) | PASS | SKIPPED | SKIPPED | SKIPPED | +-----------------------------+----------------+--------------+---------------------------+------------------------------+ | Ubuntu 20.04 ARM SVE | SKIPPED | PASS | SKIPPED | SKIPPED | +-----------------------------+----------------+--------------+---------------------------+------------------------------+ CentOS Stream 9 (ARM) Kernel: Depends on container host Compiler: gcc 11.5.0 20240719 (Red Hat 11.5.0-2) Debian 11 (Buster) (ARM) Kernel: Depends on container host Compiler: gcc (Debian 10.2.1-6) 10.2.1 20210110 Fedora 41 (ARM) Kernel: Depends on container host Compiler: gcc 14.2.1 20240912 (Red Hat 14.2.1-3) Fedora 40 (ARM Clang) Kernel: Depends on container host Compiler: clang 18.1.8 (Fedora 18.1.8-1.fc40) Fedora 41 (ARM Clang) Kernel: Depends on container host Compiler: clang 19.1.5 (Fedora 19.1.5-1.fc41) Fedora 40 (ARM) Kernel: Depends on container host Compiler: gcc 14.2.1 20240912 (Red Hat 14.2.1-3) Debian 12 (arm) Kernel: Depends on container host Compiler: gcc (Debian 12.2.0-14) 12.2.0 Ubuntu 24.04 (ARM) Kernel: Depends on container host Compiler: gcc (Ubuntu 13.3.0-6ubuntu2~24.04) 13.3.0 RHEL9 (ARM) Kernel: Depends on container host Compiler: gcc 11.5.0 20240719 (Red Hat 11.5.0-2) Ubuntu 22.04 (ARM) Kernel: Depends on container host Compiler: gcc (Ubuntu 11.4.0-1ubuntu1~22.04) 11.4.0 Ubuntu 20.04 (ARM) Kernel: Depends on container host Compiler: gcc (Ubuntu 9.4.0-1ubuntu1~20.04.2) 9.4.0 32-bit Ubuntu 22.04.4 (ARM) Kernel: 5.15.83+ aarch64 Compiler: gcc (Ubuntu 11.4.0-1ubuntu1~22.04) 11.4.0 Ubuntu 20.04 ARM SVE Kernel: Depends on container host Compiler: gcc (Ubuntu 10.5.0-1ubuntu1~20.04) 10.5.0 To view detailed results, visit: https://lab.dpdk.org/results/dashboard/tarballs/32505/ UNH-IOL DPDK Community Lab To manage your email subscriptions, visit: https://lab.dpdk.org/results/dashboard/preferences/subscriptions/