automatic DPDK test reports
 help / color / mirror / Atom feed
From: dpdklab@iol.unh.edu
To: Test Report <test-report@dpdk.org>
Cc: dpdk-test-reports@iol.unh.edu
Subject: |SUCCESS| pw151183 [PATCH] drivers: allow build with VLAs
Date: Sat, 08 Feb 2025 05:10:39 -0800 (PST)	[thread overview]
Message-ID: <67a757cf.170a0220.adf62.2026SMTPIN_ADDED_MISSING@mx.google.com> (raw)
In-Reply-To: <20250208092839.1238770-1-thomas@monjalon.net>

Test-Label: iol-compile-amd64-testing
Test-Status: SUCCESS
http://dpdk.org/patch/151183

_Testing PASS_

Submitter: Thomas Monjalon <thomas@monjalon.net>
Date: Saturday, February 08 2025 09:28:38 
DPDK git baseline: Repo:dpdk
  Branch: master
  CommitID:3553897d84d8b54a1b1136cbf04dd7f1a40fd85b

151183 --> testing pass

Upstream job id: Generic-VM-DPDK-Compile-Meson#33170

Test environment and result as below:

+---------------------+-------------------------+-------------------+--------------------+----------------------+
|     Environment     | dpdk_llvm_clang_compile | dpdk_msvc_compile | dpdk_meson_compile | dpdk_mingw64_compile |
+=====================+=========================+===================+====================+======================+
| Windows Server 2022 | PASS                    | PASS              | SKIPPED            | PASS                 |
+---------------------+-------------------------+-------------------+--------------------+----------------------+
| FreeBSD 13.4        | SKIPPED                 | SKIPPED           | PASS               | SKIPPED              |
+---------------------+-------------------------+-------------------+--------------------+----------------------+
| FreeBSD 14.2        | SKIPPED                 | SKIPPED           | PASS               | SKIPPED              |
+---------------------+-------------------------+-------------------+--------------------+----------------------+


Windows Server 2022
	Kernel: 10.0.20348.2031
	Compiler: clang 15.0.7, gcc 14.1.0 (MinGW), and MSVC VS 19.39.33521

FreeBSD 13.4
	Kernel: 13.4-RELEASE-p1
	Compiler: clang 18.1.6

FreeBSD 14.2
	Kernel: 14.2-RELEASE
	Compiler: clang 18.1.6

To view detailed results, visit:
https://lab.dpdk.org/results/dashboard/patchsets/32536/

UNH-IOL DPDK Community Lab

To manage your email subscriptions, visit: 
https://lab.dpdk.org/results/dashboard/preferences/subscriptions/

  parent reply	other threads:[~2025-02-08 13:10 UTC|newest]

Thread overview: 12+ messages / expand[flat|nested]  mbox.gz  Atom feed  top
     [not found] <20250208092839.1238770-1-thomas@monjalon.net>
2025-02-08  9:00 ` |WARNING| " qemudev
2025-02-08  9:28 ` |SUCCESS| " checkpatch
2025-02-08 10:25 ` 0-day Robot
2025-02-08 12:10 ` dpdklab
2025-02-08 12:18 ` dpdklab
2025-02-08 12:22 ` dpdklab
2025-02-08 12:27 ` dpdklab
2025-02-08 12:35 ` dpdklab
2025-02-08 12:37 ` |PENDING| " dpdklab
2025-02-08 13:03 ` dpdklab
2025-02-08 13:10 ` dpdklab [this message]
2025-02-08 15:58 ` dpdklab

Reply instructions:

You may reply publicly to this message via plain-text email
using any one of the following methods:

* Save the following mbox file, import it into your mail client,
  and reply-to-all from there: mbox

  Avoid top-posting and favor interleaved quoting:
  https://en.wikipedia.org/wiki/Posting_style#Interleaved_style

* Reply using the --to, --cc, and --in-reply-to
  switches of git-send-email(1):

  git send-email \
    --in-reply-to=67a757cf.170a0220.adf62.2026SMTPIN_ADDED_MISSING@mx.google.com \
    --to=dpdklab@iol.unh.edu \
    --cc=dpdk-test-reports@iol.unh.edu \
    --cc=test-report@dpdk.org \
    /path/to/YOUR_REPLY

  https://kernel.org/pub/software/scm/git/docs/git-send-email.html

* If your mail client supports setting the In-Reply-To header
  via mailto: links, try the mailto: link
Be sure your reply has a Subject: header at the top and a blank line before the message body.
This is a public inbox, see mirroring instructions
for how to clone and mirror all data and code used for this inbox;
as well as URLs for NNTP newsgroup(s).