From mboxrd@z Thu Jan 1 00:00:00 1970 Return-Path: Received: from mails.dpdk.org (mails.dpdk.org [217.70.189.124]) by inbox.dpdk.org (Postfix) with ESMTP id 5024C461CA for ; Sat, 8 Feb 2025 14:21:04 +0100 (CET) Received: from mails.dpdk.org (localhost [127.0.0.1]) by mails.dpdk.org (Postfix) with ESMTP id 289C240280; Sat, 8 Feb 2025 14:21:04 +0100 (CET) Received: from mail-oa1-f97.google.com (mail-oa1-f97.google.com [209.85.160.97]) by mails.dpdk.org (Postfix) with ESMTP id 5694040279 for ; Sat, 8 Feb 2025 14:21:02 +0100 (CET) Received: by mail-oa1-f97.google.com with SMTP id 586e51a60fabf-2a01bcd0143so2113223fac.2 for ; Sat, 08 Feb 2025 05:21:02 -0800 (PST) DKIM-Signature: v=1; a=rsa-sha256; c=relaxed/relaxed; d=iol.unh.edu; s=unh-iol; t=1739020861; x=1739625661; darn=dpdk.org; h=cc:to:from:subject:message-id:date:from:to:cc:subject:date :message-id:reply-to; bh=tnoJUIgQC6t1ytGd0rYvVK5BzmOLjZAFB2tFdGtG8mE=; b=IQWdQ6Y2nIjqO/ubmlF0xMeePmRDeVYnee8i/tPY5jrNlYNkp/fqY94dkpiQpoeDFk rBpweReLsb3t++wvmvnJI9CHzewi7sKn12ovFsq0I7BawC4/yubym1pPVJq2bIk6BJCl wQYQMkvw1GghIdsx0qilx+Qf4bPhTmVBLPzx4= X-Google-DKIM-Signature: v=1; a=rsa-sha256; c=relaxed/relaxed; d=1e100.net; s=20230601; t=1739020861; x=1739625661; h=cc:to:from:subject:message-id:date:x-gm-message-state:from:to:cc :subject:date:message-id:reply-to; bh=tnoJUIgQC6t1ytGd0rYvVK5BzmOLjZAFB2tFdGtG8mE=; b=OsvTDWRFL/YSUjwrjQ+0rBmSZCmzsfpIDaOE98zb3gUBZ7bkSsG2FhwDg/MrtjGIsl nDfWEY9SAiJJUAh8hKT0KYssA+DHKLzCFqy45itj0JbyY93BzH1VOHJKQFjr9G4pxxK3 mlHk2JzirN2tNwEBqUc+4Y1MmzPd86jM14oko2a/9dRtrHy2WHqMml8byRzjHpho53xO g9vakN9OtTKMVAvMMVtROwJ2IhZWQhN1hbFJUckmPTiixFjNAMHcVPqojw6z2TEX/YGz vuDNIgRLmkHeKXTTbk/W22uHLmaAJw4CKCLLMAJwWiARDnBGh2+q02AQyFXA2E5SFRHm h/GA== X-Gm-Message-State: AOJu0YyL2gO7eNdhRPrL7C11ht8pFqu6dI/pvKJX6JhXKFf8jyoWP7Vg 2uxuBcRO+CEWkln+/ewA0URlH8G7wwil4KmRFOwsofs4cflqL4bHx/bdWNJ8UdSTiLx5bC0spWX g2JA5igfRb5BEfAQoZJHsZm/nlI18CfVc X-Gm-Gg: ASbGncs0NGmZtjbbvLeNHEi1spWHjU0zlGdoYlny3+4uBQ9w0seFk9PyOQKNpRg8zq3 BqR7Ir4s1QurcFIY0bIrunkTpPOSOwc98GA09ZKCnRojz5Rh1GEG0ki4qNrVMeG73hK3ANEua5u JnUGsjUkEsxozfLWeWrOds7FLPejQMSxK0K8Uatr75l27Ulr5YsiaG9UvV9AR00wltXjBKEK2wt pfocxGEOXKfG8KKYrj+8exJj7iHL3SsD5P17knud3n9ua8NQ+dwbyVvW7YEEuzSObDRnQCkA4Dp BYULo2uyzsXkOBpwz9RGDEibtIzSSA== X-Google-Smtp-Source: AGHT+IGK7b/kmgvx1VuoTiZ//59bwWHJh2la/vcMkQfLnHpCcYgeIlGLL9akzO2dExb7kyDTzVsWCT+mkROq X-Received: by 2002:a05:6871:3607:b0:29e:48d6:2e62 with SMTP id 586e51a60fabf-2b83ebcf7d5mr4443396fac.9.1739020861344; Sat, 08 Feb 2025 05:21:01 -0800 (PST) Received: from postal.iol.unh.edu (postal.iol.unh.edu. [132.177.123.84]) by smtp-relay.gmail.com with ESMTPS id 586e51a60fabf-2b8262728c3sm287478fac.37.2025.02.08.05.21.01 (version=TLS1_2 cipher=ECDHE-ECDSA-AES128-GCM-SHA256 bits=128/128); Sat, 08 Feb 2025 05:21:01 -0800 (PST) X-Relaying-Domain: iol.unh.edu Date: Sat, 08 Feb 2025 05:21:01 -0800 (PST) Message-ID: <67a75a3d.050a0220.38702e.f707SMTPIN_ADDED_MISSING@mx.google.com> Received: from [172.21.0.7] (unknown [172.18.0.240]) by postal.iol.unh.edu (Postfix) with ESMTP id BF78C6052471; Sat, 8 Feb 2025 08:21:00 -0500 (EST) Subject: |SUCCESS| [GIT MASTER] f2eea2f37a82bb73fb01d56350708f7d70e21379 From: dpdklab@iol.unh.edu To: Test Report Cc: dpdk-test-reports@iol.unh.edu, Xueming Li , Christian Ehrhardt , Kevin Traynor , Luca Boccassi Content-Type: text/plain X-BeenThere: test-report@dpdk.org X-Mailman-Version: 2.1.29 Precedence: list List-Id: automatic DPDK test reports List-Unsubscribe: , List-Archive: List-Post: List-Help: List-Subscribe: , Errors-To: test-report-bounces@dpdk.org _Testing PASS_ Branch: tags/v24.11 f2eea2f37a82bb73fb01d56350708f7d70e21379 --> testing pass Upstream job id: Generic-DPDK-Compile-Meson#359550 Test environment and result as below: +---------------------+-------------------------+-------------------+--------------------+----------------------+------------------+-------------------+ | Environment | dpdk_llvm_clang_compile | dpdk_msvc_compile | dpdk_meson_compile | dpdk_mingw64_compile | dpdk_compile_ovs | dpdk_compile_spdk | +=====================+=========================+===================+====================+======================+==================+===================+ | Windows Server 2022 | PASS | PASS | SKIPPED | PASS | SKIPPED | SKIPPED | +---------------------+-------------------------+-------------------+--------------------+----------------------+------------------+-------------------+ | FreeBSD 13.4 | SKIPPED | SKIPPED | PASS | SKIPPED | SKIPPED | SKIPPED | +---------------------+-------------------------+-------------------+--------------------+----------------------+------------------+-------------------+ | CentOS Stream 9 | SKIPPED | SKIPPED | PASS | SKIPPED | PASS | PASS | +---------------------+-------------------------+-------------------+--------------------+----------------------+------------------+-------------------+ | Debian Bullseye | SKIPPED | SKIPPED | PASS | SKIPPED | PASS | PASS | +---------------------+-------------------------+-------------------+--------------------+----------------------+------------------+-------------------+ | Debian 12 | SKIPPED | SKIPPED | PASS | SKIPPED | PASS | PASS | +---------------------+-------------------------+-------------------+--------------------+----------------------+------------------+-------------------+ | Fedora 40 (Clang) | SKIPPED | SKIPPED | PASS | SKIPPED | PASS | PASS | +---------------------+-------------------------+-------------------+--------------------+----------------------+------------------+-------------------+ | Fedora 40 | SKIPPED | SKIPPED | PASS | SKIPPED | PASS | PASS | +---------------------+-------------------------+-------------------+--------------------+----------------------+------------------+-------------------+ | Fedora 41 (Clang) | SKIPPED | SKIPPED | PASS | SKIPPED | PASS | PASS | +---------------------+-------------------------+-------------------+--------------------+----------------------+------------------+-------------------+ | Fedora 41 | SKIPPED | SKIPPED | PASS | SKIPPED | PASS | PASS | +---------------------+-------------------------+-------------------+--------------------+----------------------+------------------+-------------------+ | openSUSE Leap 15 | SKIPPED | SKIPPED | PASS | SKIPPED | SKIPPED | SKIPPED | +---------------------+-------------------------+-------------------+--------------------+----------------------+------------------+-------------------+ | RHEL8 | SKIPPED | SKIPPED | PASS | SKIPPED | PASS | SKIPPED | +---------------------+-------------------------+-------------------+--------------------+----------------------+------------------+-------------------+ | RHEL9 | SKIPPED | SKIPPED | PASS | SKIPPED | PASS | SKIPPED | +---------------------+-------------------------+-------------------+--------------------+----------------------+------------------+-------------------+ | Ubuntu 20.04 | SKIPPED | SKIPPED | PASS | SKIPPED | SKIPPED | SKIPPED | +---------------------+-------------------------+-------------------+--------------------+----------------------+------------------+-------------------+ | Ubuntu 22.04 | SKIPPED | SKIPPED | PASS | SKIPPED | PASS | PASS | +---------------------+-------------------------+-------------------+--------------------+----------------------+------------------+-------------------+ | Ubuntu 24.04 | SKIPPED | SKIPPED | PASS | SKIPPED | PASS | PASS | +---------------------+-------------------------+-------------------+--------------------+----------------------+------------------+-------------------+ | Alpine | SKIPPED | SKIPPED | PASS | SKIPPED | PASS | SKIPPED | +---------------------+-------------------------+-------------------+--------------------+----------------------+------------------+-------------------+ Windows Server 2022 Kernel: 10.0.20348.2031 Compiler: clang 15.0.7, gcc 14.1.0 (MinGW), and MSVC VS 19.39.33521 FreeBSD 13.4 Kernel: 13.4-RELEASE-p1 Compiler: clang 18.1.6 CentOS Stream 9 Kernel: Depends on container host Compiler: gcc 11.5.0 20240719 (Red Hat 11.5.0-2) Debian Bullseye Kernel: Depends on container host Compiler: gcc (Debian 10.2.1-6) 10.2.1 20210110 Debian 12 Kernel: Depends on container host Compiler: gcc (Debian 12.2.0-14) 12.2.0 Fedora 40 (Clang) Kernel: Depends on container host Compiler: clang 18.1.8 (Fedora 18.1.8-1.fc40) Fedora 40 Kernel: Depends on container host Compiler: gcc 14.2.1 20240912 (Red Hat 14.2.1-3) Fedora 41 (Clang) Kernel: Depends on container host Compiler: clang 19.1.5 (Fedora 19.1.5-1.fc41) Fedora 41 Kernel: Depends on container host Compiler: gcc 14.2.1 20240912 (Red Hat 14.2.1-3) openSUSE Leap 15 Kernel: Depends on container host Compiler: gcc (SUSE Linux) 7.5.0 RHEL8 Kernel: Depends on container host Compiler: gcc 8.5.0 20210514 (Red Hat 8.5.0-22) RHEL9 Kernel: Depends on container host Compiler: gcc 11.5.0 20240719 (Red Hat 11.5.0-2) Ubuntu 20.04 Kernel: Depends on container host Compiler: gcc (Ubuntu 9.4.0-1ubuntu1~20.04.2) 9.4.0 Ubuntu 22.04 Kernel: Depends on container host Compiler: gcc (Ubuntu 11.4.0-1ubuntu1~22.04) 11.4.0 Ubuntu 24.04 Kernel: Depends on container host Compiler: gcc (Ubuntu 13.3.0-6ubuntu2~24.04) 13.3.0 Alpine Kernel: Depends on container host Compiler: gcc (Alpine 14.2.0) 14.2.0 To view detailed results, visit: https://lab.dpdk.org/results/dashboard/tarballs/32504/ UNH-IOL DPDK Community Lab To manage your email subscriptions, visit: https://lab.dpdk.org/results/dashboard/preferences/subscriptions/