From mboxrd@z Thu Jan 1 00:00:00 1970 Return-Path: Received: from mails.dpdk.org (mails.dpdk.org [217.70.189.124]) by inbox.dpdk.org (Postfix) with ESMTP id 738D1461CA for ; Sat, 8 Feb 2025 14:23:14 +0100 (CET) Received: from mails.dpdk.org (localhost [127.0.0.1]) by mails.dpdk.org (Postfix) with ESMTP id 6BE8D40280; Sat, 8 Feb 2025 14:23:14 +0100 (CET) Received: from mail-pl1-f226.google.com (mail-pl1-f226.google.com [209.85.214.226]) by mails.dpdk.org (Postfix) with ESMTP id D8C1B40279 for ; Sat, 8 Feb 2025 14:23:12 +0100 (CET) Received: by mail-pl1-f226.google.com with SMTP id d9443c01a7336-21f44e7eae4so42896355ad.2 for ; Sat, 08 Feb 2025 05:23:12 -0800 (PST) DKIM-Signature: v=1; a=rsa-sha256; c=relaxed/relaxed; d=iol.unh.edu; s=unh-iol; t=1739020992; x=1739625792; darn=dpdk.org; h=cc:to:from:subject:message-id:date:from:to:cc:subject:date :message-id:reply-to; bh=SFKhZqQUTY7HyvD62SzLr8uTapt2g40Ft5xF9rGui94=; b=VoAGBun+E27dB/j4o0T2K97bYvTkNMnE66IgnZYB3/SKx6Qt2VdVEtMi+waZ7GFz24 hUAEekG5a9y8uHFD3SOB0xOPCkambkLt7vKutDCMcTAl+s64B3MKrX+J0weU8jWEYdgh 8lQQdFwrn0TZQ4cmMuseLa4zrf9dUAtJB53PY= X-Google-DKIM-Signature: v=1; a=rsa-sha256; c=relaxed/relaxed; d=1e100.net; s=20230601; t=1739020992; x=1739625792; h=cc:to:from:subject:message-id:date:x-gm-message-state:from:to:cc :subject:date:message-id:reply-to; bh=SFKhZqQUTY7HyvD62SzLr8uTapt2g40Ft5xF9rGui94=; b=qDcosBYMTdJH1EjUcatdOU0Pk2tQkmJWObFOy++F6JIHgCT4Td5KUNe5LG/WHXgzn9 rf8V+kJU5So/oSogqPIv+2JdSnGTTiNVlMGaoCHQ3MVcLHEZxDunJmvxeh/BhUt+vyWG rPg4EcyDVtFQ3A5R5fna3e9OWY2FNwEBM//wGUAa8ESvzJ455ggjHFNj5h3G3UD6IFwD Bq/uemC+UmRDk1eeMSOsJupeQTeI09AeIY6Y+DA+Ni+n4yZOcgLze2lVLOrSCBk6mPj1 ZLTrOi25jJIDgV71I+z6N3Y33DMZ5rd7LxlBxTdyfk2DM1YliElbbBOVH7Rem3c5l6UT 8jdg== X-Gm-Message-State: AOJu0YwxL+8HtxT7kmlhfdg+icT38GGg3NqazNbds1IuvmyAop6sxyu3 KuuHRB7gsXUX0+O2dclBtFum7+qrJ8bqpYsIieT6vvDnEUSAw0bjKCHbAlKVwVcQhQEvpds5wXx Suf3wJl1kxDHREvIKjPB1jfF1naelsRar X-Gm-Gg: ASbGncv0W0onvee2Q6QtdbaJhpBgT2EiBtZbeAdV25wJM1X2pDBYSy4E9cioxeX8K4B Fz+U1JHFWQf7kOERaNrlRGDVtb8ppgZk165RxSZZBzBSNRG44sIo8FIu6VDlKZkMftN7jowC23g gN3EWk1GrDSag6zK5QlQgQ9exRwv6fRd0rShgHk9/wOhmE4YrIg2tsJu3un/RLrxj6yg2fVtxxi oDO+xKI4p8aixd/kQIKX+g4/c6gN7PIOGmoQhokEmiPAOPMlnYY6xQkBkPeiHwkK/fzhkmKT8bz OBd/LGvZ3ARJAjAjJEVMlooj/bUAiA== X-Google-Smtp-Source: AGHT+IFP8x+KDllFacApevNwzbWQbtp70BGE6ronUxDnoxXCXs8PoTztK6zytzFbHSMKk93uDObxt1rB+rtn X-Received: by 2002:a17:902:d512:b0:216:682f:175 with SMTP id d9443c01a7336-21f4e7ac3edmr101518175ad.49.1739020992036; Sat, 08 Feb 2025 05:23:12 -0800 (PST) Received: from postal.iol.unh.edu (postal.iol.unh.edu. [132.177.123.84]) by smtp-relay.gmail.com with ESMTPS id d9443c01a7336-21f508a8686sm2407025ad.32.2025.02.08.05.23.11 (version=TLS1_2 cipher=ECDHE-ECDSA-AES128-GCM-SHA256 bits=128/128); Sat, 08 Feb 2025 05:23:12 -0800 (PST) X-Relaying-Domain: iol.unh.edu Date: Sat, 08 Feb 2025 05:23:12 -0800 (PST) Message-ID: <67a75ac0.170a0220.a379d.b7aaSMTPIN_ADDED_MISSING@mx.google.com> Received: from [172.21.0.5] (unknown [172.18.0.240]) by postal.iol.unh.edu (Postfix) with ESMTP id 1C5036052471; Sat, 8 Feb 2025 08:23:11 -0500 (EST) Subject: |SUCCESS| [GIT MASTER] c66daa12e76d7b4912cfb7109a761856a7a873ab From: dpdklab@iol.unh.edu To: Test Report Cc: dpdk-test-reports@iol.unh.edu, Xueming Li , Christian Ehrhardt , Kevin Traynor , Luca Boccassi Content-Type: text/plain X-BeenThere: test-report@dpdk.org X-Mailman-Version: 2.1.29 Precedence: list List-Id: automatic DPDK test reports List-Unsubscribe: , List-Archive: List-Post: List-Help: List-Subscribe: , Errors-To: test-report-bounces@dpdk.org _Testing PASS_ Branch: tags/v23.11 c66daa12e76d7b4912cfb7109a761856a7a873ab --> testing pass Upstream job id: Generic-Unit-Test-DPDK#313192 Test environment and result as below: +---------------------+----------------+ | Environment | dpdk_unit_test | +=====================+================+ | CentOS Stream 9 | PASS | +---------------------+----------------+ | Debian 12 | PASS | +---------------------+----------------+ | Debian Bullseye | PASS | +---------------------+----------------+ | Fedora 41 | PASS | +---------------------+----------------+ | Ubuntu 22.04 | PASS | +---------------------+----------------+ | Fedora 40 (Clang) | PASS | +---------------------+----------------+ | Fedora 40 | PASS | +---------------------+----------------+ | Ubuntu 20.04 | PASS | +---------------------+----------------+ | Fedora 41 (Clang) | PASS | +---------------------+----------------+ | RHEL8 | PASS | +---------------------+----------------+ | RHEL9 | PASS | +---------------------+----------------+ | Ubuntu 24.04 | PASS | +---------------------+----------------+ | Windows Server 2022 | PASS | +---------------------+----------------+ CentOS Stream 9 Kernel: Depends on container host Compiler: gcc 11.5.0 20240719 (Red Hat 11.5.0-2) Debian 12 Kernel: Depends on container host Compiler: gcc (Debian 12.2.0-14) 12.2.0 Debian Bullseye Kernel: Depends on container host Compiler: gcc (Debian 10.2.1-6) 10.2.1 20210110 Fedora 41 Kernel: Depends on container host Compiler: gcc 14.2.1 20240912 (Red Hat 14.2.1-3) Ubuntu 22.04 Kernel: Depends on container host Compiler: gcc (Ubuntu 11.4.0-1ubuntu1~22.04) 11.4.0 Fedora 40 (Clang) Kernel: Depends on container host Compiler: clang 18.1.8 (Fedora 18.1.8-1.fc40) Fedora 40 Kernel: Depends on container host Compiler: gcc 14.2.1 20240912 (Red Hat 14.2.1-3) Ubuntu 20.04 Kernel: Depends on container host Compiler: gcc (Ubuntu 9.4.0-1ubuntu1~20.04.2) 9.4.0 Fedora 41 (Clang) Kernel: Depends on container host Compiler: clang 19.1.5 (Fedora 19.1.5-1.fc41) RHEL8 Kernel: Depends on container host Compiler: gcc 8.5.0 20210514 (Red Hat 8.5.0-22) RHEL9 Kernel: Depends on container host Compiler: gcc 11.5.0 20240719 (Red Hat 11.5.0-2) Ubuntu 24.04 Kernel: Depends on container host Compiler: gcc (Ubuntu 13.3.0-6ubuntu2~24.04) 13.3.0 Windows Server 2022 Kernel: 10.0.20348.2031 Compiler: clang 15.0.7, gcc 14.1.0 (MinGW), and MSVC VS 19.39.33521 To view detailed results, visit: https://lab.dpdk.org/results/dashboard/tarballs/32505/ UNH-IOL DPDK Community Lab To manage your email subscriptions, visit: https://lab.dpdk.org/results/dashboard/preferences/subscriptions/