From mboxrd@z Thu Jan 1 00:00:00 1970 Return-Path: Received: from mails.dpdk.org (mails.dpdk.org [217.70.189.124]) by inbox.dpdk.org (Postfix) with ESMTP id BE825461CA for ; Sat, 8 Feb 2025 14:59:15 +0100 (CET) Received: from mails.dpdk.org (localhost [127.0.0.1]) by mails.dpdk.org (Postfix) with ESMTP id 9CA8A40280; Sat, 8 Feb 2025 14:59:15 +0100 (CET) Received: from mail-pj1-f97.google.com (mail-pj1-f97.google.com [209.85.216.97]) by mails.dpdk.org (Postfix) with ESMTP id 247D840279 for ; Sat, 8 Feb 2025 14:59:14 +0100 (CET) Received: by mail-pj1-f97.google.com with SMTP id 98e67ed59e1d1-2fa40c0bab2so1336148a91.0 for ; Sat, 08 Feb 2025 05:59:14 -0800 (PST) DKIM-Signature: v=1; a=rsa-sha256; c=relaxed/relaxed; d=iol.unh.edu; s=unh-iol; t=1739023153; x=1739627953; darn=dpdk.org; h=cc:to:from:subject:message-id:date:from:to:cc:subject:date :message-id:reply-to; bh=qJ6BBJmSpUOm2zGNNRmxEo3+1esjE4i2WjoOp9OpiU8=; b=PqAGitYASP7D0JfdcFhZBTpKwYr0ZdokZu5aPRAdYE/ueBeSkRLBZDQSSOHU0EkPxN VcTwLDN4nvjrMh4jKh+t6SJvL0EooMMw6gxXjm8Hep9DUM9R3rSvxUx7J/aOrwK1887q WFiz472zHzpNkXT+3B/W1edej3PJWTUuNlcpU= X-Google-DKIM-Signature: v=1; a=rsa-sha256; c=relaxed/relaxed; d=1e100.net; s=20230601; t=1739023153; x=1739627953; h=cc:to:from:subject:message-id:date:x-gm-message-state:from:to:cc :subject:date:message-id:reply-to; bh=qJ6BBJmSpUOm2zGNNRmxEo3+1esjE4i2WjoOp9OpiU8=; b=niWZx7U+sFEySg5/gGRbQXtyw6Nbm+bNNs2AfAXOVeQc/dN+ak8U4dySleFa2Lj1b+ nGMKH1Lm5W8BDRqBqJIl0kvMqlDN71yAuDdbX+tjhL2NmKGVhcYvjTtRR4KzQjL5arVG 2u9WjcPgv45jlu52PxXCZ3Zd6Tdi/lRbYSLdqoB7d8QzT86m3MLPpD2nWOW9FErC/iO1 3UYFz8No0d2ysuZaN2NFe4cOy/KgIph8SNZ6u4SWw6TKjKWOJ0OB4ryILHq4Dwwta4Bw zWwWErpJK2Kz9VLpS87EEvL6WVPs+rSQoEfv249Y/O7uFqyRuC4vYoR5KTZWnZxUKneT 7p0Q== X-Gm-Message-State: AOJu0YxF2Aby8uaYeKEvFu/syop54ZTQBxaLWQvX1Z/tn6r2s3RP0Bmt RBzWA9fBg5kLJYuqJMdbAZi038EgYldvWIE1Ru1ISsUUtkswOLGj6DAwrriisivHAAhEfH21H0k ya4BvRinbRcuR6KrhShVO5seo3VBOf2V3 X-Gm-Gg: ASbGnctqsMTojX4BFzmFETikcDB7pObBmsnAcaBjPCL5m0YKPMkmBOJbG0Mfj4poXjQ kgM1X2LfV9CarhrjKET1han5FJvj1GoPL3SKWNEIILCwu629PXTBo1jDNoGNIIfcbAO5jlm8Tku 2HsmAXNGvesN+DnCPj1qy7Em4vrI6D6PuQEu9ToVgiFAjuDbSyFw5Z55/bmSQvw2Ldz7OMj7n8T tsmJuXrVn2FKhQsi5jjvHtkt8dXkGONeuLmWEX+NL3IC3Xhgmk4aVLcVeABkeO0itr+xXVg5W4c LHfJuMIDqjm7ocVMynOfMfRvpythrg== X-Google-Smtp-Source: AGHT+IF4uci+y2OdxO8sooxGPL3c3upP3RXDM4f5im6PEcSW4S0NGPUxBNtl169at0y7Fqiho7q+UQ1RnDDV X-Received: by 2002:a17:90b:3d03:b0:2ea:bf1c:1e3a with SMTP id 98e67ed59e1d1-2fa24069ec6mr12685586a91.12.1739023153210; Sat, 08 Feb 2025 05:59:13 -0800 (PST) Received: from postal.iol.unh.edu (postal.iol.unh.edu. [132.177.123.84]) by smtp-relay.gmail.com with ESMTPS id 41be03b00d2f7-ad54469a155sm32177a12.28.2025.02.08.05.59.13 (version=TLS1_2 cipher=ECDHE-ECDSA-AES128-GCM-SHA256 bits=128/128); Sat, 08 Feb 2025 05:59:13 -0800 (PST) X-Relaying-Domain: iol.unh.edu Date: Sat, 08 Feb 2025 05:59:13 -0800 (PST) Message-ID: <67a76331.630a0220.3d017b.191eSMTPIN_ADDED_MISSING@mx.google.com> Received: from [172.21.0.6] (unknown [172.18.0.240]) by postal.iol.unh.edu (Postfix) with ESMTP id 6CABE6052471; Sat, 8 Feb 2025 08:59:12 -0500 (EST) Subject: |SUCCESS| [GIT MASTER] c66daa12e76d7b4912cfb7109a761856a7a873ab From: dpdklab@iol.unh.edu To: Test Report Cc: dpdk-test-reports@iol.unh.edu, Xueming Li , Christian Ehrhardt , Kevin Traynor , Luca Boccassi Content-Type: text/plain X-BeenThere: test-report@dpdk.org X-Mailman-Version: 2.1.29 Precedence: list List-Id: automatic DPDK test reports List-Unsubscribe: , List-Archive: List-Post: List-Help: List-Subscribe: , Errors-To: test-report-bounces@dpdk.org _Testing PASS_ Branch: tags/v23.11 c66daa12e76d7b4912cfb7109a761856a7a873ab --> testing pass Upstream job id: Generic-DPDK-Compile-Meson#359569 Test environment and result as below: +---------------------+--------------------+-------------------+-------------------------+----------------------+------------------+-------------------+ | Environment | dpdk_meson_compile | dpdk_msvc_compile | dpdk_llvm_clang_compile | dpdk_mingw64_compile | dpdk_compile_ovs | dpdk_compile_spdk | +=====================+====================+===================+=========================+======================+==================+===================+ | FreeBSD 13.4 | PASS | SKIPPED | SKIPPED | SKIPPED | SKIPPED | SKIPPED | +---------------------+--------------------+-------------------+-------------------------+----------------------+------------------+-------------------+ | FreeBSD 14.2 | PASS | SKIPPED | SKIPPED | SKIPPED | SKIPPED | SKIPPED | +---------------------+--------------------+-------------------+-------------------------+----------------------+------------------+-------------------+ | CentOS Stream 9 | PASS | SKIPPED | SKIPPED | SKIPPED | PASS | PASS | +---------------------+--------------------+-------------------+-------------------------+----------------------+------------------+-------------------+ | Debian Bullseye | PASS | SKIPPED | SKIPPED | SKIPPED | PASS | PASS | +---------------------+--------------------+-------------------+-------------------------+----------------------+------------------+-------------------+ | Debian 12 | PASS | SKIPPED | SKIPPED | SKIPPED | PASS | PASS | +---------------------+--------------------+-------------------+-------------------------+----------------------+------------------+-------------------+ | Fedora 40 (Clang) | PASS | SKIPPED | SKIPPED | SKIPPED | PASS | PASS | +---------------------+--------------------+-------------------+-------------------------+----------------------+------------------+-------------------+ | Fedora 40 | PASS | SKIPPED | SKIPPED | SKIPPED | PASS | PASS | +---------------------+--------------------+-------------------+-------------------------+----------------------+------------------+-------------------+ | Fedora 41 (Clang) | PASS | SKIPPED | SKIPPED | SKIPPED | PASS | PASS | +---------------------+--------------------+-------------------+-------------------------+----------------------+------------------+-------------------+ | Fedora 41 | PASS | SKIPPED | SKIPPED | SKIPPED | PASS | PASS | +---------------------+--------------------+-------------------+-------------------------+----------------------+------------------+-------------------+ | openSUSE Leap 15 | PASS | SKIPPED | SKIPPED | SKIPPED | SKIPPED | SKIPPED | +---------------------+--------------------+-------------------+-------------------------+----------------------+------------------+-------------------+ | RHEL8 | PASS | SKIPPED | SKIPPED | SKIPPED | PASS | SKIPPED | +---------------------+--------------------+-------------------+-------------------------+----------------------+------------------+-------------------+ | RHEL9 | PASS | SKIPPED | SKIPPED | SKIPPED | PASS | SKIPPED | +---------------------+--------------------+-------------------+-------------------------+----------------------+------------------+-------------------+ | Ubuntu 20.04 | PASS | SKIPPED | SKIPPED | SKIPPED | SKIPPED | SKIPPED | +---------------------+--------------------+-------------------+-------------------------+----------------------+------------------+-------------------+ | Ubuntu 22.04 | PASS | SKIPPED | SKIPPED | SKIPPED | PASS | PASS | +---------------------+--------------------+-------------------+-------------------------+----------------------+------------------+-------------------+ | Ubuntu 24.04 | PASS | SKIPPED | SKIPPED | SKIPPED | PASS | PASS | +---------------------+--------------------+-------------------+-------------------------+----------------------+------------------+-------------------+ | Alpine | PASS | SKIPPED | SKIPPED | SKIPPED | PASS | SKIPPED | +---------------------+--------------------+-------------------+-------------------------+----------------------+------------------+-------------------+ | Windows Server 2022 | SKIPPED | PASS | PASS | PASS | SKIPPED | SKIPPED | +---------------------+--------------------+-------------------+-------------------------+----------------------+------------------+-------------------+ FreeBSD 13.4 Kernel: 13.4-RELEASE-p1 Compiler: clang 18.1.6 FreeBSD 14.2 Kernel: 14.2-RELEASE Compiler: clang 18.1.6 CentOS Stream 9 Kernel: Depends on container host Compiler: gcc 11.5.0 20240719 (Red Hat 11.5.0-2) Debian Bullseye Kernel: Depends on container host Compiler: gcc (Debian 10.2.1-6) 10.2.1 20210110 Debian 12 Kernel: Depends on container host Compiler: gcc (Debian 12.2.0-14) 12.2.0 Fedora 40 (Clang) Kernel: Depends on container host Compiler: clang 18.1.8 (Fedora 18.1.8-1.fc40) Fedora 40 Kernel: Depends on container host Compiler: gcc 14.2.1 20240912 (Red Hat 14.2.1-3) Fedora 41 (Clang) Kernel: Depends on container host Compiler: clang 19.1.5 (Fedora 19.1.5-1.fc41) Fedora 41 Kernel: Depends on container host Compiler: gcc 14.2.1 20240912 (Red Hat 14.2.1-3) openSUSE Leap 15 Kernel: Depends on container host Compiler: gcc (SUSE Linux) 7.5.0 RHEL8 Kernel: Depends on container host Compiler: gcc 8.5.0 20210514 (Red Hat 8.5.0-22) RHEL9 Kernel: Depends on container host Compiler: gcc 11.5.0 20240719 (Red Hat 11.5.0-2) Ubuntu 20.04 Kernel: Depends on container host Compiler: gcc (Ubuntu 9.4.0-1ubuntu1~20.04.2) 9.4.0 Ubuntu 22.04 Kernel: Depends on container host Compiler: gcc (Ubuntu 11.4.0-1ubuntu1~22.04) 11.4.0 Ubuntu 24.04 Kernel: Depends on container host Compiler: gcc (Ubuntu 13.3.0-6ubuntu2~24.04) 13.3.0 Alpine Kernel: Depends on container host Compiler: gcc (Alpine 14.2.0) 14.2.0 Windows Server 2022 Kernel: 10.0.20348.2031 Compiler: clang 15.0.7, gcc 14.1.0 (MinGW), and MSVC VS 19.39.33521 To view detailed results, visit: https://lab.dpdk.org/results/dashboard/tarballs/32505/ UNH-IOL DPDK Community Lab To manage your email subscriptions, visit: https://lab.dpdk.org/results/dashboard/preferences/subscriptions/