From mboxrd@z Thu Jan 1 00:00:00 1970 Return-Path: Received: from mails.dpdk.org (mails.dpdk.org [217.70.189.124]) by inbox.dpdk.org (Postfix) with ESMTP id F3746461CA for ; Sat, 8 Feb 2025 15:12:28 +0100 (CET) Received: from mails.dpdk.org (localhost [127.0.0.1]) by mails.dpdk.org (Postfix) with ESMTP id C9BB740280; Sat, 8 Feb 2025 15:12:28 +0100 (CET) Received: from mail-il1-f226.google.com (mail-il1-f226.google.com [209.85.166.226]) by mails.dpdk.org (Postfix) with ESMTP id 6B46340279 for ; Sat, 8 Feb 2025 15:12:27 +0100 (CET) Received: by mail-il1-f226.google.com with SMTP id e9e14a558f8ab-3d04fc1ea14so27728535ab.2 for ; Sat, 08 Feb 2025 06:12:27 -0800 (PST) DKIM-Signature: v=1; a=rsa-sha256; c=relaxed/relaxed; d=iol.unh.edu; s=unh-iol; t=1739023946; x=1739628746; darn=dpdk.org; h=cc:to:from:subject:message-id:date:from:to:cc:subject:date :message-id:reply-to; bh=bzvqNQ1oECp7K4EMCj/dyYSqXInWDpgOZxYTa/uIpBU=; b=WUnq7vz+AA+/zyE6VEkWZF8SM9e3tZ8rlJwjzrbniyNSZsNNFnD9wVRP/7I6XMXNgt o3SU1ZT/TI01EhG+cIh3nFXVxSnKAvDDvzps/uep49izG4hyy6+uk445RbV4Zbog6bU2 p+UPU6skNVvDOy8tS24DuBSoHVMrC4Lxm1QHU= X-Google-DKIM-Signature: v=1; a=rsa-sha256; c=relaxed/relaxed; d=1e100.net; s=20230601; t=1739023946; x=1739628746; h=cc:to:from:subject:message-id:date:x-gm-message-state:from:to:cc :subject:date:message-id:reply-to; bh=bzvqNQ1oECp7K4EMCj/dyYSqXInWDpgOZxYTa/uIpBU=; b=LhDeZDscdItVfbM35t3mZfVhnnW14aEFJyMS5LHk/9gnj4i8DUlqmEmtwPycZzE4+V 7NS8Apu4TIjQ5YbiREq2jcIhbTDq/WajVJI7cQYvlT9QgtTJ7kZB1jkRo2hWwd2pg4Vt oyPA9tNACzJn/0zXCPYcWtLl5iMmWdDPVlQVMVf+zVpWJCiWDQoH7Nid2mZSyeM1XApO ZQjT6GjkA/T+EjU7gQl92Ba3G9ZlfnDan+0h6aVeN6ChL1jJt5upuApUsdsLemXlQjyN g8o8W/crEQJqg+jjBC4cQAqmTjX/ZTbxZK/j36FB6IldVNcH9FeLvayk4J2CdDtq0VtX 7Dkg== X-Gm-Message-State: AOJu0YzBINp6BCcfphw32pf5Ae6gzN71kQqrkKdZ8MBZZ0UXDpWuGg0Q J7uN8F1elgK/5ezcprn1ibcVAi/TJsg+w6pY6mKf2sfckWTqalEIJ4Q3xle4/AYg+fG0uRZ/TDa GLmB3cPkgPdCV/8HB6NJnzOVIVRY7OiqH X-Gm-Gg: ASbGncvZpY69RLRi7Lq969bBOkYs4FdbV11/FpY3qvcYFKmh2eQphtQI3YYU+17/FWb iqYWqVAVw0kYh1PSJTtPN484C2Gdr34UjZsz3qHZjA3tmYkqgaZUp4dNaSn+ye07ksviVRuekPf UmR3IcV3dT2n7yt8O+yN2b9wkn6EJygi4m2cOkLlGyMV8K7up3geIgzwTQX1S4ejZKcKjpsJ38X 1ClRy3grk9UlXvKAvZhdHe/q9tKDdy45G2GftPTp1VHfMXpf1HDzqdtXUOheE2ze+56pJ/Ik4+y QKTqS+oC91/BQyFAqQQPqlxTBUEmiA== X-Google-Smtp-Source: AGHT+IE3CLMqv+RgqeSTg8EtNCwH3V6qyhQ6UxRdEijEMv7kxR3DLJ68sx+N7Ola5et4ltlYZYV4naAcnULj X-Received: by 2002:a05:6e02:2163:b0:3d0:4b06:def3 with SMTP id e9e14a558f8ab-3d13dd645efmr54066765ab.10.1739023946674; Sat, 08 Feb 2025 06:12:26 -0800 (PST) Received: from postal.iol.unh.edu (postal.iol.unh.edu. [132.177.123.84]) by smtp-relay.gmail.com with ESMTPS id e9e14a558f8ab-3d05e91927dsm3786005ab.31.2025.02.08.06.12.26 (version=TLS1_2 cipher=ECDHE-ECDSA-AES128-GCM-SHA256 bits=128/128); Sat, 08 Feb 2025 06:12:26 -0800 (PST) X-Relaying-Domain: iol.unh.edu Date: Sat, 08 Feb 2025 06:12:26 -0800 (PST) Message-ID: <67a7664a.920a0220.2ac187.327aSMTPIN_ADDED_MISSING@mx.google.com> Received: from [172.21.0.6] (unknown [172.18.0.240]) by postal.iol.unh.edu (Postfix) with ESMTP id F10A26052471; Sat, 8 Feb 2025 09:12:24 -0500 (EST) Subject: |SUCCESS| [GIT MASTER] c66daa12e76d7b4912cfb7109a761856a7a873ab From: dpdklab@iol.unh.edu To: Test Report Cc: dpdk-test-reports@iol.unh.edu, Xueming Li , Christian Ehrhardt , Kevin Traynor , Luca Boccassi Content-Type: text/plain X-BeenThere: test-report@dpdk.org X-Mailman-Version: 2.1.29 Precedence: list List-Id: automatic DPDK test reports List-Unsubscribe: , List-Archive: List-Post: List-Help: List-Subscribe: , Errors-To: test-report-bounces@dpdk.org _Testing PASS_ Branch: tags/v23.11 c66daa12e76d7b4912cfb7109a761856a7a873ab --> testing pass Upstream job id: Generic-DPDK-Compile-Meson#359580 Test environment and result as below: +------------------------------------+--------------------+ | Environment | dpdk_meson_compile | +====================================+====================+ | RHEL9 (ARM) | PASS | +------------------------------------+--------------------+ | Ubuntu 20.04 ARM GCC Cross Compile | PASS | +------------------------------------+--------------------+ | Ubuntu 20.04 ARM SVE | PASS | +------------------------------------+--------------------+ | Debian 12 with MUSDK | PASS | +------------------------------------+--------------------+ | Fedora 40 (ARM) | PASS | +------------------------------------+--------------------+ | Fedora 40 (ARM Clang) | PASS | +------------------------------------+--------------------+ | Fedora 41 (ARM) | PASS | +------------------------------------+--------------------+ | Fedora 41 (ARM Clang) | PASS | +------------------------------------+--------------------+ | Ubuntu 20.04 (ARM) | PASS | +------------------------------------+--------------------+ | Ubuntu 22.04 (ARM) | PASS | +------------------------------------+--------------------+ | Ubuntu 24.04 (ARM) | PASS | +------------------------------------+--------------------+ | CentOS Stream 9 (ARM) | PASS | +------------------------------------+--------------------+ | Debian 11 (Buster) (ARM) | PASS | +------------------------------------+--------------------+ | Debian 12 (arm) | PASS | +------------------------------------+--------------------+ RHEL9 (ARM) Kernel: Depends on container host Compiler: gcc 11.5.0 20240719 (Red Hat 11.5.0-2) Ubuntu 20.04 ARM GCC Cross Compile Kernel: Depends on container host Compiler: aarch64-linux-gnu-gcc (Ubuntu 9.4.0-1ubuntu1~20.04.2) 9.4.0 Ubuntu 20.04 ARM SVE Kernel: Depends on container host Compiler: gcc (Ubuntu 10.5.0-1ubuntu1~20.04) 10.5.0 Debian 12 with MUSDK Kernel: Depends on container host Compiler: gcc (Debian 12.2.0-14) 12.2.0 Fedora 40 (ARM) Kernel: Depends on container host Compiler: gcc 14.2.1 20240912 (Red Hat 14.2.1-3) Fedora 40 (ARM Clang) Kernel: Depends on container host Compiler: clang 18.1.8 (Fedora 18.1.8-1.fc40) Fedora 41 (ARM) Kernel: Depends on container host Compiler: gcc 14.2.1 20240912 (Red Hat 14.2.1-3) Fedora 41 (ARM Clang) Kernel: Depends on container host Compiler: clang 19.1.5 (Fedora 19.1.5-1.fc41) Ubuntu 20.04 (ARM) Kernel: Depends on container host Compiler: gcc (Ubuntu 9.4.0-1ubuntu1~20.04.2) 9.4.0 Ubuntu 22.04 (ARM) Kernel: Depends on container host Compiler: gcc (Ubuntu 11.4.0-1ubuntu1~22.04) 11.4.0 Ubuntu 24.04 (ARM) Kernel: Depends on container host Compiler: gcc (Ubuntu 13.3.0-6ubuntu2~24.04) 13.3.0 CentOS Stream 9 (ARM) Kernel: Depends on container host Compiler: gcc 11.5.0 20240719 (Red Hat 11.5.0-2) Debian 11 (Buster) (ARM) Kernel: Depends on container host Compiler: gcc (Debian 10.2.1-6) 10.2.1 20210110 Debian 12 (arm) Kernel: Depends on container host Compiler: gcc (Debian 12.2.0-14) 12.2.0 To view detailed results, visit: https://lab.dpdk.org/results/dashboard/tarballs/32505/ UNH-IOL DPDK Community Lab To manage your email subscriptions, visit: https://lab.dpdk.org/results/dashboard/preferences/subscriptions/