From mboxrd@z Thu Jan 1 00:00:00 1970 Return-Path: Received: from mails.dpdk.org (mails.dpdk.org [217.70.189.124]) by inbox.dpdk.org (Postfix) with ESMTP id C6DEA461CA for ; Sat, 8 Feb 2025 15:43:44 +0100 (CET) Received: from mails.dpdk.org (localhost [127.0.0.1]) by mails.dpdk.org (Postfix) with ESMTP id A6EC440280; Sat, 8 Feb 2025 15:43:44 +0100 (CET) Received: from mail-il1-f226.google.com (mail-il1-f226.google.com [209.85.166.226]) by mails.dpdk.org (Postfix) with ESMTP id 6F0A140279 for ; Sat, 8 Feb 2025 15:43:43 +0100 (CET) Received: by mail-il1-f226.google.com with SMTP id e9e14a558f8ab-3d051dca3b6so10956985ab.1 for ; Sat, 08 Feb 2025 06:43:43 -0800 (PST) DKIM-Signature: v=1; a=rsa-sha256; c=relaxed/relaxed; d=iol.unh.edu; s=unh-iol; t=1739025823; x=1739630623; darn=dpdk.org; h=cc:to:from:subject:message-id:date:from:to:cc:subject:date :message-id:reply-to; bh=64MuvjaYHFOFHpXUbvvet3Wg/gEb1aprvYKcgV8wkg4=; b=NsrYYgoUNaH4F8mQl40JK5BZUjGQoJglm7tCY4fmYPqdM0Rq+4Vm5ul3y6TYIIYKNI fuHGbxhJzDpoVjvzuNcYvWcy5ZoQ6NmwLspn1PsQtj4j/OdsDxUV7JSJZRtOqSQzWs+y s/y5HHqHndo5vCQhU5uGVEZPlwXnV/MHbxCDg= X-Google-DKIM-Signature: v=1; a=rsa-sha256; c=relaxed/relaxed; d=1e100.net; s=20230601; t=1739025823; x=1739630623; h=cc:to:from:subject:message-id:date:x-gm-message-state:from:to:cc :subject:date:message-id:reply-to; bh=64MuvjaYHFOFHpXUbvvet3Wg/gEb1aprvYKcgV8wkg4=; b=nqH1YI1kHTeP6k7TLe1WTAXElDPvZnarvPIl4jcAbEiPGGPS9ywG7CfY7JdN0LLPSl K5KcJGdm107+LhLZRqdcwTG8/ZISz0Uqo8eHYTr4BbNqISGgRycGClPtoxBEoZVtKlWF KVoLEjVAXnzw0a2ziCb1miBBuQr2vepcA3nkOFgeU9ybTJC80lJknVpU94J5PK9sg7zY xs0jFYy+Ka5gHf1slF8hZCFwHlUp0/+VzgVxylxH3aO52bRegn99bHZ7z5w4nxjhemvk n3kaVj5tx8hfyd4N/Dh0SA4SBDOUkbZE5THn4fjBZ08FrM3e+i2Ghv0I0gmX6YVM2798 w+OA== X-Gm-Message-State: AOJu0YwyGeRfofXNvWh4bN5kaCHzCnUsGvsW9AaPVkMf3OEJrTWEFPeW Lo1+yORAPE8kWscnjFj5pWAMauP/hl/WaXtmtchHzFQemGCpGztCsrJwh8gYllL5xN9CFfsnUBQ D10OyFSw1DT52G3sgrRcolGmBbsvVZgmY X-Gm-Gg: ASbGncuqHIvTTBf6MJmQKWrZCNzc3FsBUOvQhan6hfENPqVGgppunItoU0INXS74CqA jDeoowbyaRf/YnFW8nm9t66Krzcydo1+33TDiWeiRxuY9zoqhaINvjSXcA8O258sOQmf6JG0YNb iwwIScCPmGgcqz3mkhIuu62MXCjW5DwvfJ/m20qIHKrc9TMfRg5DFNPFS2deSm+yGPKzGH22ufF jnIU62equT+8vzkwmVKqPE8aCyBF44t8HTLPXKAesH0dmAOhT0Xb0mu2+0XdKmClnBYEcVkOP/M a32bt6KwAlDFkDNlt+uKGNDBoy+OqA== X-Google-Smtp-Source: AGHT+IEJ7q8BCp+u4E00JXfgu6iJ1ik5OJF8feXa4Qwvh0UoChm7/U5lt08AjC7vk+j4ic/ClNBKtc4XOdDp X-Received: by 2002:a05:6e02:1b0e:b0:3cf:cac9:b02d with SMTP id e9e14a558f8ab-3d13dd609b2mr52520015ab.8.1739025822739; Sat, 08 Feb 2025 06:43:42 -0800 (PST) Received: from postal.iol.unh.edu (postal.iol.unh.edu. [132.177.123.84]) by smtp-relay.gmail.com with ESMTPS id 8926c6da1cb9f-4eccfaa222bsm370319173.45.2025.02.08.06.43.42 (version=TLS1_2 cipher=ECDHE-ECDSA-AES128-GCM-SHA256 bits=128/128); Sat, 08 Feb 2025 06:43:42 -0800 (PST) X-Relaying-Domain: iol.unh.edu Date: Sat, 08 Feb 2025 06:43:42 -0800 (PST) Message-ID: <67a76d9e.050a0220.29ebfb.31bfSMTPIN_ADDED_MISSING@mx.google.com> Received: from [172.21.0.5] (unknown [172.18.0.240]) by postal.iol.unh.edu (Postfix) with ESMTP id 585086052471; Sat, 8 Feb 2025 09:43:42 -0500 (EST) Subject: |SUCCESS| [GIT MASTER] f2eea2f37a82bb73fb01d56350708f7d70e21379 From: dpdklab@iol.unh.edu To: Test Report Cc: dpdk-test-reports@iol.unh.edu, Xueming Li , Christian Ehrhardt , Kevin Traynor , Luca Boccassi Content-Type: text/plain X-BeenThere: test-report@dpdk.org X-Mailman-Version: 2.1.29 Precedence: list List-Id: automatic DPDK test reports List-Unsubscribe: , List-Archive: List-Post: List-Help: List-Subscribe: , Errors-To: test-report-bounces@dpdk.org _Testing PASS_ Branch: tags/v24.11 f2eea2f37a82bb73fb01d56350708f7d70e21379 --> testing pass Upstream job id: Generic-DPDK-Compile-Meson#359552 Test environment and result as below: +------------------------------------+--------------------+ | Environment | dpdk_meson_compile | +====================================+====================+ | RHEL9 (ARM) | PASS | +------------------------------------+--------------------+ | Ubuntu 20.04 ARM GCC Cross Compile | PASS | +------------------------------------+--------------------+ | Ubuntu 20.04 ARM SVE | PASS | +------------------------------------+--------------------+ | Debian 12 with MUSDK | PASS | +------------------------------------+--------------------+ | Fedora 40 (ARM) | PASS | +------------------------------------+--------------------+ | Fedora 40 (ARM Clang) | PASS | +------------------------------------+--------------------+ | Fedora 41 (ARM) | PASS | +------------------------------------+--------------------+ | Fedora 41 (ARM Clang) | PASS | +------------------------------------+--------------------+ | Ubuntu 20.04 (ARM) | PASS | +------------------------------------+--------------------+ | Ubuntu 22.04 (ARM) | PASS | +------------------------------------+--------------------+ | Ubuntu 24.04 (ARM) | PASS | +------------------------------------+--------------------+ | CentOS Stream 9 (ARM) | PASS | +------------------------------------+--------------------+ | Debian 11 (Buster) (ARM) | PASS | +------------------------------------+--------------------+ | Debian 12 (arm) | PASS | +------------------------------------+--------------------+ RHEL9 (ARM) Kernel: Depends on container host Compiler: gcc 11.5.0 20240719 (Red Hat 11.5.0-2) Ubuntu 20.04 ARM GCC Cross Compile Kernel: Depends on container host Compiler: aarch64-linux-gnu-gcc (Ubuntu 9.4.0-1ubuntu1~20.04.2) 9.4.0 Ubuntu 20.04 ARM SVE Kernel: Depends on container host Compiler: gcc (Ubuntu 10.5.0-1ubuntu1~20.04) 10.5.0 Debian 12 with MUSDK Kernel: Depends on container host Compiler: gcc (Debian 12.2.0-14) 12.2.0 Fedora 40 (ARM) Kernel: Depends on container host Compiler: gcc 14.2.1 20240912 (Red Hat 14.2.1-3) Fedora 40 (ARM Clang) Kernel: Depends on container host Compiler: clang 18.1.8 (Fedora 18.1.8-1.fc40) Fedora 41 (ARM) Kernel: Depends on container host Compiler: gcc 14.2.1 20240912 (Red Hat 14.2.1-3) Fedora 41 (ARM Clang) Kernel: Depends on container host Compiler: clang 19.1.5 (Fedora 19.1.5-1.fc41) Ubuntu 20.04 (ARM) Kernel: Depends on container host Compiler: gcc (Ubuntu 9.4.0-1ubuntu1~20.04.2) 9.4.0 Ubuntu 22.04 (ARM) Kernel: Depends on container host Compiler: gcc (Ubuntu 11.4.0-1ubuntu1~22.04) 11.4.0 Ubuntu 24.04 (ARM) Kernel: Depends on container host Compiler: gcc (Ubuntu 13.3.0-6ubuntu2~24.04) 13.3.0 CentOS Stream 9 (ARM) Kernel: Depends on container host Compiler: gcc 11.5.0 20240719 (Red Hat 11.5.0-2) Debian 11 (Buster) (ARM) Kernel: Depends on container host Compiler: gcc (Debian 10.2.1-6) 10.2.1 20210110 Debian 12 (arm) Kernel: Depends on container host Compiler: gcc (Debian 12.2.0-14) 12.2.0 To view detailed results, visit: https://lab.dpdk.org/results/dashboard/tarballs/32504/ UNH-IOL DPDK Community Lab To manage your email subscriptions, visit: https://lab.dpdk.org/results/dashboard/preferences/subscriptions/