From mboxrd@z Thu Jan 1 00:00:00 1970 Return-Path: Received: from mails.dpdk.org (mails.dpdk.org [217.70.189.124]) by inbox.dpdk.org (Postfix) with ESMTP id 75E9C461AE for ; Sat, 8 Feb 2025 16:13:12 +0100 (CET) Received: from mails.dpdk.org (localhost [127.0.0.1]) by mails.dpdk.org (Postfix) with ESMTP id 6161340280; Sat, 8 Feb 2025 16:13:12 +0100 (CET) Received: from mail-qv1-f100.google.com (mail-qv1-f100.google.com [209.85.219.100]) by mails.dpdk.org (Postfix) with ESMTP id F0AFF40279 for ; Sat, 8 Feb 2025 16:13:11 +0100 (CET) Received: by mail-qv1-f100.google.com with SMTP id 6a1803df08f44-6e41e18137bso26873986d6.1 for ; Sat, 08 Feb 2025 07:13:11 -0800 (PST) DKIM-Signature: v=1; a=rsa-sha256; c=relaxed/relaxed; d=iol.unh.edu; s=unh-iol; t=1739027591; x=1739632391; darn=dpdk.org; h=cc:to:from:subject:message-id:date:from:to:cc:subject:date :message-id:reply-to; bh=MmL0sXqFY4yqx2UE6TQML5Zn6vvCoZIq/YxZYJtXobY=; b=itsn3uYN1YzsBHGTns8ENGrG/gsKwewQuN7x43OKS6yBV0OWziIqxPfyg4OcFE8Pzz XosD8PsACfLhvnaXyZuIRl7pbguWFqghQ30P1b+T8x2CHdDw+R5yGY0pg2NbVwQsd3pm RP3IkZqm4hgkvgZPrmrmJIxiltixe4sO2ygXY= X-Google-DKIM-Signature: v=1; a=rsa-sha256; c=relaxed/relaxed; d=1e100.net; s=20230601; t=1739027591; x=1739632391; h=cc:to:from:subject:message-id:date:x-gm-message-state:from:to:cc :subject:date:message-id:reply-to; bh=MmL0sXqFY4yqx2UE6TQML5Zn6vvCoZIq/YxZYJtXobY=; b=iQDB5VeTH8V+O92NkbzFm05j8kWlPm3Sx/sKd8sCFXytLjoOHGqfJBM6dfvOdp4Wpp pr+bHKNF3xYNNc+mznOsyFqYZLRB2W/SyF/RXla3lsrDoXNRECG306Vg4a9pE35auidc qCYIJ1h8RlSCBXp+5y6W/YOKFUDSOaXf/dMxwiwDkbZ+QZ4pZbURdiJzCdBpoScIiUQ9 K9l92dIKRsu1++ZnFTnGc8zexCI0QOx793EVMKK38aHX6u/mlyq3OEc2f4aBuhTIi4f3 KZR2uL4IgsM83/eKG9Bj+FgKEnnwtctSwbrP+I28pVA9jtf4+LjkbBkjMLzPlyLcTGF0 GoXA== X-Gm-Message-State: AOJu0Yz9Q5piRH+T+aJZcCKT+GUuQY8c2a59WNkXtqbPAZhSalKXfAnc Ww/q2DQ7Ic9ZWsXIPDCk8cZVASeKhx45Rsujp23fq+IOHVjuLYIKSsjwpWWB4QsdLLQPcNn8CL7 d1+8+0xQnpKrM0/OrtBqIiY5xJ6uA4PGMF0XG2zqe X-Gm-Gg: ASbGncs+9b72dYdUYoidnOZFomV5gOYsF/nv4RBmctpOE1ZZR74IN4bQIv2KuYCihhm orX1ccsqgwxRwL/p6StCM4M9skhYZaS3hILEsiqDlgdlhi7SEuBi/1JDKVp7kVGBJB8ZIeV+mnV vaxXevvAcaDtA3HRny6qKiyE1X4x+oAAc+uLkXFvsXFSGs/gotu5N0H4ImZLH5YyVdXjurHll3O x2+bpxS/um82lUqG+dXts93jWmIS1cqEMEgbp6ZpzhQaLNfMZd+0S5gcwMI+yLjvJRgRAySc5UL SFQMj1e5CRIEnf7q8J7kBA8xTvegkA== X-Google-Smtp-Source: AGHT+IHYtQIHsylgS4TyAi7rPbOk1YaBZdrotmM0f/EOeCuGk+Mq+gPC6c5Gq01l6fH2+S4kUGduTC7G/mBe X-Received: by 2002:a05:6214:1d24:b0:6d8:92c9:12a0 with SMTP id 6a1803df08f44-6e445729f9bmr91567726d6.44.1739027591317; Sat, 08 Feb 2025 07:13:11 -0800 (PST) Received: from postal.iol.unh.edu (postal.iol.unh.edu. [132.177.123.84]) by smtp-relay.gmail.com with ESMTPS id 6a1803df08f44-6e43ba409c2sm3382316d6.23.2025.02.08.07.13.11 (version=TLS1_2 cipher=ECDHE-ECDSA-AES128-GCM-SHA256 bits=128/128); Sat, 08 Feb 2025 07:13:11 -0800 (PST) X-Relaying-Domain: iol.unh.edu Date: Sat, 08 Feb 2025 07:13:11 -0800 (PST) Message-ID: <67a77487.050a0220.44cd0.12b7SMTPIN_ADDED_MISSING@mx.google.com> Received: from [172.21.0.6] (unknown [172.18.0.240]) by postal.iol.unh.edu (Postfix) with ESMTP id E12246052471; Sat, 8 Feb 2025 10:12:40 -0500 (EST) Subject: |SUCCESS| [GIT MASTER] 992fd7e15692e3faab0c0e590aaa63998657d804 From: dpdklab@iol.unh.edu To: Test Report Cc: dpdk-test-reports@iol.unh.edu, Chenbo Xia , Maxime Coquelin Content-Type: text/plain X-BeenThere: test-report@dpdk.org X-Mailman-Version: 2.1.29 Precedence: list List-Id: automatic DPDK test reports List-Unsubscribe: , List-Archive: List-Post: List-Help: List-Subscribe: , Errors-To: test-report-bounces@dpdk.org _Testing PASS_ Branch: dpdk-next-virtio 992fd7e15692e3faab0c0e590aaa63998657d804 --> testing pass Upstream job id: Generic-Unit-Test-DPDK#313223 Test environment and result as below: +---------------------+----------------+ | Environment | dpdk_unit_test | +=====================+================+ | Fedora 40 (Clang) | PASS | +---------------------+----------------+ | Debian Bullseye | PASS | +---------------------+----------------+ | CentOS Stream 9 | PASS | +---------------------+----------------+ | Fedora 41 | PASS | +---------------------+----------------+ | Debian 12 | PASS | +---------------------+----------------+ | Fedora 40 | PASS | +---------------------+----------------+ | Fedora 41 (Clang) | PASS | +---------------------+----------------+ | Ubuntu 20.04 | PASS | +---------------------+----------------+ | RHEL9 | PASS | +---------------------+----------------+ | Ubuntu 22.04 | PASS | +---------------------+----------------+ | Ubuntu 24.04 | PASS | +---------------------+----------------+ | RHEL8 | PASS | +---------------------+----------------+ | Windows Server 2022 | PASS | +---------------------+----------------+ Fedora 40 (Clang) Kernel: Depends on container host Compiler: clang 18.1.8 (Fedora 18.1.8-1.fc40) Debian Bullseye Kernel: Depends on container host Compiler: gcc (Debian 10.2.1-6) 10.2.1 20210110 CentOS Stream 9 Kernel: Depends on container host Compiler: gcc 11.5.0 20240719 (Red Hat 11.5.0-2) Fedora 41 Kernel: Depends on container host Compiler: gcc 14.2.1 20240912 (Red Hat 14.2.1-3) Debian 12 Kernel: Depends on container host Compiler: gcc (Debian 12.2.0-14) 12.2.0 Fedora 40 Kernel: Depends on container host Compiler: gcc 14.2.1 20240912 (Red Hat 14.2.1-3) Fedora 41 (Clang) Kernel: Depends on container host Compiler: clang 19.1.5 (Fedora 19.1.5-1.fc41) Ubuntu 20.04 Kernel: Depends on container host Compiler: gcc (Ubuntu 9.4.0-1ubuntu1~20.04.2) 9.4.0 RHEL9 Kernel: Depends on container host Compiler: gcc 11.5.0 20240719 (Red Hat 11.5.0-2) Ubuntu 22.04 Kernel: Depends on container host Compiler: gcc (Ubuntu 11.4.0-1ubuntu1~22.04) 11.4.0 Ubuntu 24.04 Kernel: Depends on container host Compiler: gcc (Ubuntu 13.3.0-6ubuntu2~24.04) 13.3.0 RHEL8 Kernel: Depends on container host Compiler: gcc 8.5.0 20210514 (Red Hat 8.5.0-22) Windows Server 2022 Kernel: 10.0.20348.2031 Compiler: clang 15.0.7, gcc 14.1.0 (MinGW), and MSVC VS 19.39.33521 To view detailed results, visit: https://lab.dpdk.org/results/dashboard/tarballs/32507/ UNH-IOL DPDK Community Lab To manage your email subscriptions, visit: https://lab.dpdk.org/results/dashboard/preferences/subscriptions/