From mboxrd@z Thu Jan 1 00:00:00 1970 Return-Path: Received: from mails.dpdk.org (mails.dpdk.org [217.70.189.124]) by inbox.dpdk.org (Postfix) with ESMTP id 7D4EE461CB for ; Sat, 8 Feb 2025 16:21:46 +0100 (CET) Received: from mails.dpdk.org (localhost [127.0.0.1]) by mails.dpdk.org (Postfix) with ESMTP id 790F440280; Sat, 8 Feb 2025 16:21:46 +0100 (CET) Received: from mail-pl1-f225.google.com (mail-pl1-f225.google.com [209.85.214.225]) by mails.dpdk.org (Postfix) with ESMTP id 2D99A40280 for ; Sat, 8 Feb 2025 16:21:45 +0100 (CET) Received: by mail-pl1-f225.google.com with SMTP id d9443c01a7336-21f44e7eae4so43826895ad.2 for ; Sat, 08 Feb 2025 07:21:45 -0800 (PST) DKIM-Signature: v=1; a=rsa-sha256; c=relaxed/relaxed; d=iol.unh.edu; s=unh-iol; t=1739028104; x=1739632904; darn=dpdk.org; h=cc:to:from:subject:message-id:date:from:to:cc:subject:date :message-id:reply-to; bh=yffASqKmR7QiKQkdZSBM7Y+beyynWDS5WIOxr0cjN3M=; b=OLJ56JX6t/A/tVi6eFtGYQSn8LM1WQ6bJf3BLQ25Wxp4rs5Fqwr/kW5Lp/M2bpkPd5 ddohZHjYTGtGEqKgj4pHG4moEkcmdQ98LolLGl8GoDaB0iDplg75DRotzSA3o0zzYSWv f4hrsoWV0+n268q8vfJFXIeq/AKFBeOPA2uKg= X-Google-DKIM-Signature: v=1; a=rsa-sha256; c=relaxed/relaxed; d=1e100.net; s=20230601; t=1739028104; x=1739632904; h=cc:to:from:subject:message-id:date:x-gm-message-state:from:to:cc :subject:date:message-id:reply-to; bh=yffASqKmR7QiKQkdZSBM7Y+beyynWDS5WIOxr0cjN3M=; b=q8OYceARISpoq2gP59lW/ofQtTUNjLCgTGH/IuSZK9kVyGeSObl3iCgSIp2FgpGiXE UFpRLuBmeJSFlalHVxwExLGZ6FYo+Nq1XXTYYLH1yF5++46iXZM1HoYMmnDKIv6Lokr0 g1tqt83NRuh8q+FODHKTAxQCKssmi0IeBBM6Xi1AYiLZBRLgJuLOiArjrmFCLb38k8or aWhPvByiNtaWZ5uopHIv9TWKhYczEudicphMnsna5JfEcPdPkxClfwTVvAJchdE7G686 5NUp/e4NM+BPKFSm0iiJw48UwLT2nnLzFGqgpT7CViVTQMboGadHCW6r4dnpXAMjbEGK Luqg== X-Gm-Message-State: AOJu0Yy/HfrfTI8DG7jt2IJG2ACf1J9sPJvdDM5YHgKeywQfAshT3YNr 6KxMkKbXT/0U70MXqEVbUeLv8sSnKho979H4wsSTh9jg04onIQsVw9L8TNxCNXqz/H2dAxk1IJb xPf3wCv/cnepDhqGA5o8Fjy6v/phzAkWQK+WHvzv+ X-Gm-Gg: ASbGncv14cDDO+C2+pO9cdow/xUrTJ02mzWaeM1ur9OhdQqeMOAOXRjpNEkZto1WIJo gm3iBO2xOKR0l52njdsJZcx2BYxc6rmZBJcfut3Sf70R3K6TjMu8eG/9CM2eP7wbvV4BPbuTbdd JSuwjZCrJIEFKuteZr5sx1uoNSqXyBQA1tIs47pb2aCcpRFKdVLXwkNmkAvyifNHFzbhb3ddNAW 0CUs3DrOqkOZEgn0gC3iQ2PRgmZXeePHIbT8u5ri/rUmQoICC3U6SLDrBIXFWmSU+Vs9eOvGkET TnKRi3acnxcAfGkZwhtJw+NQt+C5kg== X-Google-Smtp-Source: AGHT+IH+C2ZgasXXgS7oPy2aKm9ml36DBZzOmaqHcUHowZkwlq3lejPdIQJ4gPic7PVBYrqvmzwbRnMNP1cJ X-Received: by 2002:a17:902:e951:b0:21f:37ea:47c9 with SMTP id d9443c01a7336-21f4e6a55d1mr139998125ad.4.1739028104325; Sat, 08 Feb 2025 07:21:44 -0800 (PST) Received: from postal.iol.unh.edu (postal.iol.unh.edu. [132.177.123.84]) by smtp-relay.gmail.com with ESMTPS id d9443c01a7336-21f365517d3sm3246765ad.45.2025.02.08.07.21.44 (version=TLS1_2 cipher=ECDHE-ECDSA-AES128-GCM-SHA256 bits=128/128); Sat, 08 Feb 2025 07:21:44 -0800 (PST) X-Relaying-Domain: iol.unh.edu Date: Sat, 08 Feb 2025 07:21:44 -0800 (PST) Message-ID: <67a77688.170a0220.181dd4.0ae1SMTPIN_ADDED_MISSING@mx.google.com> Received: from [172.21.0.7] (unknown [172.18.0.240]) by postal.iol.unh.edu (Postfix) with ESMTP id 63AF06052471; Sat, 8 Feb 2025 10:21:13 -0500 (EST) Subject: |SUCCESS| [GIT MASTER] 992fd7e15692e3faab0c0e590aaa63998657d804 From: dpdklab@iol.unh.edu To: Test Report Cc: dpdk-test-reports@iol.unh.edu, Chenbo Xia , Maxime Coquelin Content-Type: text/plain X-BeenThere: test-report@dpdk.org X-Mailman-Version: 2.1.29 Precedence: list List-Id: automatic DPDK test reports List-Unsubscribe: , List-Archive: List-Post: List-Help: List-Subscribe: , Errors-To: test-report-bounces@dpdk.org _Testing PASS_ Branch: dpdk-next-virtio 992fd7e15692e3faab0c0e590aaa63998657d804 --> testing pass Upstream job id: Generic-Unit-Test-DPDK#313232 Test environment and result as below: +-----------------------------+----------------+--------------+---------------------------+------------------------------+ | Environment | dpdk_unit_test | lpm_autotest | cryptodev_sw_zuc_autotest | cryptodev_sw_snow3g_autotest | +=============================+================+==============+===========================+==============================+ | CentOS Stream 9 (ARM) | PASS | SKIPPED | SKIPPED | SKIPPED | +-----------------------------+----------------+--------------+---------------------------+------------------------------+ | Debian 12 (arm) | PASS | SKIPPED | PASS | PASS | +-----------------------------+----------------+--------------+---------------------------+------------------------------+ | Fedora 41 (ARM) | PASS | SKIPPED | SKIPPED | SKIPPED | +-----------------------------+----------------+--------------+---------------------------+------------------------------+ | Debian 11 (Buster) (ARM) | PASS | SKIPPED | SKIPPED | SKIPPED | +-----------------------------+----------------+--------------+---------------------------+------------------------------+ | Fedora 40 (ARM Clang) | PASS | SKIPPED | SKIPPED | SKIPPED | +-----------------------------+----------------+--------------+---------------------------+------------------------------+ | Fedora 40 (ARM) | PASS | SKIPPED | SKIPPED | SKIPPED | +-----------------------------+----------------+--------------+---------------------------+------------------------------+ | Ubuntu 20.04 (ARM) | PASS | SKIPPED | SKIPPED | SKIPPED | +-----------------------------+----------------+--------------+---------------------------+------------------------------+ | Ubuntu 22.04 (ARM) | PASS | SKIPPED | SKIPPED | SKIPPED | +-----------------------------+----------------+--------------+---------------------------+------------------------------+ | Fedora 41 (ARM Clang) | PASS | SKIPPED | SKIPPED | SKIPPED | +-----------------------------+----------------+--------------+---------------------------+------------------------------+ | RHEL9 (ARM) | PASS | SKIPPED | SKIPPED | SKIPPED | +-----------------------------+----------------+--------------+---------------------------+------------------------------+ | Ubuntu 24.04 (ARM) | PASS | SKIPPED | SKIPPED | SKIPPED | +-----------------------------+----------------+--------------+---------------------------+------------------------------+ | 32-bit Ubuntu 22.04.4 (ARM) | PASS | SKIPPED | SKIPPED | SKIPPED | +-----------------------------+----------------+--------------+---------------------------+------------------------------+ | Ubuntu 20.04 ARM SVE | SKIPPED | PASS | SKIPPED | SKIPPED | +-----------------------------+----------------+--------------+---------------------------+------------------------------+ CentOS Stream 9 (ARM) Kernel: Depends on container host Compiler: gcc 11.5.0 20240719 (Red Hat 11.5.0-2) Debian 12 (arm) Kernel: Depends on container host Compiler: gcc (Debian 12.2.0-14) 12.2.0 Fedora 41 (ARM) Kernel: Depends on container host Compiler: gcc 14.2.1 20240912 (Red Hat 14.2.1-3) Debian 11 (Buster) (ARM) Kernel: Depends on container host Compiler: gcc (Debian 10.2.1-6) 10.2.1 20210110 Fedora 40 (ARM Clang) Kernel: Depends on container host Compiler: clang 18.1.8 (Fedora 18.1.8-1.fc40) Fedora 40 (ARM) Kernel: Depends on container host Compiler: gcc 14.2.1 20240912 (Red Hat 14.2.1-3) Ubuntu 20.04 (ARM) Kernel: Depends on container host Compiler: gcc (Ubuntu 9.4.0-1ubuntu1~20.04.2) 9.4.0 Ubuntu 22.04 (ARM) Kernel: Depends on container host Compiler: gcc (Ubuntu 11.4.0-1ubuntu1~22.04) 11.4.0 Fedora 41 (ARM Clang) Kernel: Depends on container host Compiler: clang 19.1.5 (Fedora 19.1.5-1.fc41) RHEL9 (ARM) Kernel: Depends on container host Compiler: gcc 11.5.0 20240719 (Red Hat 11.5.0-2) Ubuntu 24.04 (ARM) Kernel: Depends on container host Compiler: gcc (Ubuntu 13.3.0-6ubuntu2~24.04) 13.3.0 32-bit Ubuntu 22.04.4 (ARM) Kernel: 5.15.83+ aarch64 Compiler: gcc (Ubuntu 11.4.0-1ubuntu1~22.04) 11.4.0 Ubuntu 20.04 ARM SVE Kernel: Depends on container host Compiler: gcc (Ubuntu 10.5.0-1ubuntu1~20.04) 10.5.0 To view detailed results, visit: https://lab.dpdk.org/results/dashboard/tarballs/32507/ UNH-IOL DPDK Community Lab To manage your email subscriptions, visit: https://lab.dpdk.org/results/dashboard/preferences/subscriptions/