From mboxrd@z Thu Jan 1 00:00:00 1970 Return-Path: Received: from mails.dpdk.org (mails.dpdk.org [217.70.189.124]) by inbox.dpdk.org (Postfix) with ESMTP id 34A46461CB for ; Sat, 8 Feb 2025 16:36:48 +0100 (CET) Received: from mails.dpdk.org (localhost [127.0.0.1]) by mails.dpdk.org (Postfix) with ESMTP id 0F9E440280; Sat, 8 Feb 2025 16:36:48 +0100 (CET) Received: from mail-il1-f226.google.com (mail-il1-f226.google.com [209.85.166.226]) by mails.dpdk.org (Postfix) with ESMTP id D76BB40279 for ; Sat, 8 Feb 2025 16:36:46 +0100 (CET) Received: by mail-il1-f226.google.com with SMTP id e9e14a558f8ab-3ce915a8a25so10205035ab.1 for ; Sat, 08 Feb 2025 07:36:46 -0800 (PST) DKIM-Signature: v=1; a=rsa-sha256; c=relaxed/relaxed; d=iol.unh.edu; s=unh-iol; t=1739029006; x=1739633806; darn=dpdk.org; h=cc:to:from:subject:message-id:date:from:to:cc:subject:date :message-id:reply-to; bh=0ldl2Gtdk5Tq6kWVUhXinxADZJ52eN4Ny0ug0ujkO+I=; b=h8sxSRlNDvfQw25LxykjlZ5fWW9GfOdfUnZEwIYTMw2wQ35Omo2sahDP+oLhqE9hHR Mmmwwy59SX+vREW9VDXHAgFQ5RUfFZkG/9NsBTrlsR3MnFkALJn7jM9DjOUuTDniT37V HwBWzlC+42NQyEB3JH6+iNtAN60zi6WFhfDsQ= X-Google-DKIM-Signature: v=1; a=rsa-sha256; c=relaxed/relaxed; d=1e100.net; s=20230601; t=1739029006; x=1739633806; h=cc:to:from:subject:message-id:date:x-gm-message-state:from:to:cc :subject:date:message-id:reply-to; bh=0ldl2Gtdk5Tq6kWVUhXinxADZJ52eN4Ny0ug0ujkO+I=; b=ElJIquI41z9jxHECJJYWnCrLDtQVJl+z5kliqls2GueeH79T0k/LI8e+AWv4G18E3/ 2zmoQ4wApVwksrdlQsuTgO+hXB6sphTK263csEhhlHW3WL2kTFvbF/gw6UfGcq8uQI6Z xb4M7JWGHMgGN06U7S414RgVO6D0J95ngqsYIWaqxu6x/gOfj+GnUJJ5uExmnvzI27oS 6Ox1gU9ircH9hrTUTjsaFt3Gj+JwoM1k1xkh8DF7ETQ3eTijhtezsXN6qWmlqxyHIok2 lXCO8VvmpJOGRD2YZgpsvOrfNMoypgBaZt0o8Vy/LlZigseUui/ThxkNfyRN3oc5U5Tz oIcg== X-Gm-Message-State: AOJu0YzV1fs55vOpDZ5bc8Z3XXgB6HpBmvktKFx9Axo7f87VwLVarsxy wCz77ZW6idDaR8X66ibJpUMgrKEHLdMk5ZrEknNZNIBmez6ZPaW0AkoQiYkkwqcW4obdphY9R/g BWGib1tKgk982LQZnNLSSImJbQWrZ+q7OcPvPVEyP X-Gm-Gg: ASbGnctK9echbT7LWiQvTfyhQ07o76SAUw6VJmb/WSy1/cT9bkfNs78YxKQNJuoYmsf f3XFczMxn4E7NaAMfUqUPPmGeam64AhzEy5RD5nB28jNcYK+c1yrk/gAEAM2XDud9dxJRAlMCEY qrehPOnr7ax8yntBGBmAy/n7kQvuQS+QEsHRr+vMreFFqzfI1vWt3m+Vy9ZTHBlPKGe2ssIncLJ QSVmiSeeOeaRxRI5bNB+Uo3HJlFhoFWkgnOKc2vK0UJdREFZSsOlZUg0X/kXZ//4A+/PxzyD1dg xi3QhlUNl0YUqRKH1KD5YWN9mmwEkg== X-Google-Smtp-Source: AGHT+IF7g0YiEL/DoMm/9k+Dapb1ASLdKSlidK0UznKiM/0LUdopoq9V9KGY93zxkrYmJmm/k14vyvWmTX8n X-Received: by 2002:a05:6e02:b4d:b0:3cf:ae67:4115 with SMTP id e9e14a558f8ab-3d13dd2547dmr13519255ab.8.1739029006189; Sat, 08 Feb 2025 07:36:46 -0800 (PST) Received: from postal.iol.unh.edu (postal.iol.unh.edu. [132.177.123.84]) by smtp-relay.gmail.com with ESMTPS id e9e14a558f8ab-3d1474bf7casm2005715ab.45.2025.02.08.07.36.46 (version=TLS1_2 cipher=ECDHE-ECDSA-AES128-GCM-SHA256 bits=128/128); Sat, 08 Feb 2025 07:36:46 -0800 (PST) X-Relaying-Domain: iol.unh.edu Date: Sat, 08 Feb 2025 07:36:46 -0800 (PST) Message-ID: <67a77a0e.050a0220.289163.91d9SMTPIN_ADDED_MISSING@mx.google.com> Received: from [172.21.0.5] (unknown [172.18.0.240]) by postal.iol.unh.edu (Postfix) with ESMTP id 97E0F6052471; Sat, 8 Feb 2025 10:36:45 -0500 (EST) Subject: |SUCCESS| [GIT MASTER] 992fd7e15692e3faab0c0e590aaa63998657d804 From: dpdklab@iol.unh.edu To: Test Report Cc: dpdk-test-reports@iol.unh.edu, Chenbo Xia , Maxime Coquelin Content-Type: text/plain X-BeenThere: test-report@dpdk.org X-Mailman-Version: 2.1.29 Precedence: list List-Id: automatic DPDK test reports List-Unsubscribe: , List-Archive: List-Post: List-Help: List-Subscribe: , Errors-To: test-report-bounces@dpdk.org _Testing PASS_ Branch: dpdk-next-virtio 992fd7e15692e3faab0c0e590aaa63998657d804 --> testing pass Upstream job id: Generic-DPDK-Compile-Meson#359632 Test environment and result as below: +---------------------+--------------------+-------------------+-------------------------+----------------------+------------------+-------------------+ | Environment | dpdk_meson_compile | dpdk_msvc_compile | dpdk_llvm_clang_compile | dpdk_mingw64_compile | dpdk_compile_ovs | dpdk_compile_spdk | +=====================+====================+===================+=========================+======================+==================+===================+ | FreeBSD 13.4 | PASS | SKIPPED | SKIPPED | SKIPPED | SKIPPED | SKIPPED | +---------------------+--------------------+-------------------+-------------------------+----------------------+------------------+-------------------+ | FreeBSD 14.2 | PASS | SKIPPED | SKIPPED | SKIPPED | SKIPPED | SKIPPED | +---------------------+--------------------+-------------------+-------------------------+----------------------+------------------+-------------------+ | CentOS Stream 9 | PASS | SKIPPED | SKIPPED | SKIPPED | PASS | PASS | +---------------------+--------------------+-------------------+-------------------------+----------------------+------------------+-------------------+ | Debian Bullseye | PASS | SKIPPED | SKIPPED | SKIPPED | PASS | PASS | +---------------------+--------------------+-------------------+-------------------------+----------------------+------------------+-------------------+ | Debian 12 | PASS | SKIPPED | SKIPPED | SKIPPED | PASS | PASS | +---------------------+--------------------+-------------------+-------------------------+----------------------+------------------+-------------------+ | Fedora 40 (Clang) | PASS | SKIPPED | SKIPPED | SKIPPED | PASS | PASS | +---------------------+--------------------+-------------------+-------------------------+----------------------+------------------+-------------------+ | Fedora 40 | PASS | SKIPPED | SKIPPED | SKIPPED | PASS | PASS | +---------------------+--------------------+-------------------+-------------------------+----------------------+------------------+-------------------+ | Fedora 41 (Clang) | PASS | SKIPPED | SKIPPED | SKIPPED | PASS | PASS | +---------------------+--------------------+-------------------+-------------------------+----------------------+------------------+-------------------+ | Fedora 41 | PASS | SKIPPED | SKIPPED | SKIPPED | PASS | PASS | +---------------------+--------------------+-------------------+-------------------------+----------------------+------------------+-------------------+ | openSUSE Leap 15 | PASS | SKIPPED | SKIPPED | SKIPPED | SKIPPED | SKIPPED | +---------------------+--------------------+-------------------+-------------------------+----------------------+------------------+-------------------+ | RHEL8 | PASS | SKIPPED | SKIPPED | SKIPPED | PASS | SKIPPED | +---------------------+--------------------+-------------------+-------------------------+----------------------+------------------+-------------------+ | RHEL9 | PASS | SKIPPED | SKIPPED | SKIPPED | PASS | SKIPPED | +---------------------+--------------------+-------------------+-------------------------+----------------------+------------------+-------------------+ | Ubuntu 22.04 | PASS | SKIPPED | SKIPPED | SKIPPED | PASS | PASS | +---------------------+--------------------+-------------------+-------------------------+----------------------+------------------+-------------------+ | Ubuntu 24.04 | PASS | SKIPPED | SKIPPED | SKIPPED | PASS | PASS | +---------------------+--------------------+-------------------+-------------------------+----------------------+------------------+-------------------+ | Alpine | PASS | SKIPPED | SKIPPED | SKIPPED | PASS | SKIPPED | +---------------------+--------------------+-------------------+-------------------------+----------------------+------------------+-------------------+ | Ubuntu 20.04 | PASS | SKIPPED | SKIPPED | SKIPPED | SKIPPED | SKIPPED | +---------------------+--------------------+-------------------+-------------------------+----------------------+------------------+-------------------+ | Windows Server 2022 | SKIPPED | PASS | PASS | PASS | SKIPPED | SKIPPED | +---------------------+--------------------+-------------------+-------------------------+----------------------+------------------+-------------------+ FreeBSD 13.4 Kernel: 13.4-RELEASE-p1 Compiler: clang 18.1.6 FreeBSD 14.2 Kernel: 14.2-RELEASE Compiler: clang 18.1.6 CentOS Stream 9 Kernel: Depends on container host Compiler: gcc 11.5.0 20240719 (Red Hat 11.5.0-2) Debian Bullseye Kernel: Depends on container host Compiler: gcc (Debian 10.2.1-6) 10.2.1 20210110 Debian 12 Kernel: Depends on container host Compiler: gcc (Debian 12.2.0-14) 12.2.0 Fedora 40 (Clang) Kernel: Depends on container host Compiler: clang 18.1.8 (Fedora 18.1.8-1.fc40) Fedora 40 Kernel: Depends on container host Compiler: gcc 14.2.1 20240912 (Red Hat 14.2.1-3) Fedora 41 (Clang) Kernel: Depends on container host Compiler: clang 19.1.5 (Fedora 19.1.5-1.fc41) Fedora 41 Kernel: Depends on container host Compiler: gcc 14.2.1 20240912 (Red Hat 14.2.1-3) openSUSE Leap 15 Kernel: Depends on container host Compiler: gcc (SUSE Linux) 7.5.0 RHEL8 Kernel: Depends on container host Compiler: gcc 8.5.0 20210514 (Red Hat 8.5.0-22) RHEL9 Kernel: Depends on container host Compiler: gcc 11.5.0 20240719 (Red Hat 11.5.0-2) Ubuntu 22.04 Kernel: Depends on container host Compiler: gcc (Ubuntu 11.4.0-1ubuntu1~22.04) 11.4.0 Ubuntu 24.04 Kernel: Depends on container host Compiler: gcc (Ubuntu 13.3.0-6ubuntu2~24.04) 13.3.0 Alpine Kernel: Depends on container host Compiler: gcc (Alpine 14.2.0) 14.2.0 Ubuntu 20.04 Kernel: Depends on container host Compiler: gcc (Ubuntu 9.4.0-1ubuntu1~20.04.2) 9.4.0 Windows Server 2022 Kernel: 10.0.20348.2031 Compiler: clang 15.0.7, gcc 14.1.0 (MinGW), and MSVC VS 19.39.33521 To view detailed results, visit: https://lab.dpdk.org/results/dashboard/tarballs/32507/ UNH-IOL DPDK Community Lab To manage your email subscriptions, visit: https://lab.dpdk.org/results/dashboard/preferences/subscriptions/