From mboxrd@z Thu Jan 1 00:00:00 1970 Return-Path: Received: from mails.dpdk.org (mails.dpdk.org [217.70.189.124]) by inbox.dpdk.org (Postfix) with ESMTP id 2B4A1461CB for ; Sat, 8 Feb 2025 16:47:47 +0100 (CET) Received: from mails.dpdk.org (localhost [127.0.0.1]) by mails.dpdk.org (Postfix) with ESMTP id 07AF240280; Sat, 8 Feb 2025 16:47:47 +0100 (CET) Received: from mail-oa1-f100.google.com (mail-oa1-f100.google.com [209.85.160.100]) by mails.dpdk.org (Postfix) with ESMTP id D798740279 for ; Sat, 8 Feb 2025 16:47:45 +0100 (CET) Received: by mail-oa1-f100.google.com with SMTP id 586e51a60fabf-2b846648996so1028194fac.1 for ; Sat, 08 Feb 2025 07:47:45 -0800 (PST) DKIM-Signature: v=1; a=rsa-sha256; c=relaxed/relaxed; d=iol.unh.edu; s=unh-iol; t=1739029665; x=1739634465; darn=dpdk.org; h=cc:to:from:subject:message-id:date:from:to:cc:subject:date :message-id:reply-to; bh=VC5GruuS2Jge+OqJVAu6KvbNLWlxl56JLFtxKfzzmpE=; b=VPIBMPf6zSK85RkRsa/WaUi+6DyT9M5LdohbIKQkfpKyfVEZ5SoZ8SUH5d4NPfwu5h /YB/ZpMHbPgrrdl2moB+A2uXIv2XwhFYa8cmuocFPtUyvKSAgQyXEVd2wvT9OYauvYRS xc+/SehWic0r0B7rVaqb2k6JZpi5srFU3lZqg= X-Google-DKIM-Signature: v=1; a=rsa-sha256; c=relaxed/relaxed; d=1e100.net; s=20230601; t=1739029665; x=1739634465; h=cc:to:from:subject:message-id:date:x-gm-message-state:from:to:cc :subject:date:message-id:reply-to; bh=VC5GruuS2Jge+OqJVAu6KvbNLWlxl56JLFtxKfzzmpE=; b=Y0OBavEz8joducvUbG+ylgN+ZHtyvsbDP66Vl4HBIndczSvbIDBufszKTrb888Tai/ sm7fj/dhVpzb7fWXmq696fa2pOVcLL2+O/Gy0sEw4AyZbyWu0g5kNjIkireqEycvVHM9 5mCJ2+66r9C5MfGths3HH93nrN9O3g7glrrNMyaGl0xGc/pd/vZaDjk0UXm8fKcDXIa/ UdaDhTsOf/+uKF5V3DW/eNDXaSXlfDR94jdCSfjmG+W9aYDdq/RY2c3HMpoHKJIYKAN7 8D4S6rk6SZOaiaOHfzudkAEsPi0y9J/NvyCd2o016E9UWX7zWk1zyHUwXwRKvEhjD9bW 3bbg== X-Gm-Message-State: AOJu0YwJ140xGUpdzpQ2NdR/ELVWr36hDfFkZqKHWPZb5tYpv3LFCNw1 yX5SVKGnsnPaqR35EXsONKUY+C8zX6FAptHsKyFXjMIoYH/gjPeIb/N9HYcw0xGSvl0cj1hdw/v vcP3lGBeHGK6QHg1b028lUAt0MFacwxwVYeXhegGr X-Gm-Gg: ASbGncsK0shAN2ZO0HuZ0OYUxatuBXMU61g396i6159WQbauw6ACaI8WJ6s51mnYFpM wZfhr92jYdCnzgIlezAv4/gaNR+gUb3EGUrRA+vkfaqURIYwiImyV0LiC1G+umAV6V8GVbVnzr9 f1Uk9u4oJvUIIrkW/3s8K9skZn0CMqOQG9W/IIzgw4KOq3nYBgo5a61In5psLVUjt5+3HmTTfzg o6YcNHvHFje8iti+tCdI5PcgtVABhTS9HhzxzEuRVgmVgQkkHCYmNxFsgTue54TD1wjeiN13Gd1 G7lC5xbJc/LbDq4Q1S/xfY85Fh0EFg== X-Google-Smtp-Source: AGHT+IH8972Ky/qLwUq2+/hIfrUl25A0Zhpd9jAFoEFX78I156XwOrlCwRAGo7xIIViGWKORQoGmWxAQCB7x X-Received: by 2002:a05:6871:5810:b0:29e:5897:e9ed with SMTP id 586e51a60fabf-2b83ee922d6mr4625520fac.35.1739029664924; Sat, 08 Feb 2025 07:47:44 -0800 (PST) Received: from postal.iol.unh.edu (postal.iol.unh.edu. [132.177.123.84]) by smtp-relay.gmail.com with ESMTPS id 586e51a60fabf-2b82601b516sm287209fac.21.2025.02.08.07.47.44 (version=TLS1_2 cipher=ECDHE-ECDSA-AES128-GCM-SHA256 bits=128/128); Sat, 08 Feb 2025 07:47:44 -0800 (PST) X-Relaying-Domain: iol.unh.edu Date: Sat, 08 Feb 2025 07:47:44 -0800 (PST) Message-ID: <67a77ca0.050a0220.1bdc98.e41fSMTPIN_ADDED_MISSING@mx.google.com> Received: from [172.21.0.7] (unknown [172.18.0.240]) by postal.iol.unh.edu (Postfix) with ESMTP id 61FDC6052472; Sat, 8 Feb 2025 10:47:44 -0500 (EST) Subject: |SUCCESS| [GIT MASTER] b82daa7d47bda76b3879ef6d715b2d3eb737793f From: dpdklab@iol.unh.edu To: Test Report Cc: dpdk-test-reports@iol.unh.edu, Stephen Hemminger Content-Type: text/plain X-BeenThere: test-report@dpdk.org X-Mailman-Version: 2.1.29 Precedence: list List-Id: automatic DPDK test reports List-Unsubscribe: , List-Archive: List-Post: List-Help: List-Subscribe: , Errors-To: test-report-bounces@dpdk.org _Testing PASS_ Branch: dpdk-next-net b82daa7d47bda76b3879ef6d715b2d3eb737793f --> testing pass Upstream job id: Generic-Unit-Test-DPDK#313256 Test environment and result as below: +-----------------------------+--------------+---------------------------+------------------------------+----------------+ | Environment | lpm_autotest | cryptodev_sw_zuc_autotest | cryptodev_sw_snow3g_autotest | dpdk_unit_test | +=============================+==============+===========================+==============================+================+ | Ubuntu 20.04 ARM SVE | PASS | SKIPPED | SKIPPED | SKIPPED | +-----------------------------+--------------+---------------------------+------------------------------+----------------+ | Debian 12 (arm) | SKIPPED | PASS | PASS | PASS | +-----------------------------+--------------+---------------------------+------------------------------+----------------+ | 32-bit Ubuntu 22.04.4 (ARM) | SKIPPED | SKIPPED | SKIPPED | PASS | +-----------------------------+--------------+---------------------------+------------------------------+----------------+ | Debian 11 (Buster) (ARM) | SKIPPED | SKIPPED | SKIPPED | PASS | +-----------------------------+--------------+---------------------------+------------------------------+----------------+ | CentOS Stream 9 (ARM) | SKIPPED | SKIPPED | SKIPPED | PASS | +-----------------------------+--------------+---------------------------+------------------------------+----------------+ | Fedora 41 (ARM) | SKIPPED | SKIPPED | SKIPPED | PASS | +-----------------------------+--------------+---------------------------+------------------------------+----------------+ | Fedora 40 (ARM) | SKIPPED | SKIPPED | SKIPPED | PASS | +-----------------------------+--------------+---------------------------+------------------------------+----------------+ | Fedora 40 (ARM Clang) | SKIPPED | SKIPPED | SKIPPED | PASS | +-----------------------------+--------------+---------------------------+------------------------------+----------------+ | Fedora 41 (ARM Clang) | SKIPPED | SKIPPED | SKIPPED | PASS | +-----------------------------+--------------+---------------------------+------------------------------+----------------+ | RHEL9 (ARM) | SKIPPED | SKIPPED | SKIPPED | PASS | +-----------------------------+--------------+---------------------------+------------------------------+----------------+ | Ubuntu 20.04 (ARM) | SKIPPED | SKIPPED | SKIPPED | PASS | +-----------------------------+--------------+---------------------------+------------------------------+----------------+ | Ubuntu 22.04 (ARM) | SKIPPED | SKIPPED | SKIPPED | PASS | +-----------------------------+--------------+---------------------------+------------------------------+----------------+ | Ubuntu 24.04 (ARM) | SKIPPED | SKIPPED | SKIPPED | PASS | +-----------------------------+--------------+---------------------------+------------------------------+----------------+ Ubuntu 20.04 ARM SVE Kernel: Depends on container host Compiler: gcc (Ubuntu 10.5.0-1ubuntu1~20.04) 10.5.0 Debian 12 (arm) Kernel: Depends on container host Compiler: gcc (Debian 12.2.0-14) 12.2.0 32-bit Ubuntu 22.04.4 (ARM) Kernel: 5.15.83+ aarch64 Compiler: gcc (Ubuntu 11.4.0-1ubuntu1~22.04) 11.4.0 Debian 11 (Buster) (ARM) Kernel: Depends on container host Compiler: gcc (Debian 10.2.1-6) 10.2.1 20210110 CentOS Stream 9 (ARM) Kernel: Depends on container host Compiler: gcc 11.5.0 20240719 (Red Hat 11.5.0-2) Fedora 41 (ARM) Kernel: Depends on container host Compiler: gcc 14.2.1 20240912 (Red Hat 14.2.1-3) Fedora 40 (ARM) Kernel: Depends on container host Compiler: gcc 14.2.1 20240912 (Red Hat 14.2.1-3) Fedora 40 (ARM Clang) Kernel: Depends on container host Compiler: clang 18.1.8 (Fedora 18.1.8-1.fc40) Fedora 41 (ARM Clang) Kernel: Depends on container host Compiler: clang 19.1.5 (Fedora 19.1.5-1.fc41) RHEL9 (ARM) Kernel: Depends on container host Compiler: gcc 11.5.0 20240719 (Red Hat 11.5.0-2) Ubuntu 20.04 (ARM) Kernel: Depends on container host Compiler: gcc (Ubuntu 9.4.0-1ubuntu1~20.04.2) 9.4.0 Ubuntu 22.04 (ARM) Kernel: Depends on container host Compiler: gcc (Ubuntu 11.4.0-1ubuntu1~22.04) 11.4.0 Ubuntu 24.04 (ARM) Kernel: Depends on container host Compiler: gcc (Ubuntu 13.3.0-6ubuntu2~24.04) 13.3.0 To view detailed results, visit: https://lab.dpdk.org/results/dashboard/tarballs/32508/ UNH-IOL DPDK Community Lab To manage your email subscriptions, visit: https://lab.dpdk.org/results/dashboard/preferences/subscriptions/