From mboxrd@z Thu Jan 1 00:00:00 1970 Return-Path: Received: from mails.dpdk.org (mails.dpdk.org [217.70.189.124]) by inbox.dpdk.org (Postfix) with ESMTP id 39438461CB for ; Sat, 8 Feb 2025 17:07:25 +0100 (CET) Received: from mails.dpdk.org (localhost [127.0.0.1]) by mails.dpdk.org (Postfix) with ESMTP id 0D59C40280; Sat, 8 Feb 2025 17:07:25 +0100 (CET) Received: from mail-qt1-f225.google.com (mail-qt1-f225.google.com [209.85.160.225]) by mails.dpdk.org (Postfix) with ESMTP id 4106540279 for ; Sat, 8 Feb 2025 17:07:24 +0100 (CET) Received: by mail-qt1-f225.google.com with SMTP id d75a77b69052e-467a3f1e667so19025901cf.0 for ; Sat, 08 Feb 2025 08:07:24 -0800 (PST) DKIM-Signature: v=1; a=rsa-sha256; c=relaxed/relaxed; d=iol.unh.edu; s=unh-iol; t=1739030843; x=1739635643; darn=dpdk.org; h=cc:to:from:subject:message-id:date:from:to:cc:subject:date :message-id:reply-to; bh=hGLdl9WGeEWxeQIcniEXvM/neTrVVwz3XJlRVYfSIKQ=; b=iCQHjzAsoGWRkm2ApQrhDQiXTpxByUhYpSXYbiplgDfalQBUPguRjBGR2U7EoX7cwW nXT4Ia9av+2TqYq932EA3FPDQn+oP4u7TTD4LJcFrqxDlKdXSXql1DA7Udy7XbN2cDGG bm0D8Ojn2DKFJMaLyiVxmwPPS1I2/Om0AmvsM= X-Google-DKIM-Signature: v=1; a=rsa-sha256; c=relaxed/relaxed; d=1e100.net; s=20230601; t=1739030843; x=1739635643; h=cc:to:from:subject:message-id:date:x-gm-message-state:from:to:cc :subject:date:message-id:reply-to; bh=hGLdl9WGeEWxeQIcniEXvM/neTrVVwz3XJlRVYfSIKQ=; b=b88spwGOfQvLp96qTwOPvA6CIWyWj64Qg6aC+VfLAYcDX5wt5Pkqj8NrP7FQiY0Eeq kjFuelVBjOpADQLCzLzrU9EJwxPFVNPyUDbuSvywl9tVF7Cpfy8qbq+6n8KQt/I/Op+v S8PRUmOUefI7Det76abIRpwYgdMWYMoXbNepe91Pz8cKzLZeN4lKCIE6uEOD9RjI3b3Z uI0r65g/cLpHMo7jOFT0R65H0r8tYgQSWLegVVzAO4GCkPiqhk8zRW+DY9Q81/n2qvFn +b7MKXV+r/r5j8StGRYwqFeZ8SbgglnjEaostKZXWGuEJUhONTpSxGUff9SRABQP6Pd0 eN1w== X-Gm-Message-State: AOJu0YykkTcRsvyJaLK6aUJfMWKPTq+KNseBYXeSiktrja8IU8xvT58l Qdjv5fmNnfW16Sjd0BulZzQik5SlFNXMB0ixB7hlIaBd8y/IPfSrvIdXImEiWLZJZt5kvMKB4gl IyWbvt8KPSS6VJrYDe0PaM7y3zvhB9TmXNjAbuwCG X-Gm-Gg: ASbGncsEi5bnKLPQE1aIZ393iXXywBDPZYLf2rakUfVtWF8saXC242LSmahMNvnRiAl Bs8KbGF+mRCCKu/Bub6yJV9nNhk2au/kW63b3CRLmxEOy6vZvgEv4bQ1fNgveL13CtiROpyz64i fLk0gzYv73R3QYmOnflR/t662LKV4EObqTO3ZL0hPcqA5s8v+pltp+dzS37ejnVpgY7yUw1gc/j lSBhId6XCTy8yo3XMi/3IDlf0iTMs42uoC+8q6uYIRHEjdThCoKBlywI39IO1V7ozZf9Btf0oTz qrLmh1lVV+9tKHH0swY7RmYc6hKnfg== X-Google-Smtp-Source: AGHT+IFvTJnHUdiVxnusz0KPkfvwuGcHfr136Nb9ihlRaxvuYKY9vecZEpCQCC/3o8rzJYpoWqXJDEp7kJxq X-Received: by 2002:a05:6214:240f:b0:6e1:69ba:346 with SMTP id 6a1803df08f44-6e4455df88cmr133274796d6.10.1739030843516; Sat, 08 Feb 2025 08:07:23 -0800 (PST) Received: from postal.iol.unh.edu (postal.iol.unh.edu. [132.177.123.84]) by smtp-relay.gmail.com with ESMTPS id 6a1803df08f44-6e45a20724dsm9826d6.28.2025.02.08.08.07.23 (version=TLS1_2 cipher=ECDHE-ECDSA-AES128-GCM-SHA256 bits=128/128); Sat, 08 Feb 2025 08:07:23 -0800 (PST) X-Relaying-Domain: iol.unh.edu Date: Sat, 08 Feb 2025 08:07:23 -0800 (PST) Message-ID: <67a7813b.050a0220.139054.00acSMTPIN_ADDED_MISSING@mx.google.com> Received: from [172.21.0.6] (unknown [172.18.0.240]) by postal.iol.unh.edu (Postfix) with ESMTP id 1EE4F6052472; Sat, 8 Feb 2025 11:07:23 -0500 (EST) Subject: |SUCCESS| [GIT MASTER] b82daa7d47bda76b3879ef6d715b2d3eb737793f From: dpdklab@iol.unh.edu To: Test Report Cc: dpdk-test-reports@iol.unh.edu, Stephen Hemminger Content-Type: text/plain X-BeenThere: test-report@dpdk.org X-Mailman-Version: 2.1.29 Precedence: list List-Id: automatic DPDK test reports List-Unsubscribe: , List-Archive: List-Post: List-Help: List-Subscribe: , Errors-To: test-report-bounces@dpdk.org _Testing PASS_ Branch: dpdk-next-net b82daa7d47bda76b3879ef6d715b2d3eb737793f --> testing pass Upstream job id: Generic-DPDK-Compile-Meson#359653 Test environment and result as below: +---------------------+--------------------+-------------------+------------------+-------------------+-------------------------+----------------------+ | Environment | dpdk_meson_compile | dpdk_msvc_compile | dpdk_compile_ovs | dpdk_compile_spdk | dpdk_llvm_clang_compile | dpdk_mingw64_compile | +=====================+====================+===================+==================+===================+=========================+======================+ | FreeBSD 13.4 | PASS | SKIPPED | SKIPPED | SKIPPED | SKIPPED | SKIPPED | +---------------------+--------------------+-------------------+------------------+-------------------+-------------------------+----------------------+ | FreeBSD 14.2 | PASS | SKIPPED | SKIPPED | SKIPPED | SKIPPED | SKIPPED | +---------------------+--------------------+-------------------+------------------+-------------------+-------------------------+----------------------+ | CentOS Stream 9 | PASS | SKIPPED | PASS | PASS | SKIPPED | SKIPPED | +---------------------+--------------------+-------------------+------------------+-------------------+-------------------------+----------------------+ | Debian Bullseye | PASS | SKIPPED | PASS | PASS | SKIPPED | SKIPPED | +---------------------+--------------------+-------------------+------------------+-------------------+-------------------------+----------------------+ | Debian 12 | PASS | SKIPPED | PASS | PASS | SKIPPED | SKIPPED | +---------------------+--------------------+-------------------+------------------+-------------------+-------------------------+----------------------+ | Fedora 40 (Clang) | PASS | SKIPPED | PASS | PASS | SKIPPED | SKIPPED | +---------------------+--------------------+-------------------+------------------+-------------------+-------------------------+----------------------+ | Fedora 40 | PASS | SKIPPED | PASS | PASS | SKIPPED | SKIPPED | +---------------------+--------------------+-------------------+------------------+-------------------+-------------------------+----------------------+ | Fedora 41 (Clang) | PASS | SKIPPED | PASS | PASS | SKIPPED | SKIPPED | +---------------------+--------------------+-------------------+------------------+-------------------+-------------------------+----------------------+ | Fedora 41 | PASS | SKIPPED | PASS | PASS | SKIPPED | SKIPPED | +---------------------+--------------------+-------------------+------------------+-------------------+-------------------------+----------------------+ | openSUSE Leap 15 | PASS | SKIPPED | SKIPPED | SKIPPED | SKIPPED | SKIPPED | +---------------------+--------------------+-------------------+------------------+-------------------+-------------------------+----------------------+ | RHEL8 | PASS | SKIPPED | PASS | SKIPPED | SKIPPED | SKIPPED | +---------------------+--------------------+-------------------+------------------+-------------------+-------------------------+----------------------+ | RHEL9 | PASS | SKIPPED | PASS | SKIPPED | SKIPPED | SKIPPED | +---------------------+--------------------+-------------------+------------------+-------------------+-------------------------+----------------------+ | Ubuntu 20.04 | PASS | SKIPPED | SKIPPED | SKIPPED | SKIPPED | SKIPPED | +---------------------+--------------------+-------------------+------------------+-------------------+-------------------------+----------------------+ | Ubuntu 22.04 | PASS | SKIPPED | PASS | PASS | SKIPPED | SKIPPED | +---------------------+--------------------+-------------------+------------------+-------------------+-------------------------+----------------------+ | Ubuntu 24.04 | PASS | SKIPPED | PASS | PASS | SKIPPED | SKIPPED | +---------------------+--------------------+-------------------+------------------+-------------------+-------------------------+----------------------+ | Alpine | PASS | SKIPPED | PASS | SKIPPED | SKIPPED | SKIPPED | +---------------------+--------------------+-------------------+------------------+-------------------+-------------------------+----------------------+ | Windows Server 2022 | SKIPPED | PASS | SKIPPED | SKIPPED | PASS | PASS | +---------------------+--------------------+-------------------+------------------+-------------------+-------------------------+----------------------+ FreeBSD 13.4 Kernel: 13.4-RELEASE-p1 Compiler: clang 18.1.6 FreeBSD 14.2 Kernel: 14.2-RELEASE Compiler: clang 18.1.6 CentOS Stream 9 Kernel: Depends on container host Compiler: gcc 11.5.0 20240719 (Red Hat 11.5.0-2) Debian Bullseye Kernel: Depends on container host Compiler: gcc (Debian 10.2.1-6) 10.2.1 20210110 Debian 12 Kernel: Depends on container host Compiler: gcc (Debian 12.2.0-14) 12.2.0 Fedora 40 (Clang) Kernel: Depends on container host Compiler: clang 18.1.8 (Fedora 18.1.8-1.fc40) Fedora 40 Kernel: Depends on container host Compiler: gcc 14.2.1 20240912 (Red Hat 14.2.1-3) Fedora 41 (Clang) Kernel: Depends on container host Compiler: clang 19.1.5 (Fedora 19.1.5-1.fc41) Fedora 41 Kernel: Depends on container host Compiler: gcc 14.2.1 20240912 (Red Hat 14.2.1-3) openSUSE Leap 15 Kernel: Depends on container host Compiler: gcc (SUSE Linux) 7.5.0 RHEL8 Kernel: Depends on container host Compiler: gcc 8.5.0 20210514 (Red Hat 8.5.0-22) RHEL9 Kernel: Depends on container host Compiler: gcc 11.5.0 20240719 (Red Hat 11.5.0-2) Ubuntu 20.04 Kernel: Depends on container host Compiler: gcc (Ubuntu 9.4.0-1ubuntu1~20.04.2) 9.4.0 Ubuntu 22.04 Kernel: Depends on container host Compiler: gcc (Ubuntu 11.4.0-1ubuntu1~22.04) 11.4.0 Ubuntu 24.04 Kernel: Depends on container host Compiler: gcc (Ubuntu 13.3.0-6ubuntu2~24.04) 13.3.0 Alpine Kernel: Depends on container host Compiler: gcc (Alpine 14.2.0) 14.2.0 Windows Server 2022 Kernel: 10.0.20348.2031 Compiler: clang 15.0.7, gcc 14.1.0 (MinGW), and MSVC VS 19.39.33521 To view detailed results, visit: https://lab.dpdk.org/results/dashboard/tarballs/32508/ UNH-IOL DPDK Community Lab To manage your email subscriptions, visit: https://lab.dpdk.org/results/dashboard/preferences/subscriptions/