From mboxrd@z Thu Jan 1 00:00:00 1970 Return-Path: Received: from mails.dpdk.org (mails.dpdk.org [217.70.189.124]) by inbox.dpdk.org (Postfix) with ESMTP id 25AEC461CB for ; Sat, 8 Feb 2025 17:07:28 +0100 (CET) Received: from mails.dpdk.org (localhost [127.0.0.1]) by mails.dpdk.org (Postfix) with ESMTP id 2296740280; Sat, 8 Feb 2025 17:07:28 +0100 (CET) Received: from mail-oa1-f98.google.com (mail-oa1-f98.google.com [209.85.160.98]) by mails.dpdk.org (Postfix) with ESMTP id D160F40279 for ; Sat, 8 Feb 2025 17:07:26 +0100 (CET) Received: by mail-oa1-f98.google.com with SMTP id 586e51a60fabf-2b86794e3acso223487fac.3 for ; Sat, 08 Feb 2025 08:07:26 -0800 (PST) DKIM-Signature: v=1; a=rsa-sha256; c=relaxed/relaxed; d=iol.unh.edu; s=unh-iol; t=1739030846; x=1739635646; darn=dpdk.org; h=cc:to:from:subject:message-id:date:from:to:cc:subject:date :message-id:reply-to; bh=exRJfqK0h2wa2Osrkv0BbVWeQq28uMO9Y9WTj+ah7MA=; b=bL6/kYy/6tiefou13le4T6JRh7NmXC+qL5JQfYETZWX6AO5FuCpnubvcF8zmPa6qpu zETQCYAaiw1/g7LlRVwqHLjflnK3hu9sZFk46sLVDWXaDbSyhZ9ijxs8wcDi3LY7OKmj uUxdtJ06E41o0HALNqK4PgsI71TZQ1IUaBvcI= X-Google-DKIM-Signature: v=1; a=rsa-sha256; c=relaxed/relaxed; d=1e100.net; s=20230601; t=1739030846; x=1739635646; h=cc:to:from:subject:message-id:date:x-gm-message-state:from:to:cc :subject:date:message-id:reply-to; bh=exRJfqK0h2wa2Osrkv0BbVWeQq28uMO9Y9WTj+ah7MA=; b=ss14d3OH7zWCKRayJRiTAq7RVl2GoHt/o7r5LqB4Bh7cKbxUrV8i+Hpnop72C38WDV 2HNo3F1d0MterL1XFPM5hOohn1A1Yds/eNBg6umyzsXBszYa+5zY13fZe9nBXfk6IMky rYWH2vK9vJiuuI6DFh4p4HKfKhc93OiG/C01RzhtpSVOV6rnaxQJEO73G9pyuNpBUmuT 2MU2axDd//03o9iQ9OOsPqJU8gWFYOd7PiGYK/F6znEB0/eYjv6T3wkg1LwGigdCm5ph UOpfIX3MdRoUwUKAd3VodzRihVVtnLV4mhdmsX0v21xVLDn0e2C6mbV+yW7wY0iUbY8v 70rA== X-Gm-Message-State: AOJu0YxPpg8HJIlAW16e6FH4DyIA1bl+xDXnn0YvJZn0QiwGhwq500Cu 1/+9eK6Dh5KZzJotKH7+6vye4RYZmbwiiiaCGC5NnMiXWszXkaUukvBBNP6kbWO8Pcnk6peXcNt d2xNYLzvLQ/tNUDlIM+J9dgqSAJ80M0FMf/n+ipDB X-Gm-Gg: ASbGncuKazRxscjNqapwwr4Y+Hz0R03gX1iDl1GdZQDzjQSuKTYS1HnL9bY0GzXCf/O y6H7YfO1Z0GrlooAzNpOa0/CFkgIKvgiNVHYwLbA456cSPANwwaOJ758wkkWhorQIOI4RmYhvn7 sDkqR9qoQUhnwbmnvbHdb93vpDqxnNBZYImmaE56X2wkpAkGzgYi9/kyqR6ohTzRoefBQazqBAn /zpwPFQk4XH0gFgT/SVpUENg1sBKMCv2Xhut/EOCLMRn/flcDDepjMaeSDEVfmmQsOxnUv2GqL6 WxAYUbTVFpWfFfZMZEDBPdG7IYdnZA== X-Google-Smtp-Source: AGHT+IERdHHkXV82/iKviEr9lg9EPR2MX3vAN2okizgyikTmCi9Vx7ucj4zQCH9naHNrSUXylhPNmvPyllJo X-Received: by 2002:a05:6870:648f:b0:24e:8987:6f34 with SMTP id 586e51a60fabf-2b83eb9a61emr4336927fac.3.1739030845941; Sat, 08 Feb 2025 08:07:25 -0800 (PST) Received: from postal.iol.unh.edu (postal.iol.unh.edu. [132.177.123.84]) by smtp-relay.gmail.com with ESMTPS id 586e51a60fabf-2b82601f99fsm282198fac.23.2025.02.08.08.07.25 (version=TLS1_2 cipher=ECDHE-ECDSA-AES128-GCM-SHA256 bits=128/128); Sat, 08 Feb 2025 08:07:25 -0800 (PST) X-Relaying-Domain: iol.unh.edu Date: Sat, 08 Feb 2025 08:07:25 -0800 (PST) Message-ID: <67a7813d.050a0220.a6f9f.e0faSMTPIN_ADDED_MISSING@mx.google.com> Received: from [172.21.0.5] (unknown [172.18.0.240]) by postal.iol.unh.edu (Postfix) with ESMTP id 54E176052471; Sat, 8 Feb 2025 11:06:55 -0500 (EST) Subject: |SUCCESS| [GIT MASTER] b82daa7d47bda76b3879ef6d715b2d3eb737793f From: dpdklab@iol.unh.edu To: Test Report Cc: dpdk-test-reports@iol.unh.edu, Stephen Hemminger Content-Type: text/plain X-BeenThere: test-report@dpdk.org X-Mailman-Version: 2.1.29 Precedence: list List-Id: automatic DPDK test reports List-Unsubscribe: , List-Archive: List-Post: List-Help: List-Subscribe: , Errors-To: test-report-bounces@dpdk.org _Testing PASS_ Branch: dpdk-next-net b82daa7d47bda76b3879ef6d715b2d3eb737793f --> testing pass Upstream job id: Generic-DPDK-Compile-Meson#359654 Test environment and result as below: +---------------------+--------------------+-------------------+------------------+-------------------+-------------------------+----------------------+ | Environment | dpdk_meson_compile | dpdk_msvc_compile | dpdk_compile_ovs | dpdk_compile_spdk | dpdk_llvm_clang_compile | dpdk_mingw64_compile | +=====================+====================+===================+==================+===================+=========================+======================+ | FreeBSD 13.4 | PASS | SKIPPED | SKIPPED | SKIPPED | SKIPPED | SKIPPED | +---------------------+--------------------+-------------------+------------------+-------------------+-------------------------+----------------------+ | FreeBSD 14.2 | PASS | SKIPPED | SKIPPED | SKIPPED | SKIPPED | SKIPPED | +---------------------+--------------------+-------------------+------------------+-------------------+-------------------------+----------------------+ | CentOS Stream 9 | PASS | SKIPPED | PASS | PASS | SKIPPED | SKIPPED | +---------------------+--------------------+-------------------+------------------+-------------------+-------------------------+----------------------+ | Debian Bullseye | PASS | SKIPPED | PASS | PASS | SKIPPED | SKIPPED | +---------------------+--------------------+-------------------+------------------+-------------------+-------------------------+----------------------+ | Debian 12 | PASS | SKIPPED | PASS | PASS | SKIPPED | SKIPPED | +---------------------+--------------------+-------------------+------------------+-------------------+-------------------------+----------------------+ | Fedora 40 (Clang) | PASS | SKIPPED | PASS | PASS | SKIPPED | SKIPPED | +---------------------+--------------------+-------------------+------------------+-------------------+-------------------------+----------------------+ | Fedora 40 | PASS | SKIPPED | PASS | PASS | SKIPPED | SKIPPED | +---------------------+--------------------+-------------------+------------------+-------------------+-------------------------+----------------------+ | Fedora 41 (Clang) | PASS | SKIPPED | PASS | PASS | SKIPPED | SKIPPED | +---------------------+--------------------+-------------------+------------------+-------------------+-------------------------+----------------------+ | Fedora 41 | PASS | SKIPPED | PASS | PASS | SKIPPED | SKIPPED | +---------------------+--------------------+-------------------+------------------+-------------------+-------------------------+----------------------+ | openSUSE Leap 15 | PASS | SKIPPED | SKIPPED | SKIPPED | SKIPPED | SKIPPED | +---------------------+--------------------+-------------------+------------------+-------------------+-------------------------+----------------------+ | RHEL8 | PASS | SKIPPED | PASS | SKIPPED | SKIPPED | SKIPPED | +---------------------+--------------------+-------------------+------------------+-------------------+-------------------------+----------------------+ | RHEL9 | PASS | SKIPPED | PASS | SKIPPED | SKIPPED | SKIPPED | +---------------------+--------------------+-------------------+------------------+-------------------+-------------------------+----------------------+ | Ubuntu 20.04 | PASS | SKIPPED | SKIPPED | SKIPPED | SKIPPED | SKIPPED | +---------------------+--------------------+-------------------+------------------+-------------------+-------------------------+----------------------+ | Ubuntu 22.04 | PASS | SKIPPED | PASS | PASS | SKIPPED | SKIPPED | +---------------------+--------------------+-------------------+------------------+-------------------+-------------------------+----------------------+ | Ubuntu 24.04 | PASS | SKIPPED | PASS | PASS | SKIPPED | SKIPPED | +---------------------+--------------------+-------------------+------------------+-------------------+-------------------------+----------------------+ | Alpine | PASS | SKIPPED | PASS | SKIPPED | SKIPPED | SKIPPED | +---------------------+--------------------+-------------------+------------------+-------------------+-------------------------+----------------------+ | Windows Server 2022 | SKIPPED | PASS | SKIPPED | SKIPPED | PASS | PASS | +---------------------+--------------------+-------------------+------------------+-------------------+-------------------------+----------------------+ FreeBSD 13.4 Kernel: 13.4-RELEASE-p1 Compiler: clang 18.1.6 FreeBSD 14.2 Kernel: 14.2-RELEASE Compiler: clang 18.1.6 CentOS Stream 9 Kernel: Depends on container host Compiler: gcc 11.5.0 20240719 (Red Hat 11.5.0-2) Debian Bullseye Kernel: Depends on container host Compiler: gcc (Debian 10.2.1-6) 10.2.1 20210110 Debian 12 Kernel: Depends on container host Compiler: gcc (Debian 12.2.0-14) 12.2.0 Fedora 40 (Clang) Kernel: Depends on container host Compiler: clang 18.1.8 (Fedora 18.1.8-1.fc40) Fedora 40 Kernel: Depends on container host Compiler: gcc 14.2.1 20240912 (Red Hat 14.2.1-3) Fedora 41 (Clang) Kernel: Depends on container host Compiler: clang 19.1.5 (Fedora 19.1.5-1.fc41) Fedora 41 Kernel: Depends on container host Compiler: gcc 14.2.1 20240912 (Red Hat 14.2.1-3) openSUSE Leap 15 Kernel: Depends on container host Compiler: gcc (SUSE Linux) 7.5.0 RHEL8 Kernel: Depends on container host Compiler: gcc 8.5.0 20210514 (Red Hat 8.5.0-22) RHEL9 Kernel: Depends on container host Compiler: gcc 11.5.0 20240719 (Red Hat 11.5.0-2) Ubuntu 20.04 Kernel: Depends on container host Compiler: gcc (Ubuntu 9.4.0-1ubuntu1~20.04.2) 9.4.0 Ubuntu 22.04 Kernel: Depends on container host Compiler: gcc (Ubuntu 11.4.0-1ubuntu1~22.04) 11.4.0 Ubuntu 24.04 Kernel: Depends on container host Compiler: gcc (Ubuntu 13.3.0-6ubuntu2~24.04) 13.3.0 Alpine Kernel: Depends on container host Compiler: gcc (Alpine 14.2.0) 14.2.0 Windows Server 2022 Kernel: 10.0.20348.2031 Compiler: clang 15.0.7, gcc 14.1.0 (MinGW), and MSVC VS 19.39.33521 To view detailed results, visit: https://lab.dpdk.org/results/dashboard/tarballs/32508/ UNH-IOL DPDK Community Lab To manage your email subscriptions, visit: https://lab.dpdk.org/results/dashboard/preferences/subscriptions/