From mboxrd@z Thu Jan 1 00:00:00 1970 Return-Path: Received: from mails.dpdk.org (mails.dpdk.org [217.70.189.124]) by inbox.dpdk.org (Postfix) with ESMTP id DCB49461CB for ; Sat, 8 Feb 2025 17:13:52 +0100 (CET) Received: from mails.dpdk.org (localhost [127.0.0.1]) by mails.dpdk.org (Postfix) with ESMTP id B80A140279; Sat, 8 Feb 2025 17:13:52 +0100 (CET) Received: from mail-pl1-f227.google.com (mail-pl1-f227.google.com [209.85.214.227]) by mails.dpdk.org (Postfix) with ESMTP id D1A234025E for ; Sat, 8 Feb 2025 17:13:51 +0100 (CET) Received: by mail-pl1-f227.google.com with SMTP id d9443c01a7336-21f710c17baso6228055ad.1 for ; Sat, 08 Feb 2025 08:13:51 -0800 (PST) DKIM-Signature: v=1; a=rsa-sha256; c=relaxed/relaxed; d=iol.unh.edu; s=unh-iol; t=1739031231; x=1739636031; darn=dpdk.org; h=cc:to:from:subject:message-id:date:from:to:cc:subject:date :message-id:reply-to; bh=22gUK911i2/OQzTFtT2V8uZcINqKBzmFhOfVwoE8lhU=; b=NdoLw09rPUh0E0D6aFK0MmZphyRMhRf1SJoLHWYt44wiZmUkeQNgL7pp7+LQIzd04u 7NumUqnF+jK/rkqZ5/jz/ik+x0b1uNOhTVIrPRbCV8/5jhIxchN+cWBqyi9+iRtozo9j ZdiCPwIZYS7YsYUWnJEE+A6Vv+++SPrcT//98= X-Google-DKIM-Signature: v=1; a=rsa-sha256; c=relaxed/relaxed; d=1e100.net; s=20230601; t=1739031231; x=1739636031; h=cc:to:from:subject:message-id:date:x-gm-message-state:from:to:cc :subject:date:message-id:reply-to; bh=22gUK911i2/OQzTFtT2V8uZcINqKBzmFhOfVwoE8lhU=; b=tBTW74dM12E91ZWdCzZpPA/l+fqcYmv1mlPUejV33xoEBlU/npvSu+lA3FZvT592td L4RTwYffRngwES8xZwqO+7c6Mkc291xJWXh12NX4ZDz4rLzTBPdQKeUreyOY7pMNNBFq 44H2vdmTRFoEP2V1PGx9EZiL7y9LpON/SAgbvNrZ7CgxMtP1NvRDxYcoIXKJxDTUyAwM YbD9PndA9tZuH5wyfv8g1ZuQG4sbZiI2//gjUdgvGchThRft3I6oxrkF7dcl65tsiAWq Divug644Sx9HpoSorhY468Uej6YCvTGn+//pwerxUdJVl92QXbPzsmgbFSELUCrVET7V Jeiw== X-Gm-Message-State: AOJu0YyczmQKRbVc0xR1w3PnMdSLct3C9Np8Jqf9XNZFzjbWHAF7lc8U 7TpdnW6Z/qtpF/lv8Vil663fjhx+n29dxaBP2vIpwjXvxx5U3MUVbgeY3+S2+lAgU4lUSZTvvvv dt50B+CSPkpMP7xt4zVDu3ClPejwgfl3uAxIBsuQM X-Gm-Gg: ASbGncu9DsZaEnW3U9fW5TyXFn+DxJEQY+6B2V/OKlPqRx4bGLALg6rccrJW9+VcuuN 4mDBLRUuNe06rHmhxM6wDGekwhTmXjmUHOyAlAKLD9ZwRPqCGMjhc74oBJibfUB0fM3kxcDJAb8 NrFflP+9kPjHM7R2En+2K4Ckpgs2gx+5mG8LrL5G7zAi9V9xglqur3ITNNHIVCBWDYz6Bamaa4N i8faYJuTv2wpeoCY/FJMtd4dC/awWCQajjt7IyoKCQT9YPrx2nRMALbFjHSHO3rQozDq7YBqc7s NVsqv3+dkVovD5+zhGDikAUsGQyjPQ== X-Google-Smtp-Source: AGHT+IHgxtoflgebDEnzg6zzgxP5Ue+p9xsbqQ46c/dGfxTFo/pbM6VQx1D0mcC9RvCoa3nApm38ltlYjTZF X-Received: by 2002:a05:6a00:4293:b0:725:df1a:285 with SMTP id d2e1a72fcca58-7305d46f7ccmr12755769b3a.12.1739031230461; Sat, 08 Feb 2025 08:13:50 -0800 (PST) Received: from postal.iol.unh.edu (postal.iol.unh.edu. [132.177.123.84]) by smtp-relay.gmail.com with ESMTPS id d2e1a72fcca58-73048b00d8asm295939b3a.13.2025.02.08.08.13.50 (version=TLS1_2 cipher=ECDHE-ECDSA-AES128-GCM-SHA256 bits=128/128); Sat, 08 Feb 2025 08:13:50 -0800 (PST) X-Relaying-Domain: iol.unh.edu Date: Sat, 08 Feb 2025 08:13:50 -0800 (PST) Message-ID: <67a782be.050a0220.17ce5.e9f7SMTPIN_ADDED_MISSING@mx.google.com> Received: from [172.21.0.5] (unknown [172.18.0.240]) by postal.iol.unh.edu (Postfix) with ESMTP id A1814605247D; Sat, 8 Feb 2025 11:13:19 -0500 (EST) Subject: |SUCCESS| [GIT MASTER] b82daa7d47bda76b3879ef6d715b2d3eb737793f From: dpdklab@iol.unh.edu To: Test Report Cc: dpdk-test-reports@iol.unh.edu, Stephen Hemminger Content-Type: text/plain X-BeenThere: test-report@dpdk.org X-Mailman-Version: 2.1.29 Precedence: list List-Id: automatic DPDK test reports List-Unsubscribe: , List-Archive: List-Post: List-Help: List-Subscribe: , Errors-To: test-report-bounces@dpdk.org _Testing PASS_ Branch: dpdk-next-net b82daa7d47bda76b3879ef6d715b2d3eb737793f --> testing pass Upstream job id: Generic-Unit-Test-DPDK#313255 Test environment and result as below: +---------------------+----------------+ | Environment | dpdk_unit_test | +=====================+================+ | Debian Bullseye | PASS | +---------------------+----------------+ | CentOS Stream 9 | PASS | +---------------------+----------------+ | Debian 12 | PASS | +---------------------+----------------+ | Fedora 40 | PASS | +---------------------+----------------+ | Fedora 41 | PASS | +---------------------+----------------+ | Fedora 40 (Clang) | PASS | +---------------------+----------------+ | RHEL8 | PASS | +---------------------+----------------+ | Fedora 41 (Clang) | PASS | +---------------------+----------------+ | RHEL9 | PASS | +---------------------+----------------+ | Ubuntu 22.04 | PASS | +---------------------+----------------+ | Ubuntu 24.04 | PASS | +---------------------+----------------+ | Ubuntu 20.04 | PASS | +---------------------+----------------+ | Windows Server 2022 | PASS | +---------------------+----------------+ Debian Bullseye Kernel: Depends on container host Compiler: gcc (Debian 10.2.1-6) 10.2.1 20210110 CentOS Stream 9 Kernel: Depends on container host Compiler: gcc 11.5.0 20240719 (Red Hat 11.5.0-2) Debian 12 Kernel: Depends on container host Compiler: gcc (Debian 12.2.0-14) 12.2.0 Fedora 40 Kernel: Depends on container host Compiler: gcc 14.2.1 20240912 (Red Hat 14.2.1-3) Fedora 41 Kernel: Depends on container host Compiler: gcc 14.2.1 20240912 (Red Hat 14.2.1-3) Fedora 40 (Clang) Kernel: Depends on container host Compiler: clang 18.1.8 (Fedora 18.1.8-1.fc40) RHEL8 Kernel: Depends on container host Compiler: gcc 8.5.0 20210514 (Red Hat 8.5.0-22) Fedora 41 (Clang) Kernel: Depends on container host Compiler: clang 19.1.5 (Fedora 19.1.5-1.fc41) RHEL9 Kernel: Depends on container host Compiler: gcc 11.5.0 20240719 (Red Hat 11.5.0-2) Ubuntu 22.04 Kernel: Depends on container host Compiler: gcc (Ubuntu 11.4.0-1ubuntu1~22.04) 11.4.0 Ubuntu 24.04 Kernel: Depends on container host Compiler: gcc (Ubuntu 13.3.0-6ubuntu2~24.04) 13.3.0 Ubuntu 20.04 Kernel: Depends on container host Compiler: gcc (Ubuntu 9.4.0-1ubuntu1~20.04.2) 9.4.0 Windows Server 2022 Kernel: 10.0.20348.2031 Compiler: clang 15.0.7, gcc 14.1.0 (MinGW), and MSVC VS 19.39.33521 To view detailed results, visit: https://lab.dpdk.org/results/dashboard/tarballs/32508/ UNH-IOL DPDK Community Lab To manage your email subscriptions, visit: https://lab.dpdk.org/results/dashboard/preferences/subscriptions/