From mboxrd@z Thu Jan 1 00:00:00 1970 Return-Path: Received: from mails.dpdk.org (mails.dpdk.org [217.70.189.124]) by inbox.dpdk.org (Postfix) with ESMTP id D9F4E461CB for ; Sat, 8 Feb 2025 17:32:49 +0100 (CET) Received: from mails.dpdk.org (localhost [127.0.0.1]) by mails.dpdk.org (Postfix) with ESMTP id B216140279; Sat, 8 Feb 2025 17:32:49 +0100 (CET) Received: from mail-qt1-f226.google.com (mail-qt1-f226.google.com [209.85.160.226]) by mails.dpdk.org (Postfix) with ESMTP id 0C6404025E for ; Sat, 8 Feb 2025 17:32:48 +0100 (CET) Received: by mail-qt1-f226.google.com with SMTP id d75a77b69052e-46fcbb96ba9so37482191cf.0 for ; Sat, 08 Feb 2025 08:32:47 -0800 (PST) DKIM-Signature: v=1; a=rsa-sha256; c=relaxed/relaxed; d=iol.unh.edu; s=unh-iol; t=1739032367; x=1739637167; darn=dpdk.org; h=references:in-reply-to:cc:to:from:subject:message-id:date:from:to :cc:subject:date:message-id:reply-to; bh=1YmZ8OJurs9jKPuWN908wUguGYdou3vXnjV4GfVlg4o=; b=FKLopgyQ/S1gRzWQOgtUIvHZp5fTYhlFuZpl34h4cDhRbISlVY7y/vuje7DjSKE2v4 UUJ3P5MeTebjaSu/g+u8+DbL33jycxtdvqFM4DdS79VUAJ3fr3JRqZLELRA3RfOHUPpZ K2lPsE5RHQfHteIZWZrAzWYNwUwXqq3mYYbq4= X-Google-DKIM-Signature: v=1; a=rsa-sha256; c=relaxed/relaxed; d=1e100.net; s=20230601; t=1739032367; x=1739637167; h=references:in-reply-to:cc:to:from:subject:message-id:date :x-gm-message-state:from:to:cc:subject:date:message-id:reply-to; bh=1YmZ8OJurs9jKPuWN908wUguGYdou3vXnjV4GfVlg4o=; b=qWnCryXBUuJUFlGTY2V4TJKpNxC0sb9RUawncJs/7hvhDDbMzrBga8/UcVbW61Rip1 xXhu4luIph/O9ucBfzh+VHcCpxHqDWWBfCsgRyx5mBSX5R2ytVmmwsF5VyXKMbErEkHI xjA/6eCzZ7k4G43N36TNxDuGjiBpsjFxgPPOsgTIF7DKthm7Fdmfg7cpDLm1iVJrgjHC f87f1u5NY5VKlmv69a8+GU+xcpVgenKhsbu/mEW3cK2eUjxdJSO2MONf1OIQZwKmbuya iDdZ0n+B7CYtRn5vtbosGLgbjjb7odtm1zVMf1lPUXw7LTzi4XkvsT+/hOyv4nkgw+RZ UUMw== X-Gm-Message-State: AOJu0YwIJykNaBgnltJBY52F7+ECegMRLmZyi/C6MToFGUibpoWAMPq/ k924arh+AhXy9f5fVIeBuCXl4dnisWN3iMHVITEXi1O2CWFBPTI3hzMxUY+6yToIAdAk6To1NAa GeOOf004meTqAbPV3t7CzhttKIyl9iUGtIOSsHYmO X-Gm-Gg: ASbGncsm6eE7GEuYXfwZcTuhLu0LNZHT2ZoqxcrqzAxDz6Ymd3tU+z7Hb7+njZjjMK+ cir3/Xxu6Jw9thm6xcCOZAAbdD0+EpBL6lwP/zIGtdMc4I0tl+Urrhxgjp32DtdaUTdr7jmCjob WaHmkyt+y/qw4uqKSijp/PpnyxU1ilp7tdn5HkT6ODW6b+AVFHzSiJbwIIqfe+puYawF3gV3ghL rhlYL9KfLwPmey23epvqhmUwE3EiwKpjgb6DIX+D5okrmOHNxvOMKr7vM3fIAlNqNb6uRVO1+TH inVKfRPzHnY6ZOvmvWtUKObHM3H7Pg== X-Google-Smtp-Source: AGHT+IGJz0awRCizL6eOCIIwSqtkBKoeAWPV8gTq6iQbgHbFjtbBBDJhlLo0ykEdj+AoWMfY0xB8ykXHBb3T X-Received: by 2002:ad4:4eea:0:b0:6e2:4d70:1fbd with SMTP id 6a1803df08f44-6e4455c61d2mr86867426d6.6.1739032367255; Sat, 08 Feb 2025 08:32:47 -0800 (PST) Received: from postal.iol.unh.edu (postal.iol.unh.edu. [132.177.123.84]) by smtp-relay.gmail.com with ESMTPS id 6a1803df08f44-6e43ba4123csm3347986d6.25.2025.02.08.08.32.47 (version=TLS1_2 cipher=ECDHE-ECDSA-AES128-GCM-SHA256 bits=128/128); Sat, 08 Feb 2025 08:32:47 -0800 (PST) X-Relaying-Domain: iol.unh.edu Date: Sat, 08 Feb 2025 08:32:47 -0800 (PST) Message-ID: <67a7872f.050a0220.177405.08c1SMTPIN_ADDED_MISSING@mx.google.com> Received: from [172.21.0.9] (unknown [172.18.0.240]) by postal.iol.unh.edu (Postfix) with ESMTP id D2E6B6052471; Sat, 8 Feb 2025 11:32:28 -0500 (EST) Subject: |WARNING| pw151040 [PATCH] vhost: fix FD entries cleanup From: dpdklab@iol.unh.edu To: Test Report Cc: dpdk-test-reports@iol.unh.edu In-Reply-To: <20250206084154.2230766-1-maxime.coquelin@redhat.com> References: <20250206084154.2230766-1-maxime.coquelin@redhat.com> Content-Type: text/plain X-BeenThere: test-report@dpdk.org X-Mailman-Version: 2.1.29 Precedence: list List-Id: automatic DPDK test reports List-Unsubscribe: , List-Archive: List-Post: List-Help: List-Subscribe: , Errors-To: test-report-bounces@dpdk.org Test-Label: iol-sample-apps-testing Test-Status: WARNING http://dpdk.org/patch/151040 _Testing issues_ Submitter: Maxime Coquelin Date: Thursday, February 06 2025 08:41:54 DPDK git baseline: Repo:dpdk Branch: master CommitID:d92688baedcfc963b7539899347012a09c45a15b 151040 --> testing issues Upstream job id: ACVP-FIPS-testing#8810 Test environment and result as below: +--------------------+----------------------+----------------------+ | Environment | compressdev_zlib_pmd | dpdk_fips_validation | +====================+======================+======================+ | Ubuntu 22.04 (ARM) | PASS | SKIPPED | +--------------------+----------------------+----------------------+ | Ubuntu 22.04 | PASS | SKIPPED | +--------------------+----------------------+----------------------+ | Ubuntu 20.04 | SKIPPED | WARN | +--------------------+----------------------+----------------------+ ==== 20 line log output for Ubuntu 20.04 (dpdk_fips_validation): ==== INFO:root:Fetching verdict... INFO:root:Downloading verdict for vector set 2879297 INFO:root:Vector set verdict not ready, waiting 30 seconds... INFO:root:Vector set verdict not ready, waiting 30 seconds... INFO:root:Done INFO:root:Using response file... INFO:root:Uploading response file... INFO:root:Fetching verdict... INFO:root:Downloading verdict for vector set 2879298 INFO:root:Vector set verdict not ready, waiting 30 seconds... INFO:root:Vector set verdict not ready, waiting 30 seconds... INFO:root:Done INFO:root:Using response file... INFO:root:Uploading response file... INFO:root:Fetching verdict... INFO:root:Downloading verdict for vector set 2879299 INFO:root:Vector set verdict not ready, waiting 30 seconds... INFO:root:Vector set verdict not ready, waiting 30 seconds... INFO:root:Vector set verdict not ready, waiting 30 seconds... INFO:root:Done ==== End log output ==== Ubuntu 22.04 (ARM) Kernel: 5.15.0-97-generic Compiler: gcc gcc (Ubuntu 11.4.0-1ubuntu1~22.04) 11.4.0 Ubuntu 22.04 Kernel: 5.15.0-100-generic Compiler: gcc gcc (Ubuntu 11.4.0-1ubuntu1~22.04) 11.4.0 Ubuntu 20.04 Kernel: Depends on container host Compiler: gcc (Ubuntu 9.4.0-1ubuntu1~20.04.2) 9.4.0 To view detailed results, visit: https://lab.dpdk.org/results/dashboard/patchsets/32509/ UNH-IOL DPDK Community Lab To manage your email subscriptions, visit: https://lab.dpdk.org/results/dashboard/preferences/subscriptions/