From mboxrd@z Thu Jan 1 00:00:00 1970 Return-Path: Received: from mails.dpdk.org (mails.dpdk.org [217.70.189.124]) by inbox.dpdk.org (Postfix) with ESMTP id B6E1C461B2 for ; Sat, 8 Feb 2025 17:38:42 +0100 (CET) Received: from mails.dpdk.org (localhost [127.0.0.1]) by mails.dpdk.org (Postfix) with ESMTP id 811E140279; Sat, 8 Feb 2025 17:38:42 +0100 (CET) Received: from mail-yb1-f225.google.com (mail-yb1-f225.google.com [209.85.219.225]) by mails.dpdk.org (Postfix) with ESMTP id F0F4F4025E for ; Sat, 8 Feb 2025 17:38:40 +0100 (CET) Received: by mail-yb1-f225.google.com with SMTP id 3f1490d57ef6-e455bf1f4d3so2352951276.2 for ; Sat, 08 Feb 2025 08:38:40 -0800 (PST) DKIM-Signature: v=1; a=rsa-sha256; c=relaxed/relaxed; d=iol.unh.edu; s=unh-iol; t=1739032720; x=1739637520; darn=dpdk.org; h=references:in-reply-to:cc:to:from:subject:message-id:date:from:to :cc:subject:date:message-id:reply-to; bh=6GA3yYl2Nxz4i68lACIFhI3FGxR+qpN0VM8XZEy0zWY=; b=ZnEBWenWt1kVo6WCivXULhsKDLhpruuXf79h0KyvOmnVySeAOYvbYoFlO/58ADdTeO BchHUNb6pUVubKgajR4Abp0wyx8CmpBvd5+H/RwgauzdjRxfopTcgTWYwBogP6f751D6 MFVQa3pNCZLGNF8SQdm+s8dGfrEPKD07yeJPI= X-Google-DKIM-Signature: v=1; a=rsa-sha256; c=relaxed/relaxed; d=1e100.net; s=20230601; t=1739032720; x=1739637520; h=references:in-reply-to:cc:to:from:subject:message-id:date :x-gm-message-state:from:to:cc:subject:date:message-id:reply-to; bh=6GA3yYl2Nxz4i68lACIFhI3FGxR+qpN0VM8XZEy0zWY=; b=m4Kkw0yTusJlTQCAne20gQ+xin39qij5f26Dd+GyLr5ObM5oM0YBmvImD4G4JKmKqF mCRa7rvs6PLBkjYJBD13T2nPraWbY8PXMp8C7EKVa97LtbpuQhlCTkL35McpxxStgqND 2zcE5tiymUhsUydenie2gbnwZLh7nS+47mIDq7OfvEZVoiugEmxyaC4U9hx8QoqooL4K jHwe3/ZgfFMeZyvZnP7mWmcmb5zEEUDej6s/Y1IRg5XmXNpWtMWrURsu72jQQ1zcld3w O7KmcEA/PfqSyZGcWcgowTIS1XDioP90WU1MZk3lCjR257yicKOkVc/1jmW2F3k5fTu8 z6GA== X-Gm-Message-State: AOJu0Yy1+15RJ+IgqQzp/ovpZXcmDDjNTIFwjdkTyYrF0MlSLi4J4kct D+xtHTno98RDdWsFFDKz9Hut2DxQecSwR9QiVlD55fdglELcNJNKSlwbGyDAiBsMmMOHOEaN8N9 1duRFXFjpJrMFC7F2TjC+8ipAMfY3K1fl1TAo+h1g X-Gm-Gg: ASbGnct4c4uARMYU+/dpEJeZ2foZkAdU27pMdqgYuO4ZFCJQzoDqnAf7TQeZNwVOlyg TPE3nxx5v3VQOeqW6e1BVWAiSdOCNhX0ufYSal+rYmPNiSrsndiO6t85HFP6L4I5ieqKujQk9pH PKLlbz/5ax+YP2V9wDia9gi0BsQAgeYPkl1pbbyi12NL9NYwg4YFJLsgax2cNeVAVemK7cZZszH qoVYRnRSDQq/1O5pWIlbZAuN67sRLkkzP/Dvarhs7pTo4mHA562Q4nKdZTFyXz4Wks7ijfO1psV UWiqZjgGFInetgYIBps9r4ijobIATQ== X-Google-Smtp-Source: AGHT+IFnC2tztkiR1ndtXiZ0NtSNA7MCSTuDYlfgwCk0/a8+j168b2A5pP5L+OMTIWdprtcF9rGLhmfcuup5 X-Received: by 2002:a05:6902:2588:b0:e4c:66ab:ed39 with SMTP id 3f1490d57ef6-e5b462689b0mr6249475276.33.1739032720217; Sat, 08 Feb 2025 08:38:40 -0800 (PST) Received: from postal.iol.unh.edu (postal.iol.unh.edu. [132.177.123.84]) by smtp-relay.gmail.com with ESMTPS id 3f1490d57ef6-e5b3a207b69sm154267276.8.2025.02.08.08.38.40 (version=TLS1_2 cipher=ECDHE-ECDSA-AES128-GCM-SHA256 bits=128/128); Sat, 08 Feb 2025 08:38:40 -0800 (PST) X-Relaying-Domain: iol.unh.edu Date: Sat, 08 Feb 2025 08:38:40 -0800 (PST) Message-ID: <67a78890.050a0220.28b25e.726bSMTPIN_ADDED_MISSING@mx.google.com> Received: from [172.21.0.5] (unknown [172.18.0.240]) by postal.iol.unh.edu (Postfix) with ESMTP id 97CBC6052471; Sat, 8 Feb 2025 11:38:39 -0500 (EST) Subject: |SUCCESS| pw151183 [PATCH] drivers: allow build with VLAs From: dpdklab@iol.unh.edu To: Test Report Cc: dpdk-test-reports@iol.unh.edu In-Reply-To: <20250208092839.1238770-1-thomas@monjalon.net> References: <20250208092839.1238770-1-thomas@monjalon.net> Content-Type: text/plain X-BeenThere: test-report@dpdk.org X-Mailman-Version: 2.1.29 Precedence: list List-Id: automatic DPDK test reports List-Unsubscribe: , List-Archive: List-Post: List-Help: List-Subscribe: , Errors-To: test-report-bounces@dpdk.org Test-Label: iol-unit-amd64-testing Test-Status: SUCCESS http://dpdk.org/patch/151183 _Testing PASS_ Submitter: Thomas Monjalon Date: Saturday, February 08 2025 09:28:38 DPDK git baseline: Repo:dpdk Branch: master CommitID:3553897d84d8b54a1b1136cbf04dd7f1a40fd85b 151183 --> testing pass Upstream job id: Generic-Unit-Test-DPDK#313279 Test environment and result as below: +---------------------+----------------+ | Environment | dpdk_unit_test | +=====================+================+ | Debian Bullseye | PASS | +---------------------+----------------+ | CentOS Stream 9 | PASS | +---------------------+----------------+ | Fedora 40 | PASS | +---------------------+----------------+ | RHEL8 | PASS | +---------------------+----------------+ | Fedora 41 | PASS | +---------------------+----------------+ | Debian 12 | PASS | +---------------------+----------------+ | Fedora 41 (Clang) | PASS | +---------------------+----------------+ | Fedora 40 (Clang) | PASS | +---------------------+----------------+ | Ubuntu 22.04 | PASS | +---------------------+----------------+ | RHEL9 | PASS | +---------------------+----------------+ | Ubuntu 20.04 | PASS | +---------------------+----------------+ | Ubuntu 24.04 | PASS | +---------------------+----------------+ | Windows Server 2022 | PASS | +---------------------+----------------+ Debian Bullseye Kernel: Depends on container host Compiler: gcc (Debian 10.2.1-6) 10.2.1 20210110 CentOS Stream 9 Kernel: Depends on container host Compiler: gcc 11.5.0 20240719 (Red Hat 11.5.0-2) Fedora 40 Kernel: Depends on container host Compiler: gcc 14.2.1 20240912 (Red Hat 14.2.1-3) RHEL8 Kernel: Depends on container host Compiler: gcc 8.5.0 20210514 (Red Hat 8.5.0-22) Fedora 41 Kernel: Depends on container host Compiler: gcc 14.2.1 20240912 (Red Hat 14.2.1-3) Debian 12 Kernel: Depends on container host Compiler: gcc (Debian 12.2.0-14) 12.2.0 Fedora 41 (Clang) Kernel: Depends on container host Compiler: clang 19.1.5 (Fedora 19.1.5-1.fc41) Fedora 40 (Clang) Kernel: Depends on container host Compiler: clang 18.1.8 (Fedora 18.1.8-1.fc40) Ubuntu 22.04 Kernel: Depends on container host Compiler: gcc (Ubuntu 11.4.0-1ubuntu1~22.04) 11.4.0 RHEL9 Kernel: Depends on container host Compiler: gcc 11.5.0 20240719 (Red Hat 11.5.0-2) Ubuntu 20.04 Kernel: Depends on container host Compiler: gcc (Ubuntu 9.4.0-1ubuntu1~20.04.2) 9.4.0 Ubuntu 24.04 Kernel: Depends on container host Compiler: gcc (Ubuntu 13.3.0-6ubuntu2~24.04) 13.3.0 Windows Server 2022 Kernel: 10.0.20348.2031 Compiler: clang 15.0.7, gcc 14.1.0 (MinGW), and MSVC VS 19.39.33521 To view detailed results, visit: https://lab.dpdk.org/results/dashboard/patchsets/32536/ UNH-IOL DPDK Community Lab To manage your email subscriptions, visit: https://lab.dpdk.org/results/dashboard/preferences/subscriptions/