From mboxrd@z Thu Jan  1 00:00:00 1970
Return-Path: <test-report-bounces@dpdk.org>
Received: from mails.dpdk.org (mails.dpdk.org [217.70.189.124])
	by inbox.dpdk.org (Postfix) with ESMTP id 8B019461CC
	for <public@inbox.dpdk.org>; Sat,  8 Feb 2025 18:09:44 +0100 (CET)
Received: from mails.dpdk.org (localhost [127.0.0.1])
	by mails.dpdk.org (Postfix) with ESMTP id 67417402A0;
	Sat,  8 Feb 2025 18:09:44 +0100 (CET)
Received: from mail-yb1-f228.google.com (mail-yb1-f228.google.com
 [209.85.219.228])
 by mails.dpdk.org (Postfix) with ESMTP id 1B85D40279
 for <test-report@dpdk.org>; Sat,  8 Feb 2025 18:09:44 +0100 (CET)
Received: by mail-yb1-f228.google.com with SMTP id
 3f1490d57ef6-e549be93d5eso2917134276.1
 for <test-report@dpdk.org>; Sat, 08 Feb 2025 09:09:44 -0800 (PST)
DKIM-Signature: v=1; a=rsa-sha256; c=relaxed/relaxed;
 d=iol.unh.edu; s=unh-iol; t=1739034583; x=1739639383; darn=dpdk.org;
 h=references:in-reply-to:cc:to:from:subject:message-id:date:from:to
 :cc:subject:date:message-id:reply-to;
 bh=dwrL5UOanUDMnDkupnU7/XRN0k4O/JwNSLNRoOCVMi4=;
 b=KF1IplJGlDMyFLJS1v4XmVsMWn1aTxZxMSReIQwSrrBOHEqW4TTkCJ+5UVaWO79+zG
 DxB5QSRl/67Ky/Urjo3NxGPKt7Q4Ou+Vml29y1hJLZU4FZKR3OgqwDsZ+nlIuPf6Z4wm
 F8Ch52YddEYSkigxLJVAOO2mMMaJpGCiCNTLU=
X-Google-DKIM-Signature: v=1; a=rsa-sha256; c=relaxed/relaxed;
 d=1e100.net; s=20230601; t=1739034583; x=1739639383;
 h=references:in-reply-to:cc:to:from:subject:message-id:date
 :x-gm-message-state:from:to:cc:subject:date:message-id:reply-to;
 bh=dwrL5UOanUDMnDkupnU7/XRN0k4O/JwNSLNRoOCVMi4=;
 b=B+CeoCUeDNgjX93UsbW6fxYvM/OQFMeoDsXupyJJRDEEhg5qVxBWIR2bHgDl8nCGLp
 vNRRz1NNVBDcI+XTGWH2PPue7ulk88FTJyhbWEG/zlwqDEHca3sxejdlws3FH1OoFIEN
 yUoQqK1K5afr1rWTX0WQErbXWUt2Sza6x62UdWpmMKux78ABWr5hMhhITst4s2rYyrQ1
 vEL0kCtLl8VGVq9S6dUXatP0weEXpYm3Yinz8vKDSKByxhd6a5rHG2D85SlLkrzPZH3A
 h9BA2eIcmNuQEX+B9YxwuJBeTst9HlJWVMvWxhnoRz57iMx5bVKElMjZ/d+BCq1GdrU9
 h6dA==
X-Gm-Message-State: AOJu0YzHaQ2INeHIpzrCYjC3jOyYBrkU6ARDNuM/Z+719elvmFC4NVQy
 vEMvtpAN8ppbzoMc1Ik2A3RXoT5JG2MzPiK+imy0f2WdbMgPuP6oXg0MxChixyymHYVYPsBXlK0
 Cf/bEB7xVqjXvu3CZ9Rx78vfs42UoBXWGvSb6VmMr
X-Gm-Gg: ASbGnculAHvMDi+LUwPb+2ZW5WzriJ7weZpsjQhIpIOAd8BssolIAb5waViy84B5NjV
 RyD35s4TeM4QHYvGdb2XckR+c2DfSlLXkyJm279GGXnn7rBRBWFMkcuiYUPAiLrN43MvxrZr0vk
 nY57xXq7N30OTpjW6rynYVzCNyNkF2T837s+hRKER8FhR5PzRVvex7CnoTrWxpqJqz6HQTD8CO2
 5LSRJ50HJCBntn52hf8IqzoT8Mj5c1q2u0LuRXJxPn2dEA8y1XgHpxxczf9P+O2aJa6wyct9wHo
 YUL0yj6+uaAcIXbgbdVssJsuGTlyUA==
X-Google-Smtp-Source: AGHT+IFPiFRPEH84JnebnAo8GDGOzl37BuDad+eJLta4ax8RRGvMms1ugIl53vYVieigB0sHu/ggvnqEy63X
X-Received: by 2002:a05:6902:2188:b0:e58:a81e:6f1 with SMTP id
 3f1490d57ef6-e5b4626ccc9mr6111471276.36.1739034583431; 
 Sat, 08 Feb 2025 09:09:43 -0800 (PST)
Received: from postal.iol.unh.edu (postal.iol.unh.edu. [132.177.123.84])
 by smtp-relay.gmail.com with ESMTPS id
 3f1490d57ef6-e5b3a22294bsm341372276.13.2025.02.08.09.09.43
 (version=TLS1_2 cipher=ECDHE-ECDSA-AES128-GCM-SHA256 bits=128/128);
 Sat, 08 Feb 2025 09:09:43 -0800 (PST)
X-Relaying-Domain: iol.unh.edu
Date: Sat, 08 Feb 2025 09:09:43 -0800 (PST)
Message-ID: <67a78fd7.250a0220.227324.1e8fSMTPIN_ADDED_MISSING@mx.google.com>
Received: from [172.17.0.4] (unknown [172.18.0.217])
 by postal.iol.unh.edu (Postfix) with ESMTP id 0A9866052471;
 Sat,  8 Feb 2025 12:09:13 -0500 (EST)
Subject: |SUCCESS| pw151041 [PATCH] [1/1] net/mana: do not ring short doorbel
From: dpdklab@iol.unh.edu
To: Test Report <test-report@dpdk.org>
Cc: dpdk-test-reports@iol.unh.edu
In-Reply-To: <20250206100744.734612-1-weh@microsoft.com>
References: <20250206100744.734612-1-weh@microsoft.com>
Content-Type: text/plain
X-BeenThere: test-report@dpdk.org
X-Mailman-Version: 2.1.29
Precedence: list
List-Id: automatic DPDK test reports <test-report.dpdk.org>
List-Unsubscribe: <https://mails.dpdk.org/options/test-report>,
 <mailto:test-report-request@dpdk.org?subject=unsubscribe>
List-Archive: <http://mails.dpdk.org/archives/test-report/>
List-Post: <mailto:test-report@dpdk.org>
List-Help: <mailto:test-report-request@dpdk.org?subject=help>
List-Subscribe: <https://mails.dpdk.org/listinfo/test-report>,
 <mailto:test-report-request@dpdk.org?subject=subscribe>
Errors-To: test-report-bounces@dpdk.org

Test-Label: iol-sample-apps-testing
Test-Status: SUCCESS
http://dpdk.org/patch/151041

_Testing PASS_

Submitter: Wei Hu <weh@microsoft.com>
Date: Thursday, February 06 2025 10:07:43 
DPDK git baseline: Repo:dpdk
  Branch: master
  CommitID:e595e7b5758fc73d99b810f5a8748f94bd467084

151041 --> testing pass

Upstream job id: ACVP-FIPS-testing#8811

Test environment and result as below:

+--------------------+----------------------+----------------------+
|    Environment     | compressdev_zlib_pmd | dpdk_fips_validation |
+====================+======================+======================+
| Ubuntu 22.04 (ARM) | PASS                 | SKIPPED              |
+--------------------+----------------------+----------------------+
| Ubuntu 22.04       | PASS                 | SKIPPED              |
+--------------------+----------------------+----------------------+
| Ubuntu 20.04       | SKIPPED              | PASS                 |
+--------------------+----------------------+----------------------+


Ubuntu 22.04 (ARM)
	Kernel: 5.15.0-97-generic
	Compiler: gcc gcc (Ubuntu 11.4.0-1ubuntu1~22.04) 11.4.0

Ubuntu 22.04
	Kernel: 5.15.0-100-generic
	Compiler: gcc gcc (Ubuntu 11.4.0-1ubuntu1~22.04) 11.4.0

Ubuntu 20.04
	Kernel: Depends on container host
	Compiler: gcc (Ubuntu 9.4.0-1ubuntu1~20.04.2) 9.4.0

To view detailed results, visit:
https://lab.dpdk.org/results/dashboard/patchsets/32510/

UNH-IOL DPDK Community Lab

To manage your email subscriptions, visit: 
https://lab.dpdk.org/results/dashboard/preferences/subscriptions/