From mboxrd@z Thu Jan 1 00:00:00 1970 Return-Path: Received: from mails.dpdk.org (mails.dpdk.org [217.70.189.124]) by inbox.dpdk.org (Postfix) with ESMTP id 80E39461CC for ; Sat, 8 Feb 2025 18:40:21 +0100 (CET) Received: from mails.dpdk.org (localhost [127.0.0.1]) by mails.dpdk.org (Postfix) with ESMTP id 61C79402B7; Sat, 8 Feb 2025 18:40:21 +0100 (CET) Received: from mail-pl1-f225.google.com (mail-pl1-f225.google.com [209.85.214.225]) by mails.dpdk.org (Postfix) with ESMTP id 372EE402A0 for ; Sat, 8 Feb 2025 18:40:20 +0100 (CET) Received: by mail-pl1-f225.google.com with SMTP id d9443c01a7336-21f573ff39bso31318535ad.1 for ; Sat, 08 Feb 2025 09:40:20 -0800 (PST) DKIM-Signature: v=1; a=rsa-sha256; c=relaxed/relaxed; d=iol.unh.edu; s=unh-iol; t=1739036419; x=1739641219; darn=dpdk.org; h=references:in-reply-to:cc:to:from:subject:message-id:date:from:to :cc:subject:date:message-id:reply-to; bh=xNoILBCIGHirdC/c2wIS1/PgO6loDbKIIlo2Zakoor0=; b=TJy6wZmzKr2rbvu4cYB9Zyd+/uecUx3jZ0Fp8SSydKHZO8MAeMh5p7J1tgitaI3hKr qvECmUlHCcuoa4cG3j0oo/mZHtUO5ge/APMIAzeUCx0HCXCv1mZpCiCF/lm9p9kIYEyH YZn4Tz0MGwkiF7XG4wQllxT1/rgFj3mFe+i3I= X-Google-DKIM-Signature: v=1; a=rsa-sha256; c=relaxed/relaxed; d=1e100.net; s=20230601; t=1739036419; x=1739641219; h=references:in-reply-to:cc:to:from:subject:message-id:date :x-gm-message-state:from:to:cc:subject:date:message-id:reply-to; bh=xNoILBCIGHirdC/c2wIS1/PgO6loDbKIIlo2Zakoor0=; b=AIx7f6CGft4r73lMjkOItGQSFqRlbX8ffhpd1tMZf1sfnrNvamhNdfsKKjENEURYoe 9dNRy5+V6aVPnteHNhh6ZQ0s1emksf2BeL8OVCrCn1IOqWnT7uD2+c+OFsFlDtA9hl3C x4AizIDCfS7VTxmkb6RaOw2AIjaGnTPhCjCfetDEvy3MAKXrz4M/D9AZDJffiZx+5Xe0 0fLRNA7lq2CCNzMoZ9Gw1jHHT0cukoJfGGl4SW/oA7j4GSeGsb3ESW7Ra/7uUwpnQS0P 3nH1Uc3ZnElQpUW0j2xVBr/1geMwV0k1MbAx/SP3g6hezFOPingYKBJoACV7vNp2/mNv 364w== X-Gm-Message-State: AOJu0Ywjwg/fXF/BmWramAVi+TgH4TcdTOWysQytXZh75NXRvtuS56/v e21of356WVK2EwUFSx2S/ASFEGxgdIxdGN9H4GOH1v662WmvJDU01/+2BaZPea0SpxHzP+SwXoN yUryJVNQ7QhOtpGa197FTd8Ig0BskvRf6XhATNEDh X-Gm-Gg: ASbGncsc8rfMHmFaLw0TBrX4FKYn8s0ndmmNcyYrD5XG5DwrfVQdvma61mpydrQ0jCI zLhd77VYFoR3Eb8zJR7sMeJJhYyoOreL50Q9GV4APCMdFbXAQ5lfD9a52IBscnRj44nD1veeLPH zZV/mZ+lOBsJwyBGSE6KUW72Rrk6ghA2YNNsQN3xWzQU/KhDdMx5U9DIX1Urx/MC5K3k5Nafcto ja3Qe9hviPcJCWEIbqcvgCjyCMwBDRhL2ZhxdDKRHPN1JUVZEpnPtb36ScT2UjjwrZoyKchr8iv utWhg0TNCn4frzdOD11i5mlHPN4Mhg== X-Google-Smtp-Source: AGHT+IHTCewUFpRJmQOdzEx+eYQkj3ws7gRZ1bFIt0u4HyUNorQuvOhq51necSmzfXdS1G/8PMBLs6w3wLYS X-Received: by 2002:a17:902:d512:b0:21a:8d8c:450d with SMTP id d9443c01a7336-21f4e7810e0mr103947225ad.53.1739036419359; Sat, 08 Feb 2025 09:40:19 -0800 (PST) Received: from postal.iol.unh.edu (postal.iol.unh.edu. [132.177.123.84]) by smtp-relay.gmail.com with ESMTPS id d9443c01a7336-21f3c2d00a1sm3431985ad.90.2025.02.08.09.40.19 (version=TLS1_2 cipher=ECDHE-ECDSA-AES128-GCM-SHA256 bits=128/128); Sat, 08 Feb 2025 09:40:19 -0800 (PST) X-Relaying-Domain: iol.unh.edu Date: Sat, 08 Feb 2025 09:40:19 -0800 (PST) Message-ID: <67a79703.170a0220.254a26.133dSMTPIN_ADDED_MISSING@mx.google.com> Received: from [172.17.0.4] (unknown [172.18.0.217]) by postal.iol.unh.edu (Postfix) with ESMTP id 7D02F6052471; Sat, 8 Feb 2025 12:39:48 -0500 (EST) Subject: |SUCCESS| pw151046 [PATCH] test/event: fix number of queues in event From: dpdklab@iol.unh.edu To: Test Report Cc: dpdk-test-reports@iol.unh.edu In-Reply-To: <20250206143244.524451-1-sthotton@marvell.com> References: <20250206143244.524451-1-sthotton@marvell.com> Content-Type: text/plain X-BeenThere: test-report@dpdk.org X-Mailman-Version: 2.1.29 Precedence: list List-Id: automatic DPDK test reports List-Unsubscribe: , List-Archive: List-Post: List-Help: List-Subscribe: , Errors-To: test-report-bounces@dpdk.org Test-Label: iol-sample-apps-testing Test-Status: SUCCESS http://dpdk.org/patch/151046 _Testing PASS_ Submitter: Shijith Thotton Date: Thursday, February 06 2025 14:32:44 DPDK git baseline: Repo:dpdk Branch: master CommitID:32c18e7364e30a8e43cc7cc6709a7ce606fa285e 151046 --> testing pass Upstream job id: ACVP-FIPS-testing#8812 Test environment and result as below: +--------------------+----------------------+----------------------+ | Environment | compressdev_zlib_pmd | dpdk_fips_validation | +====================+======================+======================+ | Ubuntu 22.04 (ARM) | PASS | SKIPPED | +--------------------+----------------------+----------------------+ | Ubuntu 22.04 | PASS | SKIPPED | +--------------------+----------------------+----------------------+ | Ubuntu 20.04 | SKIPPED | PASS | +--------------------+----------------------+----------------------+ Ubuntu 22.04 (ARM) Kernel: 5.15.0-97-generic Compiler: gcc gcc (Ubuntu 11.4.0-1ubuntu1~22.04) 11.4.0 Ubuntu 22.04 Kernel: 5.15.0-100-generic Compiler: gcc gcc (Ubuntu 11.4.0-1ubuntu1~22.04) 11.4.0 Ubuntu 20.04 Kernel: Depends on container host Compiler: gcc (Ubuntu 9.4.0-1ubuntu1~20.04.2) 9.4.0 To view detailed results, visit: https://lab.dpdk.org/results/dashboard/patchsets/32512/ UNH-IOL DPDK Community Lab To manage your email subscriptions, visit: https://lab.dpdk.org/results/dashboard/preferences/subscriptions/