From mboxrd@z Thu Jan 1 00:00:00 1970 Return-Path: Received: from mails.dpdk.org (mails.dpdk.org [217.70.189.124]) by inbox.dpdk.org (Postfix) with ESMTP id D9798461CC for ; Sat, 8 Feb 2025 19:05:55 +0100 (CET) Received: from mails.dpdk.org (localhost [127.0.0.1]) by mails.dpdk.org (Postfix) with ESMTP id BA56E402B7; Sat, 8 Feb 2025 19:05:55 +0100 (CET) Received: from mail-pj1-f98.google.com (mail-pj1-f98.google.com [209.85.216.98]) by mails.dpdk.org (Postfix) with ESMTP id EC971402A0 for ; Sat, 8 Feb 2025 19:05:54 +0100 (CET) Received: by mail-pj1-f98.google.com with SMTP id 98e67ed59e1d1-2f9b91dff71so4879214a91.2 for ; Sat, 08 Feb 2025 10:05:54 -0800 (PST) DKIM-Signature: v=1; a=rsa-sha256; c=relaxed/relaxed; d=iol.unh.edu; s=unh-iol; t=1739037954; x=1739642754; darn=dpdk.org; h=references:in-reply-to:cc:to:from:subject:message-id:date:from:to :cc:subject:date:message-id:reply-to; bh=SPnYRBqFvCaYgdcwtZsuhhDAZxobL1VXJNHgKF2eAPo=; b=Nmi/MdIfxTSGtS1iXH0dOXyJDLI+qNSTzkCWTnKX4n7a9SBgcOsbBUcebdP1G4voyR Tax81J60LILmfJOACJ5OVxcGbVWTPRjr/nFMAd95vdCPCMf3se2l7hyDx4jfeMzwoRYS zR8LJvpnC6VozcJicz9sjrzizXLqFlcuHBcgA= X-Google-DKIM-Signature: v=1; a=rsa-sha256; c=relaxed/relaxed; d=1e100.net; s=20230601; t=1739037954; x=1739642754; h=references:in-reply-to:cc:to:from:subject:message-id:date :x-gm-message-state:from:to:cc:subject:date:message-id:reply-to; bh=SPnYRBqFvCaYgdcwtZsuhhDAZxobL1VXJNHgKF2eAPo=; b=nBwajrX72dmjSz255KSc3LKJkP3a8xHYPrB/Isfo4PXNZk+L6HPbwbdlDNxAnhY9YU V8OsLSng2IJaPGPNZSwhLGAC63qNqsIh9BBjZED2nELR8vy4k+GXohSamWP0VyeJPsLl lccgFPNVMPGkNEMPX2zKKU1t/9vVXVNYwLhCUPY6yWjgGzo4Cz3i+xPnNI0kDYVVKIkv RCOKtsbXQIF7MzNbDENXMaBU+YEg6GsEBUV3YbVLWzuGKTSiPIlWA0VYwjd2x3OPQ5sa copHcM78BTN/Uts0uZYv6ePXsb189PaCXm02C3HPCbTbHS4D2tA1O14gL2gCK7vCbmB/ 2Y0A== X-Gm-Message-State: AOJu0YxRZ3DngbDF9nYWFTtEmL09JScmHr2LxIEC8NEhn3FsHvRr0c+W LV5YM70UejmUlEp00FpVN0IyYMkYtUbapfeFjupabpAgJ/SAbMYmghMQH2ykQbeeM62pBpk9j8N mV2TK9lRiNRkW7NA5Jl/msjXgt3ovnCg4KpXPhiVO X-Gm-Gg: ASbGncuT2zXL4xCfCCMEXZSx4pvj+4IeZ0ZhVnpkVReYmEybylhsPUsYNjKtzO1hPFh FY4Rh4QQPzLP5qykGr/lKC3nXOOoOE8kBOVXc14ca8XJb0ASiA+Y8PkiCOki9e1gKiBQzQHmsKD aaqgFPFz4/yodCIR844oSrXFhhkaaA+ysBCEywrkcFUN/U2djAyi9CHIrdsdiEtsP2+GO6KUoqA PYQwi18R2qOlERxGepuFgE1fL/f1a73ZtqVRR2abI3PQzKAt6PECLZQY2fwRuFt4cuUyRUjVy+v o2kHdXM0Jm7jKauHC2O77/qNagAJMg== X-Google-Smtp-Source: AGHT+IGaAT41oELBFSspA/EP0Y7a8C10yAtZrdihKVnPSxbTlOA1U3E+3oAeM3pxDUTbGA5U14WTO7u7UqoZ X-Received: by 2002:a05:6a00:815:b0:725:e1de:c0bf with SMTP id d2e1a72fcca58-7305d44f1dcmr12194195b3a.9.1739037953892; Sat, 08 Feb 2025 10:05:53 -0800 (PST) Received: from postal.iol.unh.edu (postal.iol.unh.edu. [132.177.123.84]) by smtp-relay.gmail.com with ESMTPS id d2e1a72fcca58-7307d74d407sm42527b3a.12.2025.02.08.10.05.53 (version=TLS1_2 cipher=ECDHE-ECDSA-AES128-GCM-SHA256 bits=128/128); Sat, 08 Feb 2025 10:05:53 -0800 (PST) X-Relaying-Domain: iol.unh.edu Date: Sat, 08 Feb 2025 10:05:53 -0800 (PST) Message-ID: <67a79d01.050a0220.26684d.217dSMTPIN_ADDED_MISSING@mx.google.com> Received: from [172.17.0.3] (unknown [172.18.0.217]) by postal.iol.unh.edu (Postfix) with ESMTP id 018936052471; Sat, 8 Feb 2025 13:05:52 -0500 (EST) Subject: |SUCCESS| pw151042-151045 [PATCH] [v6,4/4] lib: change find device a From: dpdklab@iol.unh.edu To: Test Report Cc: dpdk-test-reports@iol.unh.edu In-Reply-To: <20250206105428.237346-4-shperetz@nvidia.com> References: <20250206105428.237346-4-shperetz@nvidia.com> Content-Type: text/plain X-BeenThere: test-report@dpdk.org X-Mailman-Version: 2.1.29 Precedence: list List-Id: automatic DPDK test reports List-Unsubscribe: , List-Archive: List-Post: List-Help: List-Subscribe: , Errors-To: test-report-bounces@dpdk.org Test-Label: iol-sample-apps-testing Test-Status: SUCCESS http://dpdk.org/patch/151045 _Testing PASS_ Submitter: Shani Peretz Date: Thursday, February 06 2025 10:54:27 DPDK git baseline: Repo:dpdk Branch: master CommitID:32c18e7364e30a8e43cc7cc6709a7ce606fa285e 151042-151045 --> testing pass Upstream job id: ACVP-FIPS-testing#8813 Test environment and result as below: +--------------------+----------------------+----------------------+ | Environment | compressdev_zlib_pmd | dpdk_fips_validation | +====================+======================+======================+ | Ubuntu 22.04 (ARM) | PASS | SKIPPED | +--------------------+----------------------+----------------------+ | Ubuntu 22.04 | PASS | SKIPPED | +--------------------+----------------------+----------------------+ | Ubuntu 20.04 | SKIPPED | PASS | +--------------------+----------------------+----------------------+ Ubuntu 22.04 (ARM) Kernel: 5.15.0-97-generic Compiler: gcc gcc (Ubuntu 11.4.0-1ubuntu1~22.04) 11.4.0 Ubuntu 22.04 Kernel: 5.15.0-100-generic Compiler: gcc gcc (Ubuntu 11.4.0-1ubuntu1~22.04) 11.4.0 Ubuntu 20.04 Kernel: Depends on container host Compiler: gcc (Ubuntu 9.4.0-1ubuntu1~20.04.2) 9.4.0 To view detailed results, visit: https://lab.dpdk.org/results/dashboard/patchsets/32511/ UNH-IOL DPDK Community Lab To manage your email subscriptions, visit: https://lab.dpdk.org/results/dashboard/preferences/subscriptions/