From mboxrd@z Thu Jan 1 00:00:00 1970 Return-Path: Received: from mails.dpdk.org (mails.dpdk.org [217.70.189.124]) by inbox.dpdk.org (Postfix) with ESMTP id 24996461CC for ; Sat, 8 Feb 2025 19:29:04 +0100 (CET) Received: from mails.dpdk.org (localhost [127.0.0.1]) by mails.dpdk.org (Postfix) with ESMTP id 02E7A402B7; Sat, 8 Feb 2025 19:29:04 +0100 (CET) Received: from mail-il1-f227.google.com (mail-il1-f227.google.com [209.85.166.227]) by mails.dpdk.org (Postfix) with ESMTP id D4100402A0 for ; Sat, 8 Feb 2025 19:29:02 +0100 (CET) Received: by mail-il1-f227.google.com with SMTP id e9e14a558f8ab-3d050fdf2ffso9140015ab.0 for ; Sat, 08 Feb 2025 10:29:02 -0800 (PST) DKIM-Signature: v=1; a=rsa-sha256; c=relaxed/relaxed; d=iol.unh.edu; s=unh-iol; t=1739039342; x=1739644142; darn=dpdk.org; h=cc:to:from:subject:message-id:date:from:to:cc:subject:date :message-id:reply-to; bh=mTB5EVx03s8nmnJmcLRxO8CzKgbUxEe5dsth/H+0FPU=; b=i0RHHW9IR/hAJxSgx8xsizuYDaXxiy0anGWtRU+698sIE2+dX4+QW2o6OMQc+HGwa2 wp/y4i42BIBLJjbjq8k9ddxAGyYSlShqctNLPtnRbW5DSskQRdGPhnJ8J+nmEe3gSXiD 0lG4PaIpyXGeX/NYXQNsJAMklGNyTuVAK0ngQ= X-Google-DKIM-Signature: v=1; a=rsa-sha256; c=relaxed/relaxed; d=1e100.net; s=20230601; t=1739039342; x=1739644142; h=cc:to:from:subject:message-id:date:x-gm-message-state:from:to:cc :subject:date:message-id:reply-to; bh=mTB5EVx03s8nmnJmcLRxO8CzKgbUxEe5dsth/H+0FPU=; b=GePqLLv/wB1svBjtbjlo9ShUWL3FIjd8hRh25P86w17co0ZsqPtR4nFq8NzU13u3bW pErFLDAbjmlzYLP3Jq/N/I/aqr8j7xZTyrYl5r9J96dlBn9ozQyr4ZsOiQoJ21+De8d/ jUn7+iGR36PzdwSFPLJ5ZyM2FL+K27eB2vDsaYjVrSh4WppMOtFqN/Bh63NqGTU7j/Z6 uQqQA+ubSyOh5Ov5+s7n3PZ5mZE0Rh4C9jX9edN5YRXGYkQUtud//BgWWRpEW2A7FprE GU+SOeiityukETU3MKYZy4CqVy2JuqLIKOVOtGrbg04Iis5opVrZKuFkrauJ2xnkXqkq BIZw== X-Gm-Message-State: AOJu0Yznswglj3jxs0c/+zHN0JnMaTdiRGWKvyYVufSIvBipKfeVOTDI 1htGWNabGDSG97xVOWv4izK8hsABKN6PoqeLbpDm2Shf/ubTzO53/wTSG7vftt4rKwvE6l1ITDv VFoyZpqfBulVngpYBHLrS4Lv42GKs9Rr/z9N2oEIa X-Gm-Gg: ASbGnct1s6eYXxVmTyaR9E++eLTHDDWtDDT4hjkjw4UknKSwPbPqQpAMiC7ct6gqQjT oTUB2ERkS0ostYHYTtkrtYCZpxBx4SV5aGONvgbKHZwGh7a5EuyljQndQ2IbY913aU5nUbmwQK2 RpVM8hNxSekwzJK6PYK0e3jZjKinmxvE7+LgGj8Fc6xiCO8arXJPH7qyWZZQwAPS8+ppGZf3AHe S9+NTneacZwVXI0VNx9FfacNIVFIWJVX8m+B+IldVXNxESmwd7idLrTBVFXouNLcmlj1viHUwvV hqR7pQwJcye5WFvhwFs1LEo+Ixk7QQ== X-Google-Smtp-Source: AGHT+IHKhplEJv9s2eXJYIxwCBEAAI4VNQRQUTw7rjJF1SkWSrhXMFqUt9uhpCI2xWBYW/vfJBrmmmeegXXI X-Received: by 2002:a05:6e02:2163:b0:3d0:2331:f809 with SMTP id e9e14a558f8ab-3d13dcde9e4mr64835615ab.2.1739039342149; Sat, 08 Feb 2025 10:29:02 -0800 (PST) Received: from postal.iol.unh.edu (postal.iol.unh.edu. [132.177.123.84]) by smtp-relay.gmail.com with ESMTPS id 8926c6da1cb9f-4eccf9a9845sm380429173.4.2025.02.08.10.29.02 (version=TLS1_2 cipher=ECDHE-ECDSA-AES128-GCM-SHA256 bits=128/128); Sat, 08 Feb 2025 10:29:02 -0800 (PST) X-Relaying-Domain: iol.unh.edu Date: Sat, 08 Feb 2025 10:29:02 -0800 (PST) Message-ID: <67a7a26e.050a0220.b3386.3316SMTPIN_ADDED_MISSING@mx.google.com> Received: from [172.17.0.3] (unknown [172.18.0.217]) by postal.iol.unh.edu (Postfix) with ESMTP id ACA7D6052471; Sat, 8 Feb 2025 13:29:01 -0500 (EST) Subject: |SUCCESS| [GIT MASTER] 32c18e7364e30a8e43cc7cc6709a7ce606fa285e From: dpdklab@iol.unh.edu To: Test Report Cc: dpdk-test-reports@iol.unh.edu, Jerin Jacob Content-Type: text/plain X-BeenThere: test-report@dpdk.org X-Mailman-Version: 2.1.29 Precedence: list List-Id: automatic DPDK test reports List-Unsubscribe: , List-Archive: List-Post: List-Help: List-Subscribe: , Errors-To: test-report-bounces@dpdk.org _Testing PASS_ Branch: dpdk-next-eventdev 32c18e7364e30a8e43cc7cc6709a7ce606fa285e --> testing pass Upstream job id: ACVP-FIPS-testing#8814 Test environment and result as below: +--------------------+----------------------+----------------------+ | Environment | compressdev_zlib_pmd | dpdk_fips_validation | +====================+======================+======================+ | Ubuntu 22.04 (ARM) | PASS | SKIPPED | +--------------------+----------------------+----------------------+ | Ubuntu 22.04 | PASS | SKIPPED | +--------------------+----------------------+----------------------+ | Ubuntu 20.04 | SKIPPED | PASS | +--------------------+----------------------+----------------------+ Ubuntu 22.04 (ARM) Kernel: 5.15.0-97-generic Compiler: gcc gcc (Ubuntu 11.4.0-1ubuntu1~22.04) 11.4.0 Ubuntu 22.04 Kernel: 5.15.0-100-generic Compiler: gcc gcc (Ubuntu 11.4.0-1ubuntu1~22.04) 11.4.0 Ubuntu 20.04 Kernel: Depends on container host Compiler: gcc (Ubuntu 9.4.0-1ubuntu1~20.04.2) 9.4.0 To view detailed results, visit: https://lab.dpdk.org/results/dashboard/tarballs/32475/ UNH-IOL DPDK Community Lab To manage your email subscriptions, visit: https://lab.dpdk.org/results/dashboard/preferences/subscriptions/