From mboxrd@z Thu Jan 1 00:00:00 1970 Return-Path: Received: from mails.dpdk.org (mails.dpdk.org [217.70.189.124]) by inbox.dpdk.org (Postfix) with ESMTP id 44E1B461B2 for ; Sat, 8 Feb 2025 19:57:53 +0100 (CET) Received: from mails.dpdk.org (localhost [127.0.0.1]) by mails.dpdk.org (Postfix) with ESMTP id 21505402B7; Sat, 8 Feb 2025 19:57:53 +0100 (CET) Received: from mail-io1-f100.google.com (mail-io1-f100.google.com [209.85.166.100]) by mails.dpdk.org (Postfix) with ESMTP id 9B3A4402A0 for ; Sat, 8 Feb 2025 19:57:52 +0100 (CET) Received: by mail-io1-f100.google.com with SMTP id ca18e2360f4ac-844df397754so89723739f.2 for ; Sat, 08 Feb 2025 10:57:52 -0800 (PST) DKIM-Signature: v=1; a=rsa-sha256; c=relaxed/relaxed; d=iol.unh.edu; s=unh-iol; t=1739041072; x=1739645872; darn=dpdk.org; h=references:in-reply-to:cc:to:from:subject:message-id:date:from:to :cc:subject:date:message-id:reply-to; bh=pn/wKZMe7iXuqUjE+57E543KcDcbGbXki91vQdyyMD8=; b=W2V86hxfg6vEHr/BnqaLP6HYTSQ2+kg551eQWBne7r/xdIgpSKMVYSA448s3qPvDSj BPz69fY2WcB11LuSOd3fBTugNFMuKXEWNZ6oiR8xQi51MGAFCKAtyY9sNoRqVe8HClU/ hsSrJaVc5wtpAZcWjUaT5xTL4T9f/lT5EPdl0= X-Google-DKIM-Signature: v=1; a=rsa-sha256; c=relaxed/relaxed; d=1e100.net; s=20230601; t=1739041072; x=1739645872; h=references:in-reply-to:cc:to:from:subject:message-id:date :x-gm-message-state:from:to:cc:subject:date:message-id:reply-to; bh=pn/wKZMe7iXuqUjE+57E543KcDcbGbXki91vQdyyMD8=; b=sa2fQkj76Kx8cw8IBIMDewzHX3UjMQ7KK0cs913a4yBHcoK7u39/kLIGX98cKrZ22A jsHltRev4IPWnJ63OZc5hq+U7u2sYScTppsaeOyhTo3dGL39pPp68UvdRkGG/uvb9eVS fEIiZo6L0njllsApuF4TXLds6ic/9OlVPJlWJ45BQ1R1WvUYGCO6v9IQRUQ53oX6whhI W7wiJfy9HJmiUUk0K1NabtkMerJ281Ur5ll67OyhGrDRyFVW1c7pTx9axqOD6fM4+SdA 3DXZ9d63hSPkNxpZKQB8MHctfo0Pj+1hcsMXtH+h9bF5zcENgOY48SczzAUY1mCvJXuJ rFaw== X-Gm-Message-State: AOJu0Ywj6FmcVtcouTrpqfyk5WYoEDj3rcKMSXWAIRyMSLJcetbO1X/7 SIs5LHPV7RiEbAZUTOSudzSmQNCImw/KA34nW32HwN3xc2a8Nn/vpzaVHBshuiyojeXqmAloXMp +JuclIqA/7k1RD046+kve9tBhTOjAkCuzefFKwiqG X-Gm-Gg: ASbGnctjX6mSpy3/suaQFn+NcskskY8n0fJtgIfyRpbmwZEgwkoO4sboS9SNBW5fqmf HOR6gpuH+zm9QlBnnBzQwXJzPl5YxiZrHwPIM517XfPBJ4l2kh6i744bL4X5XPgzbifdeBAdIaz 0gzsYKldTCVqBXGFIJN9Hb4tyhhWADmbO03cPlAMYLlzSb2TXdAtM/XjPp+gWAkS5lRMOT82opM 6hUVO2YabDXESJGdo6wLn914ahIEzXqVZKHUDgO4JkZO/cZ6SUpVtbmKe+LYU1H6TduaFrUVtlq r7GqRcK72fslLDctc69bd88PDJJEsQ== X-Google-Smtp-Source: AGHT+IGH0lT3aN20T3XhrId8wwyA7vgkjN/u9+mVtZyEKx26md5iHnzhx5p9qS+GKLsiFUtXWRzNjHzzwvlE X-Received: by 2002:a05:6602:3a01:b0:84f:41cb:1895 with SMTP id ca18e2360f4ac-854fd889e7fmr739717439f.1.1739041071860; Sat, 08 Feb 2025 10:57:51 -0800 (PST) Received: from postal.iol.unh.edu (postal.iol.unh.edu. [132.177.123.84]) by smtp-relay.gmail.com with ESMTPS id ca18e2360f4ac-854f6680737sm35183439f.12.2025.02.08.10.57.51 (version=TLS1_2 cipher=ECDHE-ECDSA-AES128-GCM-SHA256 bits=128/128); Sat, 08 Feb 2025 10:57:51 -0800 (PST) X-Relaying-Domain: iol.unh.edu Date: Sat, 08 Feb 2025 10:57:51 -0800 (PST) Message-ID: <67a7a92f.050a0220.39cb9c.1442SMTPIN_ADDED_MISSING@mx.google.com> Received: from [172.17.0.3] (unknown [172.18.0.217]) by postal.iol.unh.edu (Postfix) with ESMTP id 5A7FB6052471; Sat, 8 Feb 2025 13:57:51 -0500 (EST) Subject: |SUCCESS| pw151047-151070 [PATCH] [v1,24/24] net/e1000/base: skip MA From: dpdklab@iol.unh.edu To: Test Report Cc: dpdk-test-reports@iol.unh.edu In-Reply-To: <63259ddf726a037a6e9efb484b3ec53a8aa340d5.1738858026.git.anatoly.burakov@intel.com> References: <63259ddf726a037a6e9efb484b3ec53a8aa340d5.1738858026.git.anatoly.burakov@intel.com> Content-Type: text/plain X-BeenThere: test-report@dpdk.org X-Mailman-Version: 2.1.29 Precedence: list List-Id: automatic DPDK test reports List-Unsubscribe: , List-Archive: List-Post: List-Help: List-Subscribe: , Errors-To: test-report-bounces@dpdk.org Test-Label: iol-sample-apps-testing Test-Status: SUCCESS http://dpdk.org/patch/151070 _Testing PASS_ Submitter: Burakov, Anatoly Date: Thursday, February 06 2025 16:08:47 DPDK git baseline: Repo:dpdk Branch: master CommitID:abf3b7b7b361f8aa8d75ae00d449b588a0cdcda3 151047-151070 --> testing pass Upstream job id: ACVP-FIPS-testing#8815 Test environment and result as below: +--------------------+----------------------+----------------------+ | Environment | compressdev_zlib_pmd | dpdk_fips_validation | +====================+======================+======================+ | Ubuntu 22.04 (ARM) | PASS | SKIPPED | +--------------------+----------------------+----------------------+ | Ubuntu 22.04 | PASS | SKIPPED | +--------------------+----------------------+----------------------+ | Ubuntu 20.04 | SKIPPED | PASS | +--------------------+----------------------+----------------------+ Ubuntu 22.04 (ARM) Kernel: 5.15.0-97-generic Compiler: gcc gcc (Ubuntu 11.4.0-1ubuntu1~22.04) 11.4.0 Ubuntu 22.04 Kernel: 5.15.0-100-generic Compiler: gcc gcc (Ubuntu 11.4.0-1ubuntu1~22.04) 11.4.0 Ubuntu 20.04 Kernel: Depends on container host Compiler: gcc (Ubuntu 9.4.0-1ubuntu1~20.04.2) 9.4.0 To view detailed results, visit: https://lab.dpdk.org/results/dashboard/patchsets/32513/ UNH-IOL DPDK Community Lab To manage your email subscriptions, visit: https://lab.dpdk.org/results/dashboard/preferences/subscriptions/