From mboxrd@z Thu Jan 1 00:00:00 1970 Return-Path: Received: from mails.dpdk.org (mails.dpdk.org [217.70.189.124]) by inbox.dpdk.org (Postfix) with ESMTP id 4074D461CD for ; Sat, 8 Feb 2025 20:30:20 +0100 (CET) Received: from mails.dpdk.org (localhost [127.0.0.1]) by mails.dpdk.org (Postfix) with ESMTP id 17628402A0; Sat, 8 Feb 2025 20:30:20 +0100 (CET) Received: from mail-il1-f227.google.com (mail-il1-f227.google.com [209.85.166.227]) by mails.dpdk.org (Postfix) with ESMTP id 4795A4025E for ; Sat, 8 Feb 2025 20:30:19 +0100 (CET) Received: by mail-il1-f227.google.com with SMTP id e9e14a558f8ab-3d149f4c64aso3555755ab.0 for ; Sat, 08 Feb 2025 11:30:19 -0800 (PST) DKIM-Signature: v=1; a=rsa-sha256; c=relaxed/relaxed; d=iol.unh.edu; s=unh-iol; t=1739043018; x=1739647818; darn=dpdk.org; h=references:in-reply-to:cc:to:from:subject:message-id:date:from:to :cc:subject:date:message-id:reply-to; bh=bhPuR8oN2gI+7xM+uGfgO1mueFkfX9gl6bg1/Pya96g=; b=FBmWMSmcYZbEhg2A8wxAG5BSvhEs0c/oiNpCJicAGNPGeX6k4ZOfKPVRopK5+uuBZ7 VovB64aDjK1xXVqNVinmKE5d07bltCiY0lvhDqgiD2nPYJy9tI61vLBBtcmSca2hEjPK OiQS3739yhjmBQCY9YmNkn4Xa0bsFLr1iQ3jI= X-Google-DKIM-Signature: v=1; a=rsa-sha256; c=relaxed/relaxed; d=1e100.net; s=20230601; t=1739043018; x=1739647818; h=references:in-reply-to:cc:to:from:subject:message-id:date :x-gm-message-state:from:to:cc:subject:date:message-id:reply-to; bh=bhPuR8oN2gI+7xM+uGfgO1mueFkfX9gl6bg1/Pya96g=; b=Ee6PT99T5BVoCPBE1pMCUdlaI+quVCDqoM0c05VRs5l5wer0AedNBQ5v6zuscojG7I 23U1E6Tp5LGGj19XVCT3KJAkAsNNyDNrPvlPNQrkBFsF4Fqtu+HhpMzvIzi/17AYKV2S AcjauiuD1/2Qp2i10zFaVVJSXWtPTudfaGO7ZRkBvIR3pKzvbIaPaS9R4Evmp4p7Rywz +pcL2DzVCIcgbERyn2GaNUvZho/D7c7C24qzDkPLwbjS7k9RJmii1ui5SxGi3eVOHlwG DGTehrGuwVP7IMf5UX4m7Ezw25HeCE5/tFUxt++/S1uvtrfE5T2f3ExwwofH55AZy89F 7oyw== X-Gm-Message-State: AOJu0YyG1xc5kvp/EtrP7OevJcwMu7TBF3/LB2Gw3Hp2avRx6FxZ+NSz 0BPs7GA/a8zN3A7DCjbYUOYP2nTYjq8+t0sZLi18wY+ZBqNedJdeI37T4Z6b7EhZdHaC80PiXAi T15eBhvORL5lIjUI0W+o9Ei6iVA8yklrTFQouS722 X-Gm-Gg: ASbGncviPCjLdVeq9LAXYptdiH/h7s1LCiwG1wnXsKy8SnhRVfbWiTi1ZzXyTi1GqIw QV/ojZ1POMfECc4/NHnuEnyP7BJw4rnZr9ocDkszLPi7/T8McFLPtSM+/ur8Yet+vwScgAe8jxB 5HNXL5UvZMdm7TGcXXd+X3Kdlupxnkvy/fi15j/tiUo3hSdBdPU+4Wu0ATTXaTL4jt/5j0f8YH7 mm9vsRqn3GMgoPC9/V1DC9CaW198iLlhZTdL0KDWBpCBAi3CZPM3GLsVpPGb0NYUf75l5kpxMgG 8joR9SUT/C7mI7zhIPkADDAaiNKUWw== X-Google-Smtp-Source: AGHT+IGohxg+McSqvVL5cMNnxR34HLzx/d3nR8+J9XBLRJ+tPFqoBNTuXhi6RS4PwIU7DQ6s8OqHd2x7nVd8 X-Received: by 2002:a05:6e02:3c05:b0:3cf:e76b:3937 with SMTP id e9e14a558f8ab-3d13db4808emr65064025ab.0.1739043018455; Sat, 08 Feb 2025 11:30:18 -0800 (PST) Received: from postal.iol.unh.edu (postal.iol.unh.edu. [132.177.123.84]) by smtp-relay.gmail.com with ESMTPS id 8926c6da1cb9f-4eccfad3822sm384405173.62.2025.02.08.11.30.18 (version=TLS1_2 cipher=ECDHE-ECDSA-AES128-GCM-SHA256 bits=128/128); Sat, 08 Feb 2025 11:30:18 -0800 (PST) X-Relaying-Domain: iol.unh.edu Date: Sat, 08 Feb 2025 11:30:18 -0800 (PST) Message-ID: <67a7b0ca.050a0220.16521a.3431SMTPIN_ADDED_MISSING@mx.google.com> Received: from [172.17.0.3] (unknown [172.18.0.217]) by postal.iol.unh.edu (Postfix) with ESMTP id DDF706052471; Sat, 8 Feb 2025 14:29:47 -0500 (EST) Subject: |SUCCESS| pw151183 [PATCH] drivers: allow build with VLAs From: dpdklab@iol.unh.edu To: Test Report Cc: dpdk-test-reports@iol.unh.edu In-Reply-To: <20250208092839.1238770-1-thomas@monjalon.net> References: <20250208092839.1238770-1-thomas@monjalon.net> Content-Type: text/plain X-BeenThere: test-report@dpdk.org X-Mailman-Version: 2.1.29 Precedence: list List-Id: automatic DPDK test reports List-Unsubscribe: , List-Archive: List-Post: List-Help: List-Subscribe: , Errors-To: test-report-bounces@dpdk.org Test-Label: iol-compile-arm64-testing Test-Status: SUCCESS http://dpdk.org/patch/151183 _Testing PASS_ Submitter: Thomas Monjalon Date: Saturday, February 08 2025 09:28:38 DPDK git baseline: Repo:dpdk Branch: master CommitID:3553897d84d8b54a1b1136cbf04dd7f1a40fd85b 151183 --> testing pass Upstream job id: Generic-DPDK-Compile-Meson#359699 Test environment and result as below: +----------------------------------------+--------------------+ | Environment | dpdk_meson_compile | +========================================+====================+ | RHEL9 (ARM) | PASS | +----------------------------------------+--------------------+ | Ubuntu 20.04 ARM GCC Cross Compile | PASS | +----------------------------------------+--------------------+ | Ubuntu 20.04 ARM SVE | PASS | +----------------------------------------+--------------------+ | Debian 12 with MUSDK | PASS | +----------------------------------------+--------------------+ | Fedora 40 (ARM) | PASS | +----------------------------------------+--------------------+ | Fedora 40 (ARM Clang) | PASS | +----------------------------------------+--------------------+ | Fedora 41 (ARM) | PASS | +----------------------------------------+--------------------+ | Fedora 41 (ARM Clang) | PASS | +----------------------------------------+--------------------+ | Ubuntu 20.04 (ARM) | PASS | +----------------------------------------+--------------------+ | Ubuntu 22.04 (ARM) | PASS | +----------------------------------------+--------------------+ | Ubuntu 24.04 (ARM) | PASS | +----------------------------------------+--------------------+ | CentOS Stream 9 (ARM) | PASS | +----------------------------------------+--------------------+ | Debian 11 (Buster) (ARM) | PASS | +----------------------------------------+--------------------+ | Debian 12 (arm) | PASS | +----------------------------------------+--------------------+ | Ubuntu 20.04 ARM Clang Cross Compile | PASS | +----------------------------------------+--------------------+ | Ubuntu 20.04 aarch32 GCC Cross Compile | PASS | +----------------------------------------+--------------------+ RHEL9 (ARM) Kernel: Depends on container host Compiler: gcc 11.5.0 20240719 (Red Hat 11.5.0-2) Ubuntu 20.04 ARM GCC Cross Compile Kernel: Depends on container host Compiler: aarch64-linux-gnu-gcc (Ubuntu 9.4.0-1ubuntu1~20.04.2) 9.4.0 Ubuntu 20.04 ARM SVE Kernel: Depends on container host Compiler: gcc (Ubuntu 10.5.0-1ubuntu1~20.04) 10.5.0 Debian 12 with MUSDK Kernel: Depends on container host Compiler: gcc (Debian 12.2.0-14) 12.2.0 Fedora 40 (ARM) Kernel: Depends on container host Compiler: gcc 14.2.1 20240912 (Red Hat 14.2.1-3) Fedora 40 (ARM Clang) Kernel: Depends on container host Compiler: clang 18.1.8 (Fedora 18.1.8-1.fc40) Fedora 41 (ARM) Kernel: Depends on container host Compiler: gcc 14.2.1 20240912 (Red Hat 14.2.1-3) Fedora 41 (ARM Clang) Kernel: Depends on container host Compiler: clang 19.1.5 (Fedora 19.1.5-1.fc41) Ubuntu 20.04 (ARM) Kernel: Depends on container host Compiler: gcc (Ubuntu 9.4.0-1ubuntu1~20.04.2) 9.4.0 Ubuntu 22.04 (ARM) Kernel: Depends on container host Compiler: gcc (Ubuntu 11.4.0-1ubuntu1~22.04) 11.4.0 Ubuntu 24.04 (ARM) Kernel: Depends on container host Compiler: gcc (Ubuntu 13.3.0-6ubuntu2~24.04) 13.3.0 CentOS Stream 9 (ARM) Kernel: Depends on container host Compiler: gcc 11.5.0 20240719 (Red Hat 11.5.0-2) Debian 11 (Buster) (ARM) Kernel: Depends on container host Compiler: gcc (Debian 10.2.1-6) 10.2.1 20210110 Debian 12 (arm) Kernel: Depends on container host Compiler: gcc (Debian 12.2.0-14) 12.2.0 Ubuntu 20.04 ARM Clang Cross Compile Kernel: Depends on container host Compiler: clang 10.0.0-4ubuntu1 Ubuntu 20.04 aarch32 GCC Cross Compile Kernel: Depends on container host Compiler: gcc 9.4.0 To view detailed results, visit: https://lab.dpdk.org/results/dashboard/patchsets/32536/ UNH-IOL DPDK Community Lab To manage your email subscriptions, visit: https://lab.dpdk.org/results/dashboard/preferences/subscriptions/