From mboxrd@z Thu Jan 1 00:00:00 1970 Return-Path: Received: from mails.dpdk.org (mails.dpdk.org [217.70.189.124]) by inbox.dpdk.org (Postfix) with ESMTP id 1E200461CD for ; Sat, 8 Feb 2025 20:51:52 +0100 (CET) Received: from mails.dpdk.org (localhost [127.0.0.1]) by mails.dpdk.org (Postfix) with ESMTP id E92F4402A0; Sat, 8 Feb 2025 20:51:51 +0100 (CET) Received: from mail-pj1-f99.google.com (mail-pj1-f99.google.com [209.85.216.99]) by mails.dpdk.org (Postfix) with ESMTP id 1ECC34025E for ; Sat, 8 Feb 2025 20:51:50 +0100 (CET) Received: by mail-pj1-f99.google.com with SMTP id 98e67ed59e1d1-2fa48404207so1196477a91.1 for ; Sat, 08 Feb 2025 11:51:50 -0800 (PST) DKIM-Signature: v=1; a=rsa-sha256; c=relaxed/relaxed; d=iol.unh.edu; s=unh-iol; t=1739044309; x=1739649109; darn=dpdk.org; h=cc:to:from:subject:message-id:date:from:to:cc:subject:date :message-id:reply-to; bh=FbNKIQ63yFXpnpg8Iwe6YD5BpKq+9nckNp2NDjrM4w4=; b=Tn4VkFrmkb57JV4EGNMxvk7QTofhSZBUUqjM7PPS2Vx3lqJcbw9MSiJwu+O3wAWGl6 daZUpnDsEx90l7vN6MtopP53OEddZm+PQMBZ4/tozkpNR1OUwgag3SYJ3EY1ROH8yyGt AsXXWgFwU4DSplWi7B9iBOUShCoyVkCXLjfpc= X-Google-DKIM-Signature: v=1; a=rsa-sha256; c=relaxed/relaxed; d=1e100.net; s=20230601; t=1739044309; x=1739649109; h=cc:to:from:subject:message-id:date:x-gm-message-state:from:to:cc :subject:date:message-id:reply-to; bh=FbNKIQ63yFXpnpg8Iwe6YD5BpKq+9nckNp2NDjrM4w4=; b=HdT8hLX62C2hx4aWBIsHoLW0hieWKfXmYpSvrZTTsgrnV17tXWtPNRvYCZqn/M57DO o3xKn0FOpSfwRBP7TjJS9dinEmgQgvrWOyJqItKiQa4+B9Jeoo5G7QPsWMq/bmF4H+vf aDzxdXrGFXRvfGKWw2LFvpeOFN2sKptYq9uMiDatLO8+wUooa6GfAVIUffM3Uaa2vP3G Ui4oYKmEeotHHE89Y3ANTO64AemvygT2dC2gSCwPJ2FvyyXep10SPN5T8VG4PkfDMCJ5 A9nqnFkaZSIRZrT1/HFOs23bdB4JKTYJzI3eZ2qeAMCl8zof9GiWM1Yj0JKRWrV+qxAr Rv8Q== X-Gm-Message-State: AOJu0YzzezjHx+GjOVFKfdRCuqt9uk7YuipPAROxfYIienMWYVQ2oi9N D7kTFFDzBh3jert7OC8Du1EwLPDwnkt1HK/O6YiagmyxDEe3jQT/7gMRRerLqFrV+2+4Ph2u9u1 7CMGd/RPrlWV7A/M8ZChX5HDTCjFggeqIGfjT90Vz X-Gm-Gg: ASbGncuhJE/lbVf5fYSzfBeqaWyS7h8dJ2rQerEjm3UOtGh77B/AsLq+mTpto5XTRrr uLOQGekNq/ovjEknhHx5eEY8aVxE8lEmAnrmUfcaQ46vFOPyuY9szMPUI0sGCBREslYi5rPN0jx OYNZWRro8imJtU6M+rW6vAmXCGwq/uf/aAVkD4sgLYhf0NiZ2zwRuyeiorN/sCiisdH1hrxCmmD neYgi1VpDDtb5At5vXgIQmYeR6wiF7+UeXZSt1Mse/U+s9k8+VVlKT12rNIrwYH8d0/0V38Cubm 4LxUCo01x5DT2LWSu2z8cLxFS6jgrg== X-Google-Smtp-Source: AGHT+IHvIQK2D+qkAlgB5wyW+7LtgcfuplqSUoMCEy7fiKSpP4I5+/NPdvsLK3lT43Z2tYWopdRliO9uoQBH X-Received: by 2002:a17:90b:360a:b0:2ee:df70:1ff3 with SMTP id 98e67ed59e1d1-2fa22b8d188mr13833453a91.0.1739044309084; Sat, 08 Feb 2025 11:51:49 -0800 (PST) Received: from postal.iol.unh.edu (postal.iol.unh.edu. [132.177.123.84]) by smtp-relay.gmail.com with ESMTPS id d9443c01a7336-21f365517d3sm3435675ad.45.2025.02.08.11.51.48 (version=TLS1_2 cipher=ECDHE-ECDSA-AES128-GCM-SHA256 bits=128/128); Sat, 08 Feb 2025 11:51:49 -0800 (PST) X-Relaying-Domain: iol.unh.edu Date: Sat, 08 Feb 2025 11:51:49 -0800 (PST) Message-ID: <67a7b5d5.170a0220.181dd4.19bcSMTPIN_ADDED_MISSING@mx.google.com> Received: from [172.17.0.3] (unknown [172.18.0.217]) by postal.iol.unh.edu (Postfix) with ESMTP id 313CF6052471; Sat, 8 Feb 2025 14:51:30 -0500 (EST) Subject: |SUCCESS| [GIT MASTER] 7125636162d67b1c40ba6802a3ff4466d125d243 From: dpdklab@iol.unh.edu To: Test Report Cc: dpdk-test-reports@iol.unh.edu, Akhil Goyal Content-Type: text/plain X-BeenThere: test-report@dpdk.org X-Mailman-Version: 2.1.29 Precedence: list List-Id: automatic DPDK test reports List-Unsubscribe: , List-Archive: List-Post: List-Help: List-Subscribe: , Errors-To: test-report-bounces@dpdk.org _Testing PASS_ Branch: dpdk-next-crypto 7125636162d67b1c40ba6802a3ff4466d125d243 --> testing pass Upstream job id: ACVP-FIPS-testing#8817 Test environment and result as below: +--------------------+----------------------+----------------------+ | Environment | compressdev_zlib_pmd | dpdk_fips_validation | +====================+======================+======================+ | Ubuntu 22.04 (ARM) | PASS | SKIPPED | +--------------------+----------------------+----------------------+ | Ubuntu 22.04 | PASS | SKIPPED | +--------------------+----------------------+----------------------+ | Ubuntu 20.04 | SKIPPED | PASS | +--------------------+----------------------+----------------------+ Ubuntu 22.04 (ARM) Kernel: 5.15.0-97-generic Compiler: gcc gcc (Ubuntu 11.4.0-1ubuntu1~22.04) 11.4.0 Ubuntu 22.04 Kernel: 5.15.0-100-generic Compiler: gcc gcc (Ubuntu 11.4.0-1ubuntu1~22.04) 11.4.0 Ubuntu 20.04 Kernel: Depends on container host Compiler: gcc (Ubuntu 9.4.0-1ubuntu1~20.04.2) 9.4.0 To view detailed results, visit: https://lab.dpdk.org/results/dashboard/tarballs/32476/ UNH-IOL DPDK Community Lab To manage your email subscriptions, visit: https://lab.dpdk.org/results/dashboard/preferences/subscriptions/