From mboxrd@z Thu Jan 1 00:00:00 1970 Return-Path: Received: from mails.dpdk.org (mails.dpdk.org [217.70.189.124]) by inbox.dpdk.org (Postfix) with ESMTP id 02B2A461CD for ; Sat, 8 Feb 2025 21:52:06 +0100 (CET) Received: from mails.dpdk.org (localhost [127.0.0.1]) by mails.dpdk.org (Postfix) with ESMTP id D1CB2402A0; Sat, 8 Feb 2025 21:52:06 +0100 (CET) Received: from mail-il1-f226.google.com (mail-il1-f226.google.com [209.85.166.226]) by mails.dpdk.org (Postfix) with ESMTP id 6A6BF4025E for ; Sat, 8 Feb 2025 21:52:05 +0100 (CET) Received: by mail-il1-f226.google.com with SMTP id e9e14a558f8ab-3d1469adf26so4671225ab.0 for ; Sat, 08 Feb 2025 12:52:05 -0800 (PST) DKIM-Signature: v=1; a=rsa-sha256; c=relaxed/relaxed; d=iol.unh.edu; s=unh-iol; t=1739047924; x=1739652724; darn=dpdk.org; h=references:in-reply-to:cc:to:from:subject:message-id:date:from:to :cc:subject:date:message-id:reply-to; bh=3q1M8dmfr0UcH85itpCDw701JaOdIEw4UabJQLFH7WM=; b=gwit69VrQ6E23A3ikE2yzYaBjmub8nYYzb4UQb6ZXqQgIB53f6auVKJHEDc0PGa5Yd WIEfXhvy6IQG6POXP9ps228Utwfgj6IYkBiUO7HKBED9cXJyaLQ3C9PJcSmSY7dm820D CIoGuVCQ8vDP2G31tkvJHg9TNGlRiZHNRrEcU= X-Google-DKIM-Signature: v=1; a=rsa-sha256; c=relaxed/relaxed; d=1e100.net; s=20230601; t=1739047924; x=1739652724; h=references:in-reply-to:cc:to:from:subject:message-id:date :x-gm-message-state:from:to:cc:subject:date:message-id:reply-to; bh=3q1M8dmfr0UcH85itpCDw701JaOdIEw4UabJQLFH7WM=; b=SumsIYUgFsypZECXGXzDXNmVjALBvSE4D4D8Q4NmrIrJIgKMI+W2o3/9cDlGvgmh+y Ds5lX0gwmkV9kxkyk8EIMXSKAhsRjUtjDGGw7TPhySPKV1pgHRkUUiZgls1EinssWJLR f1Bx02sUAZyHn9Yo1PH6/wFTNPiInPy4tkQN3amkZqwCMUfPKDRg5Jd3+e8vZKrXkKPm WWamDKdUeE1msWTFpxwTCK9bWNabbPD41lR5qAoLn9uUBZNsu6XhsCdJNBEqs+NLnDvw FcpF4n/kXA4Iqm6nTRswPVcteoSsqDacs8RrWVKqeVKtpht60JIhWkySQydVsYaPXtxM d2/w== X-Gm-Message-State: AOJu0YzWh6SyyjBfx7ipACvifCdMvIGn4uJVHJ7Nx8Y8lQi9jvqhmmy5 KqpepKaQqSGxpwEAZmK2eRMg6skPuB2gijDDMzApJxXebQxjINYdLUPATV6TAAfUOz0NeMasFE7 aIn2Xw/V4KlSMsHpsEazoM4rF4HQrz7FPELd4JjOv X-Gm-Gg: ASbGnctqJk8NbpzRMqcPClmN954fOL8fnQBqZe9DIw4IrDwfEH3NmEzHgjEhIVm3QeX Op4Wb0r8QaFCYThqE1Asxx80auY/+cci/xSw/8VWfcPmDpM25dP75ANe85z9Ppp0HZhlh89MurR yBWY9ggMpOWOxSfXFumxw/+pjWaAu9mNXSDVE+dIJWPirAkPEqLlpUZiJ93ovhepWUSKBQ78W0D wsekvj09WtqB7DTHYk5/owkoWIGD/cgH48PQWtCQcdjfXemKvuZ8pMAjJ6LeeX2wWjAptY4haE7 Cn2qZYqXWayoU/wVIiwTw9HcLaiohQ== X-Google-Smtp-Source: AGHT+IFhm30qF/WA+4nCvore2d4hyUnlNhfxas8/BEBLnWVxE1+5W6MWqt33oC2ZjA5/E8x67N8Fu330J56o X-Received: by 2002:a05:6e02:190f:b0:3d0:47cf:869c with SMTP id e9e14a558f8ab-3d13df2bfb0mr54963695ab.19.1739047924740; Sat, 08 Feb 2025 12:52:04 -0800 (PST) Received: from postal.iol.unh.edu (postal.iol.unh.edu. [132.177.123.84]) by smtp-relay.gmail.com with ESMTPS id e9e14a558f8ab-3d05e8fd0e6sm4296185ab.17.2025.02.08.12.52.04 (version=TLS1_2 cipher=ECDHE-ECDSA-AES128-GCM-SHA256 bits=128/128); Sat, 08 Feb 2025 12:52:04 -0800 (PST) X-Relaying-Domain: iol.unh.edu Date: Sat, 08 Feb 2025 12:52:04 -0800 (PST) Message-ID: <67a7c3f4.050a0220.22bd3c.5756SMTPIN_ADDED_MISSING@mx.google.com> Received: from [172.17.0.3] (unknown [172.18.0.217]) by postal.iol.unh.edu (Postfix) with ESMTP id 3D2C46052471; Sat, 8 Feb 2025 15:52:04 -0500 (EST) Subject: |SUCCESS| pw151074 [PATCH] [v8] graph: mcore: optimize graph search From: dpdklab@iol.unh.edu To: Test Report Cc: dpdk-test-reports@iol.unh.edu In-Reply-To: <20250207013939.1783-1-chcchc88@163.com> References: <20250207013939.1783-1-chcchc88@163.com> Content-Type: text/plain X-BeenThere: test-report@dpdk.org X-Mailman-Version: 2.1.29 Precedence: list List-Id: automatic DPDK test reports List-Unsubscribe: , List-Archive: List-Post: List-Help: List-Subscribe: , Errors-To: test-report-bounces@dpdk.org Test-Label: iol-sample-apps-testing Test-Status: SUCCESS http://dpdk.org/patch/151074 _Testing PASS_ Submitter: Huichao Cai Date: Friday, February 07 2025 01:39:39 DPDK git baseline: Repo:dpdk Branch: master CommitID:1bf86800f7daf8d5c71a08a0776ff3b754ee6570 151074 --> testing pass Upstream job id: ACVP-FIPS-testing#8819 Test environment and result as below: +--------------------+----------------------+----------------------+ | Environment | compressdev_zlib_pmd | dpdk_fips_validation | +====================+======================+======================+ | Ubuntu 22.04 (ARM) | PASS | SKIPPED | +--------------------+----------------------+----------------------+ | Ubuntu 22.04 | PASS | SKIPPED | +--------------------+----------------------+----------------------+ | Ubuntu 20.04 | SKIPPED | PASS | +--------------------+----------------------+----------------------+ Ubuntu 22.04 (ARM) Kernel: 5.15.0-97-generic Compiler: gcc gcc (Ubuntu 11.4.0-1ubuntu1~22.04) 11.4.0 Ubuntu 22.04 Kernel: 5.15.0-100-generic Compiler: gcc gcc (Ubuntu 11.4.0-1ubuntu1~22.04) 11.4.0 Ubuntu 20.04 Kernel: Depends on container host Compiler: gcc (Ubuntu 9.4.0-1ubuntu1~20.04.2) 9.4.0 To view detailed results, visit: https://lab.dpdk.org/results/dashboard/patchsets/32516/ UNH-IOL DPDK Community Lab To manage your email subscriptions, visit: https://lab.dpdk.org/results/dashboard/preferences/subscriptions/