* |SUCCESS| pw151184-151215 [PATCH 32/32] test/cryptodev: replace memcpy with structure assignment
[not found] <20250208203142.242284-33-stephen@networkplumber.org>
@ 2025-02-08 20:09 ` qemudev
2025-02-08 20:14 ` qemudev
` (17 subsequent siblings)
18 siblings, 0 replies; 19+ messages in thread
From: qemudev @ 2025-02-08 20:09 UTC (permalink / raw)
To: test-report
Test-Label: loongarch-compilation
Test-Status: SUCCESS
http://dpdk.org/patch/151215
_Compilation OK_
Submitter: Stephen Hemminger <stephen@networkplumber.org>
Date: Sat, 8 Feb 2025 12:21:53 -0800
DPDK git baseline: Repo:dpdk
Branch: main
CommitID: 3553897d84d8b54a1b1136cbf04dd7f1a40fd85b
151184-151215 --> meson & ninja build successfully
Test environment and result as below:
+---------------------+----------------+
| Environment | compilation |
+---------------------+----------------+
| Loongnix-Server 8.3 | PASS |
+---------------------+----------------+
Loongnix-Server 8.3
Kernel: 4.19.190+
Compiler: gcc 8.3
^ permalink raw reply [flat|nested] 19+ messages in thread
* |SUCCESS| pw151184-151215 [PATCH 32/32] test/cryptodev: replace memcpy with structure assignment
[not found] <20250208203142.242284-33-stephen@networkplumber.org>
2025-02-08 20:09 ` |SUCCESS| pw151184-151215 [PATCH 32/32] test/cryptodev: replace memcpy with structure assignment qemudev
@ 2025-02-08 20:14 ` qemudev
2025-02-08 20:36 ` |SUCCESS| pw151215 " checkpatch
` (16 subsequent siblings)
18 siblings, 0 replies; 19+ messages in thread
From: qemudev @ 2025-02-08 20:14 UTC (permalink / raw)
To: test-report
Test-Label: loongarch-unit-testing
Test-Status: SUCCESS
http://dpdk.org/patch/151215
_Unit Testing PASS_
Submitter: Stephen Hemminger <stephen@networkplumber.org>
Date: Sat, 8 Feb 2025 12:21:53 -0800
DPDK git baseline: Repo:dpdk
Branch: main
CommitID: 3553897d84d8b54a1b1136cbf04dd7f1a40fd85b
151184-151215 --> testing pass
Test environment and result as below:
+---------------------+----------------+
| Environment | dpdk_unit_test |
+---------------------+----------------+
| Loongnix-Server 8.3 | PASS |
+---------------------+----------------+
Loongnix-Server 8.3
Kernel: 4.19.190+
Compiler: gcc 8.3
Test result details:
1/119 DPDK:fast-tests / acl_autotest OK 3.20s
2/119 DPDK:fast-tests / alarm_autotest OK 1.34s
3/119 DPDK:fast-tests / argparse_autotest OK 0.33s
4/119 DPDK:fast-tests / atomic_autotest OK 6.93s
5/119 DPDK:fast-tests / bitcount_autotest OK 0.19s
6/119 DPDK:fast-tests / bitmap_autotest OK 0.19s
7/119 DPDK:fast-tests / bitops_autotest OK 1.69s
8/119 DPDK:fast-tests / bitratestats_autotest OK 0.19s
9/119 DPDK:fast-tests / bitset_autotest OK 2.92s
10/119 DPDK:fast-tests / bpf_autotest OK 0.19s
11/119 DPDK:fast-tests / bpf_convert_autotest OK 0.20s
12/119 DPDK:fast-tests / byteorder_autotest OK 0.19s
13/119 DPDK:fast-tests / cfgfile_autotest OK 0.19s
14/119 DPDK:fast-tests / cksum_autotest OK 0.19s
15/119 DPDK:fast-tests / cmdline_autotest OK 0.19s
16/119 DPDK:fast-tests / common_autotest OK 1.07s
17/119 DPDK:fast-tests / compressdev_autotest SKIP 0.06s exit status 77
18/119 DPDK:fast-tests / cpuflags_autotest OK 0.20s
19/119 DPDK:fast-tests / crc_autotest OK 0.20s
20/119 DPDK:fast-tests / user_delay_us OK 0.19s
21/119 DPDK:fast-tests / debug_autotest OK 24.67s
22/119 DPDK:fast-tests / devargs_autotest OK 0.19s
23/119 DPDK:fast-tests / dispatcher_autotest OK 2.47s
24/119 DPDK:fast-tests / distributor_autotest OK 1.19s
25/119 DPDK:fast-tests / eal_flags_c_opt_autotest OK 0.76s
26/119 DPDK:fast-tests / eal_flags_main_opt_autotest OK 0.21s
27/119 DPDK:fast-tests / eal_flags_n_opt_autotest OK 0.19s
28/119 DPDK:fast-tests / eal_flags_hpet_autotest OK 0.12s
29/119 DPDK:fast-tests / eal_flags_no_huge_autotest OK 0.21s
30/119 DPDK:fast-tests / eal_flags_a_opt_autotest OK 0.28s
31/119 DPDK:fast-tests / eal_flags_b_opt_autotest OK 0.23s
32/119 DPDK:fast-tests / eal_flags_vdev_opt_autotest OK 0.18s
33/119 DPDK:fast-tests / eal_flags_r_opt_autotest OK 0.17s
34/119 DPDK:fast-tests / eal_flags_mem_autotest OK 0.58s
35/119 DPDK:fast-tests / eal_flags_file_prefix_autotest OK 22.16s
36/119 DPDK:fast-tests / eal_flags_misc_autotest OK 1.00s
37/119 DPDK:fast-tests / eal_fs_autotest OK 0.19s
38/119 DPDK:fast-tests / errno_autotest OK 0.19s
39/119 DPDK:fast-tests / ethdev_link_status OK 0.19s
40/119 DPDK:fast-tests / event_eth_tx_adapter_autotest OK 1.67s
41/119 DPDK:fast-tests / event_ring_autotest OK 0.20s
42/119 DPDK:fast-tests / eventdev_common_autotest OK 0.19s
43/119 DPDK:fast-tests / eventdev_selftest_sw OK 7.01s
44/119 DPDK:fast-tests / fbarray_autotest OK 0.20s
45/119 DPDK:fast-tests / fib_autotest OK 1.12s
46/119 DPDK:fast-tests / fib6_autotest OK 0.89s
47/119 DPDK:fast-tests / func_reentrancy_autotest OK 2.34s
48/119 DPDK:fast-tests / graph_autotest OK 0.20s
49/119 DPDK:fast-tests / node_list_dump OK 0.19s
50/119 DPDK:fast-tests / hash_autotest OK 0.83s
51/119 DPDK:fast-tests / hash_readwrite_func_autotest OK 6.39s
52/119 DPDK:fast-tests / interrupt_autotest OK 1.51s
53/119 DPDK:fast-tests / ipfrag_autotest OK 0.06s
54/119 DPDK:fast-tests / ipsec_autotest SKIP 0.20s exit status 77
55/119 DPDK:fast-tests / kvargs_autotest OK 0.20s
56/119 DPDK:fast-tests / latencystats_autotest OK 0.20s
57/119 DPDK:fast-tests / lcore_var_autotest OK 0.34s
58/119 DPDK:fast-tests / lcores_autotest OK 5.01s
59/119 DPDK:fast-tests / logs_autotest OK 0.19s
60/119 DPDK:fast-tests / lpm_autotest OK 2.26s
61/119 DPDK:fast-tests / lpm6_autotest OK 5.41s
62/119 DPDK:fast-tests / malloc_autotest OK 59.91s
63/119 DPDK:fast-tests / mbuf_autotest OK 5.36s
64/119 DPDK:fast-tests / mcslock_autotest OK 2.94s
65/119 DPDK:fast-tests / member_autotest OK 1.43s
66/119 DPDK:fast-tests / memcpy_autotest OK 6.47s
67/119 DPDK:fast-tests / memory_autotest OK 0.09s
68/119 DPDK:fast-tests / mempool_autotest OK 0.43s
69/119 DPDK:fast-tests / memzone_autotest OK 0.13s
70/119 DPDK:fast-tests / meter_autotest OK 0.19s
71/119 DPDK:fast-tests / metrics_autotest OK 0.19s
72/119 DPDK:fast-tests / multiprocess_autotest OK 0.17s
73/119 DPDK:fast-tests / net_ether_autotest OK 0.86s
74/119 DPDK:fast-tests / net_ipv6_autotest OK 0.19s
75/119 DPDK:fast-tests / pcapng_autotest OK 6.57s
76/119 DPDK:fast-tests / pdcp_autotest SKIP 0.06s exit status 77
77/119 DPDK:fast-tests / pdump_autotest OK 0.31s
78/119 DPDK:fast-tests / per_lcore_autotest OK 0.29s
79/119 DPDK:fast-tests / pflock_autotest OK 1.00s
80/119 DPDK:fast-tests / pie_autotest OK 0.19s
81/119 DPDK:fast-tests / ring_pmd_autotest OK 0.19s
82/119 DPDK:fast-tests / power_autotest OK 0.19s
83/119 DPDK:fast-tests / power_cpufreq_autotest SKIP 0.06s exit status 77
84/119 DPDK:fast-tests / power_intel_uncore_autotest SKIP 0.20s exit status 77
85/119 DPDK:fast-tests / power_kvm_vm_autotest SKIP 0.06s exit status 77
86/119 DPDK:fast-tests / prefetch_autotest OK 0.19s
87/119 DPDK:fast-tests / ptr_compress_autotest OK 0.19s
88/119 DPDK:fast-tests / rawdev_autotest OK 0.19s
89/119 DPDK:fast-tests / rcu_qsbr_autotest OK 0.72s
90/119 DPDK:fast-tests / reorder_autotest OK 0.25s
91/119 DPDK:fast-tests / rib_autotest OK 8.84s
92/119 DPDK:fast-tests / rib6_autotest OK 8.81s
93/119 DPDK:fast-tests / ring_autotest OK 0.23s
94/119 DPDK:fast-tests / rwlock_test1_autotest OK 0.94s
95/119 DPDK:fast-tests / rwlock_rda_autotest OK 5.19s
96/119 DPDK:fast-tests / rwlock_rds_wrm_autotest OK 5.19s
97/119 DPDK:fast-tests / rwlock_rde_wro_autotest OK 5.19s
98/119 DPDK:fast-tests / sched_autotest OK 0.20s
99/119 DPDK:fast-tests / security_autotest OK 0.05s
100/119 DPDK:fast-tests / seqlock_autotest OK 2.20s
101/119 DPDK:fast-tests / service_autotest OK 2.90s
102/119 DPDK:fast-tests / soring_autotest OK 0.20s
103/119 DPDK:fast-tests / spinlock_autotest OK 0.27s
104/119 DPDK:fast-tests / stack_autotest OK 0.85s
105/119 DPDK:fast-tests / stack_lf_autotest SKIP 0.05s exit status 77
106/119 DPDK:fast-tests / string_autotest OK 0.20s
107/119 DPDK:fast-tests / table_autotest OK 7.55s
108/119 DPDK:fast-tests / tailq_autotest OK 0.19s
109/119 DPDK:fast-tests / telemetry_data_autotest OK 0.20s
110/119 DPDK:fast-tests / telemetry_json_autotest OK 0.19s
111/119 DPDK:fast-tests / thash_autotest OK 0.21s
112/119 DPDK:fast-tests / threads_autotest OK 0.37s
113/119 DPDK:fast-tests / ticketlock_autotest OK 0.35s
114/119 DPDK:fast-tests / timer_autotest OK 3.86s
115/119 DPDK:fast-tests / trace_autotest OK 0.35s
116/119 DPDK:fast-tests / trace_autotest_with_traces OK 0.20s
117/119 DPDK:fast-tests / vdev_autotest OK 0.19s
118/119 DPDK:fast-tests / version_autotest OK 0.19s
119/119 DPDK:fast-tests / telemetry_all OK 1.20s
Ok: 112
Expected Fail: 0
Fail: 0
Unexpected Pass: 0
Skipped: 7
Timeout: 0
^ permalink raw reply [flat|nested] 19+ messages in thread
* |SUCCESS| pw151215 [PATCH 32/32] test/cryptodev: replace memcpy with structure assignment
[not found] <20250208203142.242284-33-stephen@networkplumber.org>
2025-02-08 20:09 ` |SUCCESS| pw151184-151215 [PATCH 32/32] test/cryptodev: replace memcpy with structure assignment qemudev
2025-02-08 20:14 ` qemudev
@ 2025-02-08 20:36 ` checkpatch
2025-02-08 21:09 ` |PENDING| pw151184-151215 [PATCH] [32/32] test/cryptodev: replace me dpdklab
` (15 subsequent siblings)
18 siblings, 0 replies; 19+ messages in thread
From: checkpatch @ 2025-02-08 20:36 UTC (permalink / raw)
To: test-report
Test-Label: checkpatch
Test-Status: SUCCESS
http://dpdk.org/patch/151215
_coding style OK_
^ permalink raw reply [flat|nested] 19+ messages in thread
* |PENDING| pw151184-151215 [PATCH] [32/32] test/cryptodev: replace me
[not found] <20250208203142.242284-33-stephen@networkplumber.org>
` (2 preceding siblings ...)
2025-02-08 20:36 ` |SUCCESS| pw151215 " checkpatch
@ 2025-02-08 21:09 ` dpdklab
2025-02-08 21:12 ` dpdklab
` (14 subsequent siblings)
18 siblings, 0 replies; 19+ messages in thread
From: dpdklab @ 2025-02-08 21:09 UTC (permalink / raw)
To: Test Report; +Cc: dpdk-test-reports
Test-Label: iol-abi-testing
Test-Status: PENDING
http://dpdk.org/patch/151215
_Testing pending_
Submitter: Stephen Hemminger <stephen@networkplumber.org>
Date: Saturday, February 08 2025 20:22:24
DPDK git baseline: Repo:dpdk
Branch: master
CommitID:3553897d84d8b54a1b1136cbf04dd7f1a40fd85b
151184-151215 --> testing pending
Upstream job id: Generic-DPDK-Compile-ABI#115465
Test environment and result as below:
+-------------------+----------+
| Environment | abi_test |
+===================+==========+
| CentOS Stream 9 | PASS |
+-------------------+----------+
| Debian 12 | PEND |
+-------------------+----------+
| RHEL8 | PEND |
+-------------------+----------+
| Fedora 40 (Clang) | PEND |
+-------------------+----------+
| Fedora 40 | PEND |
+-------------------+----------+
| Fedora 41 (Clang) | PEND |
+-------------------+----------+
| Fedora 41 | PEND |
+-------------------+----------+
| Ubuntu 24.04 | PEND |
+-------------------+----------+
| openSUSE Leap 15 | PEND |
+-------------------+----------+
| Ubuntu 22.04 | PEND |
+-------------------+----------+
| RHEL9 | PEND |
+-------------------+----------+
| Debian Bullseye | PEND |
+-------------------+----------+
CentOS Stream 9
Kernel: Depends on container host
Compiler: gcc 11.5.0 20240719 (Red Hat 11.5.0-2)
Debian 12
Kernel: Depends on container host
Compiler: gcc (Debian 12.2.0-14) 12.2.0
RHEL8
Kernel: Depends on container host
Compiler: gcc 8.5.0 20210514 (Red Hat 8.5.0-22)
Fedora 40 (Clang)
Kernel: Depends on container host
Compiler: clang 18.1.8 (Fedora 18.1.8-1.fc40)
Fedora 40
Kernel: Depends on container host
Compiler: gcc 14.2.1 20240912 (Red Hat 14.2.1-3)
Fedora 41 (Clang)
Kernel: Depends on container host
Compiler: clang 19.1.5 (Fedora 19.1.5-1.fc41)
Fedora 41
Kernel: Depends on container host
Compiler: gcc 14.2.1 20240912 (Red Hat 14.2.1-3)
Ubuntu 24.04
Kernel: Depends on container host
Compiler: gcc (Ubuntu 13.3.0-6ubuntu2~24.04) 13.3.0
openSUSE Leap 15
Kernel: Depends on container host
Compiler: gcc (SUSE Linux) 7.5.0
Ubuntu 22.04
Kernel: Depends on container host
Compiler: gcc (Ubuntu 11.4.0-1ubuntu1~22.04) 11.4.0
RHEL9
Kernel: Depends on container host
Compiler: gcc 11.5.0 20240719 (Red Hat 11.5.0-2)
Debian Bullseye
Kernel: Depends on container host
Compiler: gcc (Debian 10.2.1-6) 10.2.1 20210110
To view detailed results, visit:
https://lab.dpdk.org/results/dashboard/patchsets/32537/
UNH-IOL DPDK Community Lab
To manage your email subscriptions, visit:
https://lab.dpdk.org/results/dashboard/preferences/subscriptions/
^ permalink raw reply [flat|nested] 19+ messages in thread
* |PENDING| pw151184-151215 [PATCH] [32/32] test/cryptodev: replace me
[not found] <20250208203142.242284-33-stephen@networkplumber.org>
` (3 preceding siblings ...)
2025-02-08 21:09 ` |PENDING| pw151184-151215 [PATCH] [32/32] test/cryptodev: replace me dpdklab
@ 2025-02-08 21:12 ` dpdklab
2025-02-08 21:13 ` dpdklab
` (13 subsequent siblings)
18 siblings, 0 replies; 19+ messages in thread
From: dpdklab @ 2025-02-08 21:12 UTC (permalink / raw)
To: Test Report; +Cc: dpdk-test-reports
Test-Label: iol-unit-amd64-testing
Test-Status: PENDING
http://dpdk.org/patch/151215
_Testing pending_
Submitter: Stephen Hemminger <stephen@networkplumber.org>
Date: Saturday, February 08 2025 20:22:24
DPDK git baseline: Repo:dpdk
Branch: master
CommitID:3553897d84d8b54a1b1136cbf04dd7f1a40fd85b
151184-151215 --> testing pending
Upstream job id: Generic-Unit-Test-DPDK#313294
Test environment and result as below:
+-------------------+----------------+
| Environment | dpdk_unit_test |
+===================+================+
| Debian Bullseye | PEND |
+-------------------+----------------+
| CentOS Stream 9 | PEND |
+-------------------+----------------+
| Debian 12 | PASS |
+-------------------+----------------+
| Fedora 40 (Clang) | PEND |
+-------------------+----------------+
| RHEL8 | PEND |
+-------------------+----------------+
| RHEL9 | PEND |
+-------------------+----------------+
| Fedora 41 (Clang) | PEND |
+-------------------+----------------+
| Fedora 40 | PEND |
+-------------------+----------------+
| Ubuntu 20.04 | PEND |
+-------------------+----------------+
| Fedora 41 | PEND |
+-------------------+----------------+
| Ubuntu 22.04 | PEND |
+-------------------+----------------+
| Ubuntu 24.04 | PEND |
+-------------------+----------------+
Debian Bullseye
Kernel: Depends on container host
Compiler: gcc (Debian 10.2.1-6) 10.2.1 20210110
CentOS Stream 9
Kernel: Depends on container host
Compiler: gcc 11.5.0 20240719 (Red Hat 11.5.0-2)
Debian 12
Kernel: Depends on container host
Compiler: gcc (Debian 12.2.0-14) 12.2.0
Fedora 40 (Clang)
Kernel: Depends on container host
Compiler: clang 18.1.8 (Fedora 18.1.8-1.fc40)
RHEL8
Kernel: Depends on container host
Compiler: gcc 8.5.0 20210514 (Red Hat 8.5.0-22)
RHEL9
Kernel: Depends on container host
Compiler: gcc 11.5.0 20240719 (Red Hat 11.5.0-2)
Fedora 41 (Clang)
Kernel: Depends on container host
Compiler: clang 19.1.5 (Fedora 19.1.5-1.fc41)
Fedora 40
Kernel: Depends on container host
Compiler: gcc 14.2.1 20240912 (Red Hat 14.2.1-3)
Ubuntu 20.04
Kernel: Depends on container host
Compiler: gcc (Ubuntu 9.4.0-1ubuntu1~20.04.2) 9.4.0
Fedora 41
Kernel: Depends on container host
Compiler: gcc 14.2.1 20240912 (Red Hat 14.2.1-3)
Ubuntu 22.04
Kernel: Depends on container host
Compiler: gcc (Ubuntu 11.4.0-1ubuntu1~22.04) 11.4.0
Ubuntu 24.04
Kernel: Depends on container host
Compiler: gcc (Ubuntu 13.3.0-6ubuntu2~24.04) 13.3.0
To view detailed results, visit:
https://lab.dpdk.org/results/dashboard/patchsets/32537/
UNH-IOL DPDK Community Lab
To manage your email subscriptions, visit:
https://lab.dpdk.org/results/dashboard/preferences/subscriptions/
^ permalink raw reply [flat|nested] 19+ messages in thread
* |PENDING| pw151184-151215 [PATCH] [32/32] test/cryptodev: replace me
[not found] <20250208203142.242284-33-stephen@networkplumber.org>
` (4 preceding siblings ...)
2025-02-08 21:12 ` dpdklab
@ 2025-02-08 21:13 ` dpdklab
2025-02-08 21:15 ` dpdklab
` (12 subsequent siblings)
18 siblings, 0 replies; 19+ messages in thread
From: dpdklab @ 2025-02-08 21:13 UTC (permalink / raw)
To: Test Report; +Cc: dpdk-test-reports
Test-Label: iol-unit-arm64-testing
Test-Status: PENDING
http://dpdk.org/patch/151215
_Testing pending_
Submitter: Stephen Hemminger <stephen@networkplumber.org>
Date: Saturday, February 08 2025 20:22:24
DPDK git baseline: Repo:dpdk
Branch: master
CommitID:3553897d84d8b54a1b1136cbf04dd7f1a40fd85b
151184-151215 --> testing pending
Upstream job id: Generic-Unit-Test-DPDK#313289
Test environment and result as below:
+-----------------------------+----------------+--------------+------------------------------+---------------------------+
| Environment | dpdk_unit_test | lpm_autotest | cryptodev_sw_snow3g_autotest | cryptodev_sw_zuc_autotest |
+=============================+================+==============+==============================+===========================+
| 32-bit Ubuntu 22.04.4 (ARM) | PEND | SKIPPED | SKIPPED | SKIPPED |
+-----------------------------+----------------+--------------+------------------------------+---------------------------+
| CentOS Stream 9 (ARM) | PEND | SKIPPED | SKIPPED | SKIPPED |
+-----------------------------+----------------+--------------+------------------------------+---------------------------+
| Debian 12 (arm) | PEND | SKIPPED | PASS | PEND |
+-----------------------------+----------------+--------------+------------------------------+---------------------------+
| Debian 11 (Buster) (ARM) | PEND | SKIPPED | SKIPPED | SKIPPED |
+-----------------------------+----------------+--------------+------------------------------+---------------------------+
| Fedora 40 (ARM Clang) | PEND | SKIPPED | SKIPPED | SKIPPED |
+-----------------------------+----------------+--------------+------------------------------+---------------------------+
| Fedora 41 (ARM Clang) | PEND | SKIPPED | SKIPPED | SKIPPED |
+-----------------------------+----------------+--------------+------------------------------+---------------------------+
| Fedora 41 (ARM) | PEND | SKIPPED | SKIPPED | SKIPPED |
+-----------------------------+----------------+--------------+------------------------------+---------------------------+
| Fedora 40 (ARM) | PEND | SKIPPED | SKIPPED | SKIPPED |
+-----------------------------+----------------+--------------+------------------------------+---------------------------+
| RHEL9 (ARM) | PEND | SKIPPED | SKIPPED | SKIPPED |
+-----------------------------+----------------+--------------+------------------------------+---------------------------+
| Ubuntu 24.04 (ARM) | PEND | SKIPPED | SKIPPED | SKIPPED |
+-----------------------------+----------------+--------------+------------------------------+---------------------------+
| Ubuntu 22.04 (ARM) | PEND | SKIPPED | SKIPPED | SKIPPED |
+-----------------------------+----------------+--------------+------------------------------+---------------------------+
| Ubuntu 20.04 (ARM) | PEND | SKIPPED | SKIPPED | SKIPPED |
+-----------------------------+----------------+--------------+------------------------------+---------------------------+
| Ubuntu 20.04 ARM SVE | SKIPPED | PEND | SKIPPED | SKIPPED |
+-----------------------------+----------------+--------------+------------------------------+---------------------------+
32-bit Ubuntu 22.04.4 (ARM)
Kernel: 5.15.83+ aarch64
Compiler: gcc (Ubuntu 11.4.0-1ubuntu1~22.04) 11.4.0
CentOS Stream 9 (ARM)
Kernel: Depends on container host
Compiler: gcc 11.5.0 20240719 (Red Hat 11.5.0-2)
Debian 12 (arm)
Kernel: Depends on container host
Compiler: gcc (Debian 12.2.0-14) 12.2.0
Debian 11 (Buster) (ARM)
Kernel: Depends on container host
Compiler: gcc (Debian 10.2.1-6) 10.2.1 20210110
Fedora 40 (ARM Clang)
Kernel: Depends on container host
Compiler: clang 18.1.8 (Fedora 18.1.8-1.fc40)
Fedora 41 (ARM Clang)
Kernel: Depends on container host
Compiler: clang 19.1.5 (Fedora 19.1.5-1.fc41)
Fedora 41 (ARM)
Kernel: Depends on container host
Compiler: gcc 14.2.1 20240912 (Red Hat 14.2.1-3)
Fedora 40 (ARM)
Kernel: Depends on container host
Compiler: gcc 14.2.1 20240912 (Red Hat 14.2.1-3)
RHEL9 (ARM)
Kernel: Depends on container host
Compiler: gcc 11.5.0 20240719 (Red Hat 11.5.0-2)
Ubuntu 24.04 (ARM)
Kernel: Depends on container host
Compiler: gcc (Ubuntu 13.3.0-6ubuntu2~24.04) 13.3.0
Ubuntu 22.04 (ARM)
Kernel: Depends on container host
Compiler: gcc (Ubuntu 11.4.0-1ubuntu1~22.04) 11.4.0
Ubuntu 20.04 (ARM)
Kernel: Depends on container host
Compiler: gcc (Ubuntu 9.4.0-1ubuntu1~20.04.2) 9.4.0
Ubuntu 20.04 ARM SVE
Kernel: Depends on container host
Compiler: gcc (Ubuntu 10.5.0-1ubuntu1~20.04) 10.5.0
To view detailed results, visit:
https://lab.dpdk.org/results/dashboard/patchsets/32537/
UNH-IOL DPDK Community Lab
To manage your email subscriptions, visit:
https://lab.dpdk.org/results/dashboard/preferences/subscriptions/
^ permalink raw reply [flat|nested] 19+ messages in thread
* |PENDING| pw151184-151215 [PATCH] [32/32] test/cryptodev: replace me
[not found] <20250208203142.242284-33-stephen@networkplumber.org>
` (5 preceding siblings ...)
2025-02-08 21:13 ` dpdklab
@ 2025-02-08 21:15 ` dpdklab
2025-02-08 21:17 ` |SUCCESS| " dpdklab
` (11 subsequent siblings)
18 siblings, 0 replies; 19+ messages in thread
From: dpdklab @ 2025-02-08 21:15 UTC (permalink / raw)
To: Test Report; +Cc: dpdk-test-reports
Test-Label: iol-compile-arm64-testing
Test-Status: PENDING
http://dpdk.org/patch/151215
_Testing pending_
Submitter: Stephen Hemminger <stephen@networkplumber.org>
Date: Saturday, February 08 2025 20:22:24
DPDK git baseline: Repo:dpdk
Branch: master
CommitID:3553897d84d8b54a1b1136cbf04dd7f1a40fd85b
151184-151215 --> testing pending
Upstream job id: Generic-DPDK-Compile-Meson#359712
Test environment and result as below:
+----------------------------------------+--------------------+
| Environment | dpdk_meson_compile |
+========================================+====================+
| RHEL9 (ARM) | PEND |
+----------------------------------------+--------------------+
| Ubuntu 20.04 ARM GCC Cross Compile | PEND |
+----------------------------------------+--------------------+
| Ubuntu 20.04 ARM SVE | PASS |
+----------------------------------------+--------------------+
| Fedora 40 (ARM Clang) | PEND |
+----------------------------------------+--------------------+
| Fedora 40 (ARM) | PEND |
+----------------------------------------+--------------------+
| Fedora 41 (ARM Clang) | PEND |
+----------------------------------------+--------------------+
| Ubuntu 20.04 (ARM) | PEND |
+----------------------------------------+--------------------+
| Fedora 41 (ARM) | PEND |
+----------------------------------------+--------------------+
| Ubuntu 22.04 (ARM) | PEND |
+----------------------------------------+--------------------+
| Ubuntu 24.04 (ARM) | PEND |
+----------------------------------------+--------------------+
| CentOS Stream 9 (ARM) | PEND |
+----------------------------------------+--------------------+
| Ubuntu 20.04 aarch32 GCC Cross Compile | PEND |
+----------------------------------------+--------------------+
| Debian 12 (arm) | PEND |
+----------------------------------------+--------------------+
| Debian 11 (Buster) (ARM) | PEND |
+----------------------------------------+--------------------+
| Ubuntu 20.04 ARM Clang Cross Compile | PEND |
+----------------------------------------+--------------------+
RHEL9 (ARM)
Kernel: Depends on container host
Compiler: gcc 11.5.0 20240719 (Red Hat 11.5.0-2)
Ubuntu 20.04 ARM GCC Cross Compile
Kernel: Depends on container host
Compiler: aarch64-linux-gnu-gcc (Ubuntu 9.4.0-1ubuntu1~20.04.2) 9.4.0
Ubuntu 20.04 ARM SVE
Kernel: Depends on container host
Compiler: gcc (Ubuntu 10.5.0-1ubuntu1~20.04) 10.5.0
Fedora 40 (ARM Clang)
Kernel: Depends on container host
Compiler: clang 18.1.8 (Fedora 18.1.8-1.fc40)
Fedora 40 (ARM)
Kernel: Depends on container host
Compiler: gcc 14.2.1 20240912 (Red Hat 14.2.1-3)
Fedora 41 (ARM Clang)
Kernel: Depends on container host
Compiler: clang 19.1.5 (Fedora 19.1.5-1.fc41)
Ubuntu 20.04 (ARM)
Kernel: Depends on container host
Compiler: gcc (Ubuntu 9.4.0-1ubuntu1~20.04.2) 9.4.0
Fedora 41 (ARM)
Kernel: Depends on container host
Compiler: gcc 14.2.1 20240912 (Red Hat 14.2.1-3)
Ubuntu 22.04 (ARM)
Kernel: Depends on container host
Compiler: gcc (Ubuntu 11.4.0-1ubuntu1~22.04) 11.4.0
Ubuntu 24.04 (ARM)
Kernel: Depends on container host
Compiler: gcc (Ubuntu 13.3.0-6ubuntu2~24.04) 13.3.0
CentOS Stream 9 (ARM)
Kernel: Depends on container host
Compiler: gcc 11.5.0 20240719 (Red Hat 11.5.0-2)
Ubuntu 20.04 aarch32 GCC Cross Compile
Kernel: Depends on container host
Compiler: gcc 9.4.0
Debian 12 (arm)
Kernel: Depends on container host
Compiler: gcc (Debian 12.2.0-14) 12.2.0
Debian 11 (Buster) (ARM)
Kernel: Depends on container host
Compiler: gcc (Debian 10.2.1-6) 10.2.1 20210110
Ubuntu 20.04 ARM Clang Cross Compile
Kernel: Depends on container host
Compiler: clang 10.0.0-4ubuntu1
To view detailed results, visit:
https://lab.dpdk.org/results/dashboard/patchsets/32537/
UNH-IOL DPDK Community Lab
To manage your email subscriptions, visit:
https://lab.dpdk.org/results/dashboard/preferences/subscriptions/
^ permalink raw reply [flat|nested] 19+ messages in thread
* |SUCCESS| pw151184-151215 [PATCH] [32/32] test/cryptodev: replace me
[not found] <20250208203142.242284-33-stephen@networkplumber.org>
` (6 preceding siblings ...)
2025-02-08 21:15 ` dpdklab
@ 2025-02-08 21:17 ` dpdklab
2025-02-08 21:17 ` dpdklab
` (10 subsequent siblings)
18 siblings, 0 replies; 19+ messages in thread
From: dpdklab @ 2025-02-08 21:17 UTC (permalink / raw)
To: Test Report; +Cc: dpdk-test-reports
Test-Label: iol-broadcom-Performance
Test-Status: SUCCESS
http://dpdk.org/patch/151215
_Performance Testing PASS_
Submitter: Stephen Hemminger <stephen@networkplumber.org>
Date: Saturday, February 08 2025 20:22:24
DPDK git baseline: Repo:dpdk
Branch: master
CommitID:3553897d84d8b54a1b1136cbf04dd7f1a40fd85b
151184-151215 --> performance testing pass
Upstream job id: Template-DTS-Pipeline#211744
Test environment and result as below:
Ubuntu 22.04
Kernel: 5.15.0-100-generic
Compiler: gcc (Ubuntu 11.4.0-1ubuntu1~22.04) 11.4.0
NIC: Broadcom Inc. and subsidiaries BCM57414 NetXtreme-E 10Gb/25Gb RDMA Ethernet Controller 16d7 25 Mbps
Fail/Total: 0/3
Detail performance results:
+------------+---------+----------+-------------+------------------------------+
| frame_size | txd/rxd | num_cpus | num_threads | throughput difference from |
| | | | | expected |
+============+=========+==========+=============+==============================+
| 64 | 128 | 1 | 1 | 0.6% |
+------------+---------+----------+-------------+------------------------------+
| 64 | 512 | 1 | 1 | 0.0% |
+------------+---------+----------+-------------+------------------------------+
| 64 | 2048 | 1 | 1 | -0.1% |
+------------+---------+----------+-------------+------------------------------+
Ubuntu 22.04 ARM
Kernel: 5.15.83+
Compiler: gcc 11.4.0
NIC: Arm Broadcom Inc. brcm_57414 25000 Mbps
Fail/Total: 0/2
Detail performance results:
+------------+---------+----------+-------------+------------------------------+
| frame_size | txd/rxd | num_cpus | num_threads | throughput difference from |
| | | | | expected |
+============+=========+==========+=============+==============================+
| 64 | 512 | 1 | 1 | 0.0% |
+------------+---------+----------+-------------+------------------------------+
| 64 | 2048 | 1 | 1 | 0.0% |
+------------+---------+----------+-------------+------------------------------+
To view detailed results, visit:
https://lab.dpdk.org/results/dashboard/patchsets/32537/
UNH-IOL DPDK Community Lab
To manage your email subscriptions, visit:
https://lab.dpdk.org/results/dashboard/preferences/subscriptions/
^ permalink raw reply [flat|nested] 19+ messages in thread
* |SUCCESS| pw151184-151215 [PATCH] [32/32] test/cryptodev: replace me
[not found] <20250208203142.242284-33-stephen@networkplumber.org>
` (7 preceding siblings ...)
2025-02-08 21:17 ` |SUCCESS| " dpdklab
@ 2025-02-08 21:17 ` dpdklab
2025-02-08 21:24 ` |SUCCESS| pw151215 [PATCH 32/32] test/cryptodev: replace memcpy with structure assignment 0-day Robot
` (9 subsequent siblings)
18 siblings, 0 replies; 19+ messages in thread
From: dpdklab @ 2025-02-08 21:17 UTC (permalink / raw)
To: Test Report; +Cc: dpdk-test-reports
Test-Label: iol-sample-apps-testing
Test-Status: SUCCESS
http://dpdk.org/patch/151215
_Testing PASS_
Submitter: Stephen Hemminger <stephen@networkplumber.org>
Date: Saturday, February 08 2025 20:22:24
DPDK git baseline: Repo:dpdk
Branch: master
CommitID:3553897d84d8b54a1b1136cbf04dd7f1a40fd85b
151184-151215 --> testing pass
Upstream job id: Template-DTS-Pipeline#211752
Test environment and result as below:
+--------------------+----------------------+
| Environment | compressdev_zlib_pmd |
+====================+======================+
| Ubuntu 22.04 (ARM) | PASS |
+--------------------+----------------------+
Ubuntu 22.04 (ARM)
Kernel: 5.15.0-97-generic
Compiler: gcc gcc (Ubuntu 11.4.0-1ubuntu1~22.04) 11.4.0
To view detailed results, visit:
https://lab.dpdk.org/results/dashboard/patchsets/32537/
UNH-IOL DPDK Community Lab
To manage your email subscriptions, visit:
https://lab.dpdk.org/results/dashboard/preferences/subscriptions/
^ permalink raw reply [flat|nested] 19+ messages in thread
* |SUCCESS| pw151215 [PATCH 32/32] test/cryptodev: replace memcpy with structure assignment
[not found] <20250208203142.242284-33-stephen@networkplumber.org>
` (8 preceding siblings ...)
2025-02-08 21:17 ` dpdklab
@ 2025-02-08 21:24 ` 0-day Robot
2025-02-08 21:30 ` |SUCCESS| pw151184-151215 [PATCH] [32/32] test/cryptodev: replace me dpdklab
` (8 subsequent siblings)
18 siblings, 0 replies; 19+ messages in thread
From: 0-day Robot @ 2025-02-08 21:24 UTC (permalink / raw)
To: test-report; +Cc: robot
From: robot@bytheb.org
Test-Label: github-robot: build
Test-Status: SUCCESS
http://patchwork.dpdk.org/patch/151215/
_github build: passed_
Build URL: https://github.com/ovsrobot/dpdk/actions/runs/13219143890
^ permalink raw reply [flat|nested] 19+ messages in thread
* |SUCCESS| pw151184-151215 [PATCH] [32/32] test/cryptodev: replace me
[not found] <20250208203142.242284-33-stephen@networkplumber.org>
` (9 preceding siblings ...)
2025-02-08 21:24 ` |SUCCESS| pw151215 [PATCH 32/32] test/cryptodev: replace memcpy with structure assignment 0-day Robot
@ 2025-02-08 21:30 ` dpdklab
2025-02-08 21:37 ` dpdklab
` (7 subsequent siblings)
18 siblings, 0 replies; 19+ messages in thread
From: dpdklab @ 2025-02-08 21:30 UTC (permalink / raw)
To: Test Report, Ali Alnubani; +Cc: dpdk-test-reports
Test-Label: iol-mellanox-Performance
Test-Status: SUCCESS
http://dpdk.org/patch/151215
_Performance Testing PASS_
Submitter: Stephen Hemminger <stephen@networkplumber.org>
Date: Saturday, February 08 2025 20:22:24
DPDK git baseline: Repo:dpdk
Branch: master
CommitID:3553897d84d8b54a1b1136cbf04dd7f1a40fd85b
151184-151215 --> performance testing pass
Upstream job id: Template-DTS-Pipeline#211739
Test environment and result as below:
Ubuntu 24.04
Kernel: 6.8.0-45-generic
Compiler: gcc 13.2.0
NIC: Mellanox ConnectX-6 Lx 25000 Mbps
Fail/Total: 0/6
Detail performance results:
+------------+---------+----------+-------------+------------------------------+
| frame_size | txd/rxd | num_cpus | num_threads | throughput difference from |
| | | | | expected |
+============+=========+==========+=============+==============================+
| 64 | 1024 | 1 | 1 | -0.2% |
+------------+---------+----------+-------------+------------------------------+
| 128 | 1024 | 1 | 1 | 0.0% |
+------------+---------+----------+-------------+------------------------------+
| 256 | 1024 | 1 | 1 | 0.1% |
+------------+---------+----------+-------------+------------------------------+
| 512 | 1024 | 1 | 1 | 0.1% |
+------------+---------+----------+-------------+------------------------------+
| 1024 | 1024 | 1 | 1 | -0.4% |
+------------+---------+----------+-------------+------------------------------+
| 1518 | 1024 | 1 | 1 | 0.0% |
+------------+---------+----------+-------------+------------------------------+
Ubuntu 24.04
Kernel: 6.8.0-45-generic
Compiler: gcc 13.2.0
NIC: NVIDIA Mellanox ConnectX-7 100000 Mbps
Fail/Total: 0/6
Detail performance results:
+------------+---------+----------+-------------+------------------------------+
| frame_size | txd/rxd | num_cpus | num_threads | throughput difference from |
| | | | | expected |
+============+=========+==========+=============+==============================+
| 64 | 1024 | 1 | 1 | -0.8% |
+------------+---------+----------+-------------+------------------------------+
| 128 | 1024 | 1 | 1 | 0.1% |
+------------+---------+----------+-------------+------------------------------+
| 256 | 1024 | 1 | 1 | -0.2% |
+------------+---------+----------+-------------+------------------------------+
| 512 | 1024 | 1 | 1 | -0.0% |
+------------+---------+----------+-------------+------------------------------+
| 1024 | 1024 | 1 | 1 | 0.1% |
+------------+---------+----------+-------------+------------------------------+
| 1518 | 1024 | 1 | 1 | -0.1% |
+------------+---------+----------+-------------+------------------------------+
To view detailed results, visit:
https://lab.dpdk.org/results/dashboard/patchsets/32537/
UNH-IOL DPDK Community Lab
To manage your email subscriptions, visit:
https://lab.dpdk.org/results/dashboard/preferences/subscriptions/
^ permalink raw reply [flat|nested] 19+ messages in thread
* |SUCCESS| pw151184-151215 [PATCH] [32/32] test/cryptodev: replace me
[not found] <20250208203142.242284-33-stephen@networkplumber.org>
` (10 preceding siblings ...)
2025-02-08 21:30 ` |SUCCESS| pw151184-151215 [PATCH] [32/32] test/cryptodev: replace me dpdklab
@ 2025-02-08 21:37 ` dpdklab
2025-02-08 21:42 ` dpdklab
` (6 subsequent siblings)
18 siblings, 0 replies; 19+ messages in thread
From: dpdklab @ 2025-02-08 21:37 UTC (permalink / raw)
To: Test Report; +Cc: dpdk-test-reports
Test-Label: iol-marvell-Functional
Test-Status: SUCCESS
http://dpdk.org/patch/151215
_Functional Testing PASS_
Submitter: Stephen Hemminger <stephen@networkplumber.org>
Date: Saturday, February 08 2025 20:22:24
DPDK git baseline: Repo:dpdk
Branch: master
CommitID:3553897d84d8b54a1b1136cbf04dd7f1a40fd85b
151184-151215 --> functional testing pass
Upstream job id: Template-DTS-Pipeline#211750
Test environment and result as below:
Ubuntu 20.04.6
Kernel: 5.4.105
Compiler: gcc 9.4
NIC: Marvell CN106XX 50000 Mbps
Target: arm64-native-linuxapp-gcc
Aggregate Results by Test Suite
+-----------------+--------+
| Test Suite | Result |
+=================+========+
| cmdline | PASS |
+-----------------+--------+
| ipv4_reassembly | PASS |
+-----------------+--------+
| rxtx_callbacks | PASS |
+-----------------+--------+
| tso | PASS |
+-----------------+--------+
To view detailed results, visit:
https://lab.dpdk.org/results/dashboard/patchsets/32537/
UNH-IOL DPDK Community Lab
To manage your email subscriptions, visit:
https://lab.dpdk.org/results/dashboard/preferences/subscriptions/
^ permalink raw reply [flat|nested] 19+ messages in thread
* |SUCCESS| pw151184-151215 [PATCH] [32/32] test/cryptodev: replace me
[not found] <20250208203142.242284-33-stephen@networkplumber.org>
` (11 preceding siblings ...)
2025-02-08 21:37 ` dpdklab
@ 2025-02-08 21:42 ` dpdklab
2025-02-08 21:49 ` dpdklab
` (5 subsequent siblings)
18 siblings, 0 replies; 19+ messages in thread
From: dpdklab @ 2025-02-08 21:42 UTC (permalink / raw)
To: Test Report; +Cc: dpdk-test-reports
Test-Label: iol-intel-Functional
Test-Status: SUCCESS
http://dpdk.org/patch/151215
_Functional Testing PASS_
Submitter: Stephen Hemminger <stephen@networkplumber.org>
Date: Saturday, February 08 2025 20:22:24
DPDK git baseline: Repo:dpdk
Branch: master
CommitID:3553897d84d8b54a1b1136cbf04dd7f1a40fd85b
151184-151215 --> functional testing pass
Upstream job id: Template-DTS-Pipeline#211747
Test environment and result as below:
Ubuntu 22.04
Kernel: 5.15.0-131-generic
Compiler: gcc (Ubuntu 11.4.0-1ubuntu1~22.04) 11.4.0
NIC: Intel Corporation Ethernet Converged Network Adapter 82599ES 10000 Mbps
Aggregate Results by Test Suite
+-----------------------------+--------+
| Test Suite | Result |
+=============================+========+
| unit_tests_mbuf | PASS |
+-----------------------------+--------+
| vhost_virtio_user_interrupt | PASS |
+-----------------------------+--------+
| virtio_smoke | PASS |
+-----------------------------+--------+
To view detailed results, visit:
https://lab.dpdk.org/results/dashboard/patchsets/32537/
UNH-IOL DPDK Community Lab
To manage your email subscriptions, visit:
https://lab.dpdk.org/results/dashboard/preferences/subscriptions/
^ permalink raw reply [flat|nested] 19+ messages in thread
* |SUCCESS| pw151184-151215 [PATCH] [32/32] test/cryptodev: replace me
[not found] <20250208203142.242284-33-stephen@networkplumber.org>
` (12 preceding siblings ...)
2025-02-08 21:42 ` dpdklab
@ 2025-02-08 21:49 ` dpdklab
2025-02-08 21:50 ` dpdklab
` (4 subsequent siblings)
18 siblings, 0 replies; 19+ messages in thread
From: dpdklab @ 2025-02-08 21:49 UTC (permalink / raw)
To: Test Report; +Cc: dpdk-test-reports
Test-Label: iol-unit-arm64-testing
Test-Status: SUCCESS
http://dpdk.org/patch/151215
_Testing PASS_
Submitter: Stephen Hemminger <stephen@networkplumber.org>
Date: Saturday, February 08 2025 20:22:24
DPDK git baseline: Repo:dpdk
Branch: master
CommitID:3553897d84d8b54a1b1136cbf04dd7f1a40fd85b
151184-151215 --> testing pass
Upstream job id: Generic-Unit-Test-DPDK#313308
Test environment and result as below:
+-----------------------------+----------------+--------------+------------------------------+---------------------------+
| Environment | dpdk_unit_test | lpm_autotest | cryptodev_sw_snow3g_autotest | cryptodev_sw_zuc_autotest |
+=============================+================+==============+==============================+===========================+
| 32-bit Ubuntu 22.04.4 (ARM) | PASS | SKIPPED | SKIPPED | SKIPPED |
+-----------------------------+----------------+--------------+------------------------------+---------------------------+
| CentOS Stream 9 (ARM) | PASS | SKIPPED | SKIPPED | SKIPPED |
+-----------------------------+----------------+--------------+------------------------------+---------------------------+
| Debian 12 (arm) | PASS | SKIPPED | PASS | PASS |
+-----------------------------+----------------+--------------+------------------------------+---------------------------+
| Debian 11 (Buster) (ARM) | PASS | SKIPPED | SKIPPED | SKIPPED |
+-----------------------------+----------------+--------------+------------------------------+---------------------------+
| Fedora 40 (ARM Clang) | PASS | SKIPPED | SKIPPED | SKIPPED |
+-----------------------------+----------------+--------------+------------------------------+---------------------------+
| Fedora 41 (ARM Clang) | PASS | SKIPPED | SKIPPED | SKIPPED |
+-----------------------------+----------------+--------------+------------------------------+---------------------------+
| Fedora 41 (ARM) | PASS | SKIPPED | SKIPPED | SKIPPED |
+-----------------------------+----------------+--------------+------------------------------+---------------------------+
| Fedora 40 (ARM) | PASS | SKIPPED | SKIPPED | SKIPPED |
+-----------------------------+----------------+--------------+------------------------------+---------------------------+
| RHEL9 (ARM) | PASS | SKIPPED | SKIPPED | SKIPPED |
+-----------------------------+----------------+--------------+------------------------------+---------------------------+
| Ubuntu 24.04 (ARM) | PASS | SKIPPED | SKIPPED | SKIPPED |
+-----------------------------+----------------+--------------+------------------------------+---------------------------+
| Ubuntu 22.04 (ARM) | PASS | SKIPPED | SKIPPED | SKIPPED |
+-----------------------------+----------------+--------------+------------------------------+---------------------------+
| Ubuntu 20.04 (ARM) | PASS | SKIPPED | SKIPPED | SKIPPED |
+-----------------------------+----------------+--------------+------------------------------+---------------------------+
| Ubuntu 20.04 ARM SVE | SKIPPED | PASS | SKIPPED | SKIPPED |
+-----------------------------+----------------+--------------+------------------------------+---------------------------+
32-bit Ubuntu 22.04.4 (ARM)
Kernel: 5.15.83+ aarch64
Compiler: gcc (Ubuntu 11.4.0-1ubuntu1~22.04) 11.4.0
CentOS Stream 9 (ARM)
Kernel: Depends on container host
Compiler: gcc 11.5.0 20240719 (Red Hat 11.5.0-2)
Debian 12 (arm)
Kernel: Depends on container host
Compiler: gcc (Debian 12.2.0-14) 12.2.0
Debian 11 (Buster) (ARM)
Kernel: Depends on container host
Compiler: gcc (Debian 10.2.1-6) 10.2.1 20210110
Fedora 40 (ARM Clang)
Kernel: Depends on container host
Compiler: clang 18.1.8 (Fedora 18.1.8-1.fc40)
Fedora 41 (ARM Clang)
Kernel: Depends on container host
Compiler: clang 19.1.5 (Fedora 19.1.5-1.fc41)
Fedora 41 (ARM)
Kernel: Depends on container host
Compiler: gcc 14.2.1 20240912 (Red Hat 14.2.1-3)
Fedora 40 (ARM)
Kernel: Depends on container host
Compiler: gcc 14.2.1 20240912 (Red Hat 14.2.1-3)
RHEL9 (ARM)
Kernel: Depends on container host
Compiler: gcc 11.5.0 20240719 (Red Hat 11.5.0-2)
Ubuntu 24.04 (ARM)
Kernel: Depends on container host
Compiler: gcc (Ubuntu 13.3.0-6ubuntu2~24.04) 13.3.0
Ubuntu 22.04 (ARM)
Kernel: Depends on container host
Compiler: gcc (Ubuntu 11.4.0-1ubuntu1~22.04) 11.4.0
Ubuntu 20.04 (ARM)
Kernel: Depends on container host
Compiler: gcc (Ubuntu 9.4.0-1ubuntu1~20.04.2) 9.4.0
Ubuntu 20.04 ARM SVE
Kernel: Depends on container host
Compiler: gcc (Ubuntu 10.5.0-1ubuntu1~20.04) 10.5.0
To view detailed results, visit:
https://lab.dpdk.org/results/dashboard/patchsets/32537/
UNH-IOL DPDK Community Lab
To manage your email subscriptions, visit:
https://lab.dpdk.org/results/dashboard/preferences/subscriptions/
^ permalink raw reply [flat|nested] 19+ messages in thread
* |SUCCESS| pw151184-151215 [PATCH] [32/32] test/cryptodev: replace me
[not found] <20250208203142.242284-33-stephen@networkplumber.org>
` (13 preceding siblings ...)
2025-02-08 21:49 ` dpdklab
@ 2025-02-08 21:50 ` dpdklab
2025-02-08 21:52 ` dpdklab
` (3 subsequent siblings)
18 siblings, 0 replies; 19+ messages in thread
From: dpdklab @ 2025-02-08 21:50 UTC (permalink / raw)
To: Test Report; +Cc: dpdk-test-reports
Test-Label: iol-sample-apps-testing
Test-Status: SUCCESS
http://dpdk.org/patch/151215
_Testing PASS_
Submitter: Stephen Hemminger <stephen@networkplumber.org>
Date: Saturday, February 08 2025 20:22:24
DPDK git baseline: Repo:dpdk
Branch: master
CommitID:3553897d84d8b54a1b1136cbf04dd7f1a40fd85b
151184-151215 --> testing pass
Upstream job id: Template-DTS-Pipeline#211751
Test environment and result as below:
+--------------------+----------------------+
| Environment | compressdev_zlib_pmd |
+====================+======================+
| Ubuntu 22.04 (ARM) | PASS |
+--------------------+----------------------+
| Ubuntu 22.04 | PASS |
+--------------------+----------------------+
Ubuntu 22.04 (ARM)
Kernel: 5.15.0-97-generic
Compiler: gcc gcc (Ubuntu 11.4.0-1ubuntu1~22.04) 11.4.0
Ubuntu 22.04
Kernel: 5.15.0-100-generic
Compiler: gcc gcc (Ubuntu 11.4.0-1ubuntu1~22.04) 11.4.0
To view detailed results, visit:
https://lab.dpdk.org/results/dashboard/patchsets/32537/
UNH-IOL DPDK Community Lab
To manage your email subscriptions, visit:
https://lab.dpdk.org/results/dashboard/preferences/subscriptions/
^ permalink raw reply [flat|nested] 19+ messages in thread
* |SUCCESS| pw151184-151215 [PATCH] [32/32] test/cryptodev: replace me
[not found] <20250208203142.242284-33-stephen@networkplumber.org>
` (14 preceding siblings ...)
2025-02-08 21:50 ` dpdklab
@ 2025-02-08 21:52 ` dpdklab
2025-02-08 21:58 ` dpdklab
` (2 subsequent siblings)
18 siblings, 0 replies; 19+ messages in thread
From: dpdklab @ 2025-02-08 21:52 UTC (permalink / raw)
To: Test Report; +Cc: dpdk-test-reports
Test-Label: iol-intel-Functional
Test-Status: SUCCESS
http://dpdk.org/patch/151215
_Functional Testing PASS_
Submitter: Stephen Hemminger <stephen@networkplumber.org>
Date: Saturday, February 08 2025 20:22:24
DPDK git baseline: Repo:dpdk
Branch: master
CommitID:3553897d84d8b54a1b1136cbf04dd7f1a40fd85b
151184-151215 --> functional testing pass
Upstream job id: Template-DTS-Pipeline#211749
Test environment and result as below:
Ubuntu 22.04
Kernel: 5.15.0-131-generic
Compiler: gcc (Ubuntu 11.4.0-1ubuntu1~22.04) 11.4.0
NIC: Intel Corporation Ethernet Converged Network Adapter 82599ES 10000 Mbps
Aggregate Results by Test Suite
+-----------------------------+--------+
| Test Suite | Result |
+=============================+========+
| unit_tests_mbuf | PASS |
+-----------------------------+--------+
| vhost_virtio_user_interrupt | PASS |
+-----------------------------+--------+
| virtio_smoke | PASS |
+-----------------------------+--------+
Arm Ampere Altra - Ubuntu 22.04
Kernel: 5.15.83+
Compiler: gcc 11.4
NIC: Intel Corporation QAT 8970 0 Mbps
Aggregate Results by Test Suite
+----------------------------+--------+
| Test Suite | Result |
+============================+========+
| crypto_perf_cryptodev_perf | PASS |
+----------------------------+--------+
To view detailed results, visit:
https://lab.dpdk.org/results/dashboard/patchsets/32537/
UNH-IOL DPDK Community Lab
To manage your email subscriptions, visit:
https://lab.dpdk.org/results/dashboard/preferences/subscriptions/
^ permalink raw reply [flat|nested] 19+ messages in thread
* |SUCCESS| pw151184-151215 [PATCH] [32/32] test/cryptodev: replace me
[not found] <20250208203142.242284-33-stephen@networkplumber.org>
` (15 preceding siblings ...)
2025-02-08 21:52 ` dpdklab
@ 2025-02-08 21:58 ` dpdklab
2025-02-08 22:12 ` dpdklab
2025-02-08 22:39 ` dpdklab
18 siblings, 0 replies; 19+ messages in thread
From: dpdklab @ 2025-02-08 21:58 UTC (permalink / raw)
To: Test Report; +Cc: dpdk-test-reports
Test-Label: iol-unit-amd64-testing
Test-Status: SUCCESS
http://dpdk.org/patch/151215
_Testing PASS_
Submitter: Stephen Hemminger <stephen@networkplumber.org>
Date: Saturday, February 08 2025 20:22:24
DPDK git baseline: Repo:dpdk
Branch: master
CommitID:3553897d84d8b54a1b1136cbf04dd7f1a40fd85b
151184-151215 --> testing pass
Upstream job id: Generic-Unit-Test-DPDK#313302
Test environment and result as below:
+---------------------+----------------+
| Environment | dpdk_unit_test |
+=====================+================+
| Debian Bullseye | PASS |
+---------------------+----------------+
| CentOS Stream 9 | PASS |
+---------------------+----------------+
| Debian 12 | PASS |
+---------------------+----------------+
| Fedora 40 (Clang) | PASS |
+---------------------+----------------+
| RHEL8 | PASS |
+---------------------+----------------+
| RHEL9 | PASS |
+---------------------+----------------+
| Fedora 41 (Clang) | PASS |
+---------------------+----------------+
| Fedora 40 | PASS |
+---------------------+----------------+
| Ubuntu 20.04 | PASS |
+---------------------+----------------+
| Fedora 41 | PASS |
+---------------------+----------------+
| Ubuntu 22.04 | PASS |
+---------------------+----------------+
| Ubuntu 24.04 | PASS |
+---------------------+----------------+
| Windows Server 2022 | PASS |
+---------------------+----------------+
Debian Bullseye
Kernel: Depends on container host
Compiler: gcc (Debian 10.2.1-6) 10.2.1 20210110
CentOS Stream 9
Kernel: Depends on container host
Compiler: gcc 11.5.0 20240719 (Red Hat 11.5.0-2)
Debian 12
Kernel: Depends on container host
Compiler: gcc (Debian 12.2.0-14) 12.2.0
Fedora 40 (Clang)
Kernel: Depends on container host
Compiler: clang 18.1.8 (Fedora 18.1.8-1.fc40)
RHEL8
Kernel: Depends on container host
Compiler: gcc 8.5.0 20210514 (Red Hat 8.5.0-22)
RHEL9
Kernel: Depends on container host
Compiler: gcc 11.5.0 20240719 (Red Hat 11.5.0-2)
Fedora 41 (Clang)
Kernel: Depends on container host
Compiler: clang 19.1.5 (Fedora 19.1.5-1.fc41)
Fedora 40
Kernel: Depends on container host
Compiler: gcc 14.2.1 20240912 (Red Hat 14.2.1-3)
Ubuntu 20.04
Kernel: Depends on container host
Compiler: gcc (Ubuntu 9.4.0-1ubuntu1~20.04.2) 9.4.0
Fedora 41
Kernel: Depends on container host
Compiler: gcc 14.2.1 20240912 (Red Hat 14.2.1-3)
Ubuntu 22.04
Kernel: Depends on container host
Compiler: gcc (Ubuntu 11.4.0-1ubuntu1~22.04) 11.4.0
Ubuntu 24.04
Kernel: Depends on container host
Compiler: gcc (Ubuntu 13.3.0-6ubuntu2~24.04) 13.3.0
Windows Server 2022
Kernel: 10.0.20348.2031
Compiler: clang 15.0.7, gcc 14.1.0 (MinGW), and MSVC VS 19.39.33521
To view detailed results, visit:
https://lab.dpdk.org/results/dashboard/patchsets/32537/
UNH-IOL DPDK Community Lab
To manage your email subscriptions, visit:
https://lab.dpdk.org/results/dashboard/preferences/subscriptions/
^ permalink raw reply [flat|nested] 19+ messages in thread
* |SUCCESS| pw151184-151215 [PATCH] [32/32] test/cryptodev: replace me
[not found] <20250208203142.242284-33-stephen@networkplumber.org>
` (16 preceding siblings ...)
2025-02-08 21:58 ` dpdklab
@ 2025-02-08 22:12 ` dpdklab
2025-02-08 22:39 ` dpdklab
18 siblings, 0 replies; 19+ messages in thread
From: dpdklab @ 2025-02-08 22:12 UTC (permalink / raw)
To: Test Report; +Cc: Stephen Hemminger
Test-Label: iol-abi-testing
Test-Status: SUCCESS
http://dpdk.org/patch/151215
_Testing PASS_
Submitter: Stephen Hemminger <stephen@networkplumber.org>
Date: Saturday, February 08 2025 20:22:24
DPDK git baseline: Repo:dpdk
Branch: master
CommitID:3553897d84d8b54a1b1136cbf04dd7f1a40fd85b
151184-151215 --> testing pass
Upstream job id: Generic-DPDK-Compile-ABI#115469
Test environment and result as below:
+-------------------+----------+
| Environment | abi_test |
+===================+==========+
| CentOS Stream 9 | PASS |
+-------------------+----------+
| Debian 12 | PASS |
+-------------------+----------+
| RHEL8 | PASS |
+-------------------+----------+
| Fedora 40 (Clang) | PASS |
+-------------------+----------+
| Fedora 40 | PASS |
+-------------------+----------+
| Fedora 41 (Clang) | PASS |
+-------------------+----------+
| Fedora 41 | PASS |
+-------------------+----------+
| Ubuntu 24.04 | PASS |
+-------------------+----------+
| openSUSE Leap 15 | PASS |
+-------------------+----------+
| Ubuntu 22.04 | PASS |
+-------------------+----------+
| RHEL9 | PASS |
+-------------------+----------+
| Debian Bullseye | PASS |
+-------------------+----------+
CentOS Stream 9
Kernel: Depends on container host
Compiler: gcc 11.5.0 20240719 (Red Hat 11.5.0-2)
Debian 12
Kernel: Depends on container host
Compiler: gcc (Debian 12.2.0-14) 12.2.0
RHEL8
Kernel: Depends on container host
Compiler: gcc 8.5.0 20210514 (Red Hat 8.5.0-22)
Fedora 40 (Clang)
Kernel: Depends on container host
Compiler: clang 18.1.8 (Fedora 18.1.8-1.fc40)
Fedora 40
Kernel: Depends on container host
Compiler: gcc 14.2.1 20240912 (Red Hat 14.2.1-3)
Fedora 41 (Clang)
Kernel: Depends on container host
Compiler: clang 19.1.5 (Fedora 19.1.5-1.fc41)
Fedora 41
Kernel: Depends on container host
Compiler: gcc 14.2.1 20240912 (Red Hat 14.2.1-3)
Ubuntu 24.04
Kernel: Depends on container host
Compiler: gcc (Ubuntu 13.3.0-6ubuntu2~24.04) 13.3.0
openSUSE Leap 15
Kernel: Depends on container host
Compiler: gcc (SUSE Linux) 7.5.0
Ubuntu 22.04
Kernel: Depends on container host
Compiler: gcc (Ubuntu 11.4.0-1ubuntu1~22.04) 11.4.0
RHEL9
Kernel: Depends on container host
Compiler: gcc 11.5.0 20240719 (Red Hat 11.5.0-2)
Debian Bullseye
Kernel: Depends on container host
Compiler: gcc (Debian 10.2.1-6) 10.2.1 20210110
To view detailed results, visit:
https://lab.dpdk.org/results/dashboard/patchsets/32537/
UNH-IOL DPDK Community Lab
To manage your email subscriptions, visit:
https://lab.dpdk.org/results/dashboard/preferences/subscriptions/
^ permalink raw reply [flat|nested] 19+ messages in thread
* |SUCCESS| pw151184-151215 [PATCH] [32/32] test/cryptodev: replace me
[not found] <20250208203142.242284-33-stephen@networkplumber.org>
` (17 preceding siblings ...)
2025-02-08 22:12 ` dpdklab
@ 2025-02-08 22:39 ` dpdklab
18 siblings, 0 replies; 19+ messages in thread
From: dpdklab @ 2025-02-08 22:39 UTC (permalink / raw)
To: Test Report; +Cc: dpdk-test-reports
Test-Label: iol-compile-amd64-testing
Test-Status: SUCCESS
http://dpdk.org/patch/151215
_Testing PASS_
Submitter: Stephen Hemminger <stephen@networkplumber.org>
Date: Saturday, February 08 2025 20:22:24
DPDK git baseline: Repo:dpdk
Branch: master
CommitID:3553897d84d8b54a1b1136cbf04dd7f1a40fd85b
151184-151215 --> testing pass
Upstream job id: Generic-DPDK-Compile-Meson#359739
Test environment and result as below:
+---------------------+--------------------+------------------+-------------------+-------------------------+-------------------+----------------------+
| Environment | dpdk_meson_compile | dpdk_compile_ovs | dpdk_compile_spdk | dpdk_llvm_clang_compile | dpdk_msvc_compile | dpdk_mingw64_compile |
+=====================+====================+==================+===================+=========================+===================+======================+
| CentOS Stream 9 | PASS | PASS | PASS | SKIPPED | SKIPPED | SKIPPED |
+---------------------+--------------------+------------------+-------------------+-------------------------+-------------------+----------------------+
| Debian Bullseye | PASS | PASS | PASS | SKIPPED | SKIPPED | SKIPPED |
+---------------------+--------------------+------------------+-------------------+-------------------------+-------------------+----------------------+
| Debian 12 | PASS | PASS | PASS | SKIPPED | SKIPPED | SKIPPED |
+---------------------+--------------------+------------------+-------------------+-------------------------+-------------------+----------------------+
| Fedora 41 (Clang) | PASS | PASS | PASS | SKIPPED | SKIPPED | SKIPPED |
+---------------------+--------------------+------------------+-------------------+-------------------------+-------------------+----------------------+
| Fedora 40 | PASS | PASS | PASS | SKIPPED | SKIPPED | SKIPPED |
+---------------------+--------------------+------------------+-------------------+-------------------------+-------------------+----------------------+
| Fedora 40 (Clang) | PASS | PASS | PASS | SKIPPED | SKIPPED | SKIPPED |
+---------------------+--------------------+------------------+-------------------+-------------------------+-------------------+----------------------+
| openSUSE Leap 15 | PASS | SKIPPED | SKIPPED | SKIPPED | SKIPPED | SKIPPED |
+---------------------+--------------------+------------------+-------------------+-------------------------+-------------------+----------------------+
| Ubuntu 22.04 | PASS | PASS | PASS | SKIPPED | SKIPPED | SKIPPED |
+---------------------+--------------------+------------------+-------------------+-------------------------+-------------------+----------------------+
| RHEL9 | PASS | PASS | SKIPPED | SKIPPED | SKIPPED | SKIPPED |
+---------------------+--------------------+------------------+-------------------+-------------------------+-------------------+----------------------+
| Ubuntu 24.04 | PASS | PASS | PASS | SKIPPED | SKIPPED | SKIPPED |
+---------------------+--------------------+------------------+-------------------+-------------------------+-------------------+----------------------+
| Alpine | PASS | PASS | SKIPPED | SKIPPED | SKIPPED | SKIPPED |
+---------------------+--------------------+------------------+-------------------+-------------------------+-------------------+----------------------+
| RHEL8 | PASS | PASS | SKIPPED | SKIPPED | SKIPPED | SKIPPED |
+---------------------+--------------------+------------------+-------------------+-------------------------+-------------------+----------------------+
| Fedora 41 | PASS | PASS | PASS | SKIPPED | SKIPPED | SKIPPED |
+---------------------+--------------------+------------------+-------------------+-------------------------+-------------------+----------------------+
| Ubuntu 20.04 | PASS | SKIPPED | SKIPPED | SKIPPED | SKIPPED | SKIPPED |
+---------------------+--------------------+------------------+-------------------+-------------------------+-------------------+----------------------+
| FreeBSD 13.4 | PASS | SKIPPED | SKIPPED | SKIPPED | SKIPPED | SKIPPED |
+---------------------+--------------------+------------------+-------------------+-------------------------+-------------------+----------------------+
| FreeBSD 14.2 | PASS | SKIPPED | SKIPPED | SKIPPED | SKIPPED | SKIPPED |
+---------------------+--------------------+------------------+-------------------+-------------------------+-------------------+----------------------+
| Windows Server 2022 | SKIPPED | SKIPPED | SKIPPED | PASS | PASS | PASS |
+---------------------+--------------------+------------------+-------------------+-------------------------+-------------------+----------------------+
CentOS Stream 9
Kernel: Depends on container host
Compiler: gcc 11.5.0 20240719 (Red Hat 11.5.0-2)
Debian Bullseye
Kernel: Depends on container host
Compiler: gcc (Debian 10.2.1-6) 10.2.1 20210110
Debian 12
Kernel: Depends on container host
Compiler: gcc (Debian 12.2.0-14) 12.2.0
Fedora 41 (Clang)
Kernel: Depends on container host
Compiler: clang 19.1.5 (Fedora 19.1.5-1.fc41)
Fedora 40
Kernel: Depends on container host
Compiler: gcc 14.2.1 20240912 (Red Hat 14.2.1-3)
Fedora 40 (Clang)
Kernel: Depends on container host
Compiler: clang 18.1.8 (Fedora 18.1.8-1.fc40)
openSUSE Leap 15
Kernel: Depends on container host
Compiler: gcc (SUSE Linux) 7.5.0
Ubuntu 22.04
Kernel: Depends on container host
Compiler: gcc (Ubuntu 11.4.0-1ubuntu1~22.04) 11.4.0
RHEL9
Kernel: Depends on container host
Compiler: gcc 11.5.0 20240719 (Red Hat 11.5.0-2)
Ubuntu 24.04
Kernel: Depends on container host
Compiler: gcc (Ubuntu 13.3.0-6ubuntu2~24.04) 13.3.0
Alpine
Kernel: Depends on container host
Compiler: gcc (Alpine 14.2.0) 14.2.0
RHEL8
Kernel: Depends on container host
Compiler: gcc 8.5.0 20210514 (Red Hat 8.5.0-22)
Fedora 41
Kernel: Depends on container host
Compiler: gcc 14.2.1 20240912 (Red Hat 14.2.1-3)
Ubuntu 20.04
Kernel: Depends on container host
Compiler: gcc (Ubuntu 9.4.0-1ubuntu1~20.04.2) 9.4.0
FreeBSD 13.4
Kernel: 13.4-RELEASE-p1
Compiler: clang 18.1.6
FreeBSD 14.2
Kernel: 14.2-RELEASE
Compiler: clang 18.1.6
Windows Server 2022
Kernel: 10.0.20348.2031
Compiler: clang 15.0.7, gcc 14.1.0 (MinGW), and MSVC VS 19.39.33521
To view detailed results, visit:
https://lab.dpdk.org/results/dashboard/patchsets/32537/
UNH-IOL DPDK Community Lab
To manage your email subscriptions, visit:
https://lab.dpdk.org/results/dashboard/preferences/subscriptions/
^ permalink raw reply [flat|nested] 19+ messages in thread
end of thread, other threads:[~2025-02-08 22:39 UTC | newest]
Thread overview: 19+ messages (download: mbox.gz / follow: Atom feed)
-- links below jump to the message on this page --
[not found] <20250208203142.242284-33-stephen@networkplumber.org>
2025-02-08 20:09 ` |SUCCESS| pw151184-151215 [PATCH 32/32] test/cryptodev: replace memcpy with structure assignment qemudev
2025-02-08 20:14 ` qemudev
2025-02-08 20:36 ` |SUCCESS| pw151215 " checkpatch
2025-02-08 21:09 ` |PENDING| pw151184-151215 [PATCH] [32/32] test/cryptodev: replace me dpdklab
2025-02-08 21:12 ` dpdklab
2025-02-08 21:13 ` dpdklab
2025-02-08 21:15 ` dpdklab
2025-02-08 21:17 ` |SUCCESS| " dpdklab
2025-02-08 21:17 ` dpdklab
2025-02-08 21:24 ` |SUCCESS| pw151215 [PATCH 32/32] test/cryptodev: replace memcpy with structure assignment 0-day Robot
2025-02-08 21:30 ` |SUCCESS| pw151184-151215 [PATCH] [32/32] test/cryptodev: replace me dpdklab
2025-02-08 21:37 ` dpdklab
2025-02-08 21:42 ` dpdklab
2025-02-08 21:49 ` dpdklab
2025-02-08 21:50 ` dpdklab
2025-02-08 21:52 ` dpdklab
2025-02-08 21:58 ` dpdklab
2025-02-08 22:12 ` dpdklab
2025-02-08 22:39 ` dpdklab
This is a public inbox, see mirroring instructions
for how to clone and mirror all data and code used for this inbox;
as well as URLs for NNTP newsgroup(s).