From mboxrd@z Thu Jan 1 00:00:00 1970 Return-Path: Received: from mails.dpdk.org (mails.dpdk.org [217.70.189.124]) by inbox.dpdk.org (Postfix) with ESMTP id 768D5461CE for ; Sat, 8 Feb 2025 22:25:59 +0100 (CET) Received: from mails.dpdk.org (localhost [127.0.0.1]) by mails.dpdk.org (Postfix) with ESMTP id 723A9402B7; Sat, 8 Feb 2025 22:25:59 +0100 (CET) Received: from mail-pl1-f225.google.com (mail-pl1-f225.google.com [209.85.214.225]) by mails.dpdk.org (Postfix) with ESMTP id 5D6E2402A0 for ; Sat, 8 Feb 2025 22:25:58 +0100 (CET) Received: by mail-pl1-f225.google.com with SMTP id d9443c01a7336-21f48ab13d5so47237905ad.0 for ; Sat, 08 Feb 2025 13:25:58 -0800 (PST) DKIM-Signature: v=1; a=rsa-sha256; c=relaxed/relaxed; d=iol.unh.edu; s=unh-iol; t=1739049957; x=1739654757; darn=dpdk.org; h=references:in-reply-to:cc:to:from:subject:message-id:date:from:to :cc:subject:date:message-id:reply-to; bh=KEg1wXK9+kOppjwOOWH8I4toFNg8EMIA9rTwQuilUZc=; b=e6qD1I85Ufh/CzeCYJXlqEqBeVZkGSXEEWvvuey4KcLh/k7j1S3wJzkx1PgoXQtlhA I9jlkaiotwBj3m5GM6OngqET52/GPUg7UdePm6BzM3UOhAOB17zrRItfs1jgQwFpWHnx 68TR4DogB6Vd7EfeFbuntD++PkGR9j3pAOeCc= X-Google-DKIM-Signature: v=1; a=rsa-sha256; c=relaxed/relaxed; d=1e100.net; s=20230601; t=1739049957; x=1739654757; h=references:in-reply-to:cc:to:from:subject:message-id:date :x-gm-message-state:from:to:cc:subject:date:message-id:reply-to; bh=KEg1wXK9+kOppjwOOWH8I4toFNg8EMIA9rTwQuilUZc=; b=hmxf9l1Ka7cr4zUnw3/wePzFn7R28MhoYMSgrPgFcCcDMRB9AJ76trMoQqqdng5Jbd SV5vLYRgoqU1HVw9T5S4pKXtZRidrgjiA38LPbSWcIuT+JEJGE8Yrqp+3q8vwK0/LI2C iuiPGBd9+Z8YjC0jdyL4R6ql1Qxr5uZwvpztjoD0H4kO78qSRLLU6ze2KdeDs/UZnqiT Vwo2ZBm3lotmyXt5uFi3QIhODhcWIoQo3Oz0CjS1rDVppY12cJN1qN7pNTafmteYmQsT 9k9Q2PeLmKjIzYqdWFrtjlcufOJJrrNWuEbOSLQsvkhY62Wz5+ncsdiQS7kshwHAtBU2 zoog== X-Gm-Message-State: AOJu0Yw1TZcmAXDA84Ba7/iiRKco9UJviWFSYDVXsvPKsN6mYqdbgxGt ZcxyVgZ82gC/VGioB8mOv8lLwbVe6QWeZs+oQ4RTBkwfBtKfa0SCNPd57U3fbH5Q6+VZmV/atxn 2f0e0sRELMBAcSmkEWbV6lo9weXYpZbp0za1O9vPi X-Gm-Gg: ASbGnctpfbC79Qz5kNWiQejEj1/7JbGforsjMOTshlyV33Uil9uXFfSKX0ADQuUnVP9 jNCRJt/CzRYgfJZJ9ZIko6hTU/AYpbfLYrk3TNdmQB4g/qEOApQgZD8/nfe/lgXYnnOv+zhqBe9 sUUOG1keSataEYMuz/5BjV3NSz3XogytIVw6KRrWDFHcGhXgpxvpIxRUUIL/1di/tv76Mo/bSAh 1CQu0KU8S/fl01rJGALxWXMDTM2mMl6fo+7nt6eDZpSB9nXSXjsUQkpNXxkMoY38RlFqzfNdKve CepRz68nSjJPwjMIDnyrMrylnmPcZA== X-Google-Smtp-Source: AGHT+IFSW7q5t5bju2Pg6TZw40GwY7ds+ckWmLg842LsO1qr4UkwN8a9eyfYzJmxUyq6MvrCtrem09QpUm0e X-Received: by 2002:a17:903:22c7:b0:21f:4479:a349 with SMTP id d9443c01a7336-21f4e70cb92mr125154365ad.30.1739049957481; Sat, 08 Feb 2025 13:25:57 -0800 (PST) Received: from postal.iol.unh.edu (postal.iol.unh.edu. [132.177.123.84]) by smtp-relay.gmail.com with ESMTPS id d9443c01a7336-21f3650ccefsm3640305ad.11.2025.02.08.13.25.57 (version=TLS1_2 cipher=ECDHE-ECDSA-AES128-GCM-SHA256 bits=128/128); Sat, 08 Feb 2025 13:25:57 -0800 (PST) X-Relaying-Domain: iol.unh.edu Date: Sat, 08 Feb 2025 13:25:57 -0800 (PST) Message-ID: <67a7cbe5.170a0220.7bdb0.301bSMTPIN_ADDED_MISSING@mx.google.com> Received: from [172.21.0.5] (unknown [172.18.0.240]) by postal.iol.unh.edu (Postfix) with ESMTP id 96B136052471; Sat, 8 Feb 2025 16:25:26 -0500 (EST) Subject: |SUCCESS| pw151072-151073 [PATCH] [v8,2/2] net/af_xdp: Refactor af_x From: dpdklab@iol.unh.edu To: Test Report Cc: dpdk-test-reports@iol.unh.edu In-Reply-To: <20250206204645.1564535-3-ariel.otilibili@6wind.com> References: <20250206204645.1564535-3-ariel.otilibili@6wind.com> Content-Type: text/plain X-BeenThere: test-report@dpdk.org X-Mailman-Version: 2.1.29 Precedence: list List-Id: automatic DPDK test reports List-Unsubscribe: , List-Archive: List-Post: List-Help: List-Subscribe: , Errors-To: test-report-bounces@dpdk.org Test-Label: iol-sample-apps-testing Test-Status: SUCCESS http://dpdk.org/patch/151073 _Testing PASS_ Submitter: Ariel Otilibili Date: Thursday, February 06 2025 20:46:45 DPDK git baseline: Repo:dpdk Branch: master CommitID:e5ece9ae686535f29ae72c03fec26dc16ff7a925 151072-151073 --> testing pass Upstream job id: ACVP-FIPS-testing#8820 Test environment and result as below: +--------------------+----------------------+----------------------+ | Environment | compressdev_zlib_pmd | dpdk_fips_validation | +====================+======================+======================+ | Ubuntu 22.04 (ARM) | PASS | SKIPPED | +--------------------+----------------------+----------------------+ | Ubuntu 22.04 | PASS | SKIPPED | +--------------------+----------------------+----------------------+ | Ubuntu 20.04 | SKIPPED | PASS | +--------------------+----------------------+----------------------+ Ubuntu 22.04 (ARM) Kernel: 5.15.0-97-generic Compiler: gcc gcc (Ubuntu 11.4.0-1ubuntu1~22.04) 11.4.0 Ubuntu 22.04 Kernel: 5.15.0-100-generic Compiler: gcc gcc (Ubuntu 11.4.0-1ubuntu1~22.04) 11.4.0 Ubuntu 20.04 Kernel: Depends on container host Compiler: gcc (Ubuntu 9.4.0-1ubuntu1~20.04.2) 9.4.0 To view detailed results, visit: https://lab.dpdk.org/results/dashboard/patchsets/32515/ UNH-IOL DPDK Community Lab To manage your email subscriptions, visit: https://lab.dpdk.org/results/dashboard/preferences/subscriptions/