From mboxrd@z Thu Jan 1 00:00:00 1970 Return-Path: Received: from mails.dpdk.org (mails.dpdk.org [217.70.189.124]) by inbox.dpdk.org (Postfix) with ESMTP id C8A70461CE for ; Sat, 8 Feb 2025 22:49:35 +0100 (CET) Received: from mails.dpdk.org (localhost [127.0.0.1]) by mails.dpdk.org (Postfix) with ESMTP id B50E7402A0; Sat, 8 Feb 2025 22:49:35 +0100 (CET) Received: from mail-il1-f227.google.com (mail-il1-f227.google.com [209.85.166.227]) by mails.dpdk.org (Postfix) with ESMTP id 623224025E for ; Sat, 8 Feb 2025 22:49:34 +0100 (CET) Received: by mail-il1-f227.google.com with SMTP id e9e14a558f8ab-3d14dec3236so2787895ab.0 for ; Sat, 08 Feb 2025 13:49:34 -0800 (PST) DKIM-Signature: v=1; a=rsa-sha256; c=relaxed/relaxed; d=iol.unh.edu; s=unh-iol; t=1739051373; x=1739656173; darn=dpdk.org; h=references:in-reply-to:cc:to:from:subject:message-id:date:from:to :cc:subject:date:message-id:reply-to; bh=/bSH4pTeVu5E7MpCgqw5Htzx0sLnUcEcPGA5JEyYqP8=; b=YTiq68AHBnJnvrLXS4R9hosZm1pAC2JZYJGkfGjyFjaNcvZljiezO75i445xm/hXy7 FWrD7lvtir/pFdbfY3LYAbtYgIYlEx32exxd0/6uUueaR6OnrVL/z904Ynvz1WzZi1C1 bM06WUhjwVJlSBb55f5IhQZTS4EeujUmPlkcI= X-Google-DKIM-Signature: v=1; a=rsa-sha256; c=relaxed/relaxed; d=1e100.net; s=20230601; t=1739051373; x=1739656173; h=references:in-reply-to:cc:to:from:subject:message-id:date :x-gm-message-state:from:to:cc:subject:date:message-id:reply-to; bh=/bSH4pTeVu5E7MpCgqw5Htzx0sLnUcEcPGA5JEyYqP8=; b=K4/SZ4gYICqn7e1TCzj4giWTSqn/ouoekIb5uKdcb4LXcXDprDchLLpkXT50rjEWgE Y2bhm9VjoCXeVIKFs5lrt1fsoFPSPpBGUVR1HfEJwINUwrde9UIRV77KT87VEGJzH4Yo N3b26JnAqU5kAE18Jpob9vjEQzCAZOpIaaB87PINMNGgCQ4gQl9s//Qh6Yk6HXYagc3h iZx0BEia5Z9i6Tu6M6nM2/fypCg/JAxdtf0c5fIMPKxELzFD85n8vyX9sOn10m4ihHpE nLua+wl2zy6FlL9oF9FIfMaZKqfpvSxazUag3PWqw+9MR4AjYDczTCSSSZ18dMD/09JY X2rw== X-Gm-Message-State: AOJu0YzIXbWgJWXszQzMZxO2sadp3xFssOhK+wRKUdhovbrWJdvCj44K 7ZCQERhbVFF1lT2/XUSwvnfmWtU93cZwAVPEXA2G1eHUzlqkYS7/qPuSDSKRmaVd7x+b1ZWFf5N EPmHfpkUMZGVEYQ/kG5hWoQKDWtnbLh8PPeuUVsW0 X-Gm-Gg: ASbGncuhqe5jXb9hGefIadpCzoFi+a/ABr+ni4rhhIc6dwRKc3zkHceNI+OQ+8fCmGU Ax1mCUuilbuAqqNZrVVSKnTXV0MI/r7i8+urULvzR6AC9Y8q8znW6CszdJFKvnWNF9NXzrYju6s 6JjLkihpp5TYOMFqwZD0TEJOZq75Hm9/PzWmEdS4QsNEqmqPVBE2lMl1F8ge07wIcl3ufDH5TSI GUdi935IBS1aUvWFnMCsTXqiEktfGA7lUJ66MmG5C+o2h9IOhS/Z/DmGoy0Z35JuvnxLUHQP630 JV2VBkh+PCL8aItLW0IklNMu4exscQ== X-Google-Smtp-Source: AGHT+IHDCEMKXKWU5B4vhA1hzlgaXTrQYEHEXvTgqFUWFpM2pvNo/RMNsKeqaQYtXZFYa51qgvEvt99imIGn X-Received: by 2002:a05:6602:3f8b:b0:855:1a4b:8f43 with SMTP id ca18e2360f4ac-8551a4b90b1mr77574139f.8.1739051373694; Sat, 08 Feb 2025 13:49:33 -0800 (PST) Received: from postal.iol.unh.edu (postal.iol.unh.edu. [132.177.123.84]) by smtp-relay.gmail.com with ESMTPS id 8926c6da1cb9f-4eccfad0b50sm387692173.59.2025.02.08.13.49.33 (version=TLS1_2 cipher=ECDHE-ECDSA-AES128-GCM-SHA256 bits=128/128); Sat, 08 Feb 2025 13:49:33 -0800 (PST) X-Relaying-Domain: iol.unh.edu Date: Sat, 08 Feb 2025 13:49:33 -0800 (PST) Message-ID: <67a7d16d.050a0220.21e187.3a9eSMTPIN_ADDED_MISSING@mx.google.com> Received: from [172.21.0.5] (unknown [172.18.0.240]) by postal.iol.unh.edu (Postfix) with ESMTP id 37F636052471; Sat, 8 Feb 2025 16:49:33 -0500 (EST) Subject: |SUCCESS| pw151184-151215 [PATCH] [32/32] test/cryptodev: replace me From: dpdklab@iol.unh.edu To: Test Report Cc: dpdk-test-reports@iol.unh.edu In-Reply-To: <20250208203142.242284-33-stephen@networkplumber.org> References: <20250208203142.242284-33-stephen@networkplumber.org> Content-Type: text/plain X-BeenThere: test-report@dpdk.org X-Mailman-Version: 2.1.29 Precedence: list List-Id: automatic DPDK test reports List-Unsubscribe: , List-Archive: List-Post: List-Help: List-Subscribe: , Errors-To: test-report-bounces@dpdk.org Test-Label: iol-unit-arm64-testing Test-Status: SUCCESS http://dpdk.org/patch/151215 _Testing PASS_ Submitter: Stephen Hemminger Date: Saturday, February 08 2025 20:22:24 DPDK git baseline: Repo:dpdk Branch: master CommitID:3553897d84d8b54a1b1136cbf04dd7f1a40fd85b 151184-151215 --> testing pass Upstream job id: Generic-Unit-Test-DPDK#313308 Test environment and result as below: +-----------------------------+----------------+--------------+------------------------------+---------------------------+ | Environment | dpdk_unit_test | lpm_autotest | cryptodev_sw_snow3g_autotest | cryptodev_sw_zuc_autotest | +=============================+================+==============+==============================+===========================+ | 32-bit Ubuntu 22.04.4 (ARM) | PASS | SKIPPED | SKIPPED | SKIPPED | +-----------------------------+----------------+--------------+------------------------------+---------------------------+ | CentOS Stream 9 (ARM) | PASS | SKIPPED | SKIPPED | SKIPPED | +-----------------------------+----------------+--------------+------------------------------+---------------------------+ | Debian 12 (arm) | PASS | SKIPPED | PASS | PASS | +-----------------------------+----------------+--------------+------------------------------+---------------------------+ | Debian 11 (Buster) (ARM) | PASS | SKIPPED | SKIPPED | SKIPPED | +-----------------------------+----------------+--------------+------------------------------+---------------------------+ | Fedora 40 (ARM Clang) | PASS | SKIPPED | SKIPPED | SKIPPED | +-----------------------------+----------------+--------------+------------------------------+---------------------------+ | Fedora 41 (ARM Clang) | PASS | SKIPPED | SKIPPED | SKIPPED | +-----------------------------+----------------+--------------+------------------------------+---------------------------+ | Fedora 41 (ARM) | PASS | SKIPPED | SKIPPED | SKIPPED | +-----------------------------+----------------+--------------+------------------------------+---------------------------+ | Fedora 40 (ARM) | PASS | SKIPPED | SKIPPED | SKIPPED | +-----------------------------+----------------+--------------+------------------------------+---------------------------+ | RHEL9 (ARM) | PASS | SKIPPED | SKIPPED | SKIPPED | +-----------------------------+----------------+--------------+------------------------------+---------------------------+ | Ubuntu 24.04 (ARM) | PASS | SKIPPED | SKIPPED | SKIPPED | +-----------------------------+----------------+--------------+------------------------------+---------------------------+ | Ubuntu 22.04 (ARM) | PASS | SKIPPED | SKIPPED | SKIPPED | +-----------------------------+----------------+--------------+------------------------------+---------------------------+ | Ubuntu 20.04 (ARM) | PASS | SKIPPED | SKIPPED | SKIPPED | +-----------------------------+----------------+--------------+------------------------------+---------------------------+ | Ubuntu 20.04 ARM SVE | SKIPPED | PASS | SKIPPED | SKIPPED | +-----------------------------+----------------+--------------+------------------------------+---------------------------+ 32-bit Ubuntu 22.04.4 (ARM) Kernel: 5.15.83+ aarch64 Compiler: gcc (Ubuntu 11.4.0-1ubuntu1~22.04) 11.4.0 CentOS Stream 9 (ARM) Kernel: Depends on container host Compiler: gcc 11.5.0 20240719 (Red Hat 11.5.0-2) Debian 12 (arm) Kernel: Depends on container host Compiler: gcc (Debian 12.2.0-14) 12.2.0 Debian 11 (Buster) (ARM) Kernel: Depends on container host Compiler: gcc (Debian 10.2.1-6) 10.2.1 20210110 Fedora 40 (ARM Clang) Kernel: Depends on container host Compiler: clang 18.1.8 (Fedora 18.1.8-1.fc40) Fedora 41 (ARM Clang) Kernel: Depends on container host Compiler: clang 19.1.5 (Fedora 19.1.5-1.fc41) Fedora 41 (ARM) Kernel: Depends on container host Compiler: gcc 14.2.1 20240912 (Red Hat 14.2.1-3) Fedora 40 (ARM) Kernel: Depends on container host Compiler: gcc 14.2.1 20240912 (Red Hat 14.2.1-3) RHEL9 (ARM) Kernel: Depends on container host Compiler: gcc 11.5.0 20240719 (Red Hat 11.5.0-2) Ubuntu 24.04 (ARM) Kernel: Depends on container host Compiler: gcc (Ubuntu 13.3.0-6ubuntu2~24.04) 13.3.0 Ubuntu 22.04 (ARM) Kernel: Depends on container host Compiler: gcc (Ubuntu 11.4.0-1ubuntu1~22.04) 11.4.0 Ubuntu 20.04 (ARM) Kernel: Depends on container host Compiler: gcc (Ubuntu 9.4.0-1ubuntu1~20.04.2) 9.4.0 Ubuntu 20.04 ARM SVE Kernel: Depends on container host Compiler: gcc (Ubuntu 10.5.0-1ubuntu1~20.04) 10.5.0 To view detailed results, visit: https://lab.dpdk.org/results/dashboard/patchsets/32537/ UNH-IOL DPDK Community Lab To manage your email subscriptions, visit: https://lab.dpdk.org/results/dashboard/preferences/subscriptions/