automatic DPDK test reports
 help / color / mirror / Atom feed
From: dpdklab@iol.unh.edu
To: Test Report <test-report@dpdk.org>
Cc: dpdk-test-reports@iol.unh.edu
Subject: |SUCCESS| pw151184-151215 [PATCH] [32/32] test/cryptodev: replace me
Date: Sat, 08 Feb 2025 14:39:35 -0800 (PST)	[thread overview]
Message-ID: <67a7dd27.170a0220.1d2a15.10c6SMTPIN_ADDED_MISSING@mx.google.com> (raw)
In-Reply-To: <20250208203142.242284-33-stephen@networkplumber.org>

Test-Label: iol-compile-amd64-testing
Test-Status: SUCCESS
http://dpdk.org/patch/151215

_Testing PASS_

Submitter: Stephen Hemminger <stephen@networkplumber.org>
Date: Saturday, February 08 2025 20:22:24 
DPDK git baseline: Repo:dpdk
  Branch: master
  CommitID:3553897d84d8b54a1b1136cbf04dd7f1a40fd85b

151184-151215 --> testing pass

Upstream job id: Generic-DPDK-Compile-Meson#359739

Test environment and result as below:

+---------------------+--------------------+------------------+-------------------+-------------------------+-------------------+----------------------+
|     Environment     | dpdk_meson_compile | dpdk_compile_ovs | dpdk_compile_spdk | dpdk_llvm_clang_compile | dpdk_msvc_compile | dpdk_mingw64_compile |
+=====================+====================+==================+===================+=========================+===================+======================+
| CentOS Stream 9     | PASS               | PASS             | PASS              | SKIPPED                 | SKIPPED           | SKIPPED              |
+---------------------+--------------------+------------------+-------------------+-------------------------+-------------------+----------------------+
| Debian Bullseye     | PASS               | PASS             | PASS              | SKIPPED                 | SKIPPED           | SKIPPED              |
+---------------------+--------------------+------------------+-------------------+-------------------------+-------------------+----------------------+
| Debian 12           | PASS               | PASS             | PASS              | SKIPPED                 | SKIPPED           | SKIPPED              |
+---------------------+--------------------+------------------+-------------------+-------------------------+-------------------+----------------------+
| Fedora 41 (Clang)   | PASS               | PASS             | PASS              | SKIPPED                 | SKIPPED           | SKIPPED              |
+---------------------+--------------------+------------------+-------------------+-------------------------+-------------------+----------------------+
| Fedora 40           | PASS               | PASS             | PASS              | SKIPPED                 | SKIPPED           | SKIPPED              |
+---------------------+--------------------+------------------+-------------------+-------------------------+-------------------+----------------------+
| Fedora 40 (Clang)   | PASS               | PASS             | PASS              | SKIPPED                 | SKIPPED           | SKIPPED              |
+---------------------+--------------------+------------------+-------------------+-------------------------+-------------------+----------------------+
| openSUSE Leap 15    | PASS               | SKIPPED          | SKIPPED           | SKIPPED                 | SKIPPED           | SKIPPED              |
+---------------------+--------------------+------------------+-------------------+-------------------------+-------------------+----------------------+
| Ubuntu 22.04        | PASS               | PASS             | PASS              | SKIPPED                 | SKIPPED           | SKIPPED              |
+---------------------+--------------------+------------------+-------------------+-------------------------+-------------------+----------------------+
| RHEL9               | PASS               | PASS             | SKIPPED           | SKIPPED                 | SKIPPED           | SKIPPED              |
+---------------------+--------------------+------------------+-------------------+-------------------------+-------------------+----------------------+
| Ubuntu 24.04        | PASS               | PASS             | PASS              | SKIPPED                 | SKIPPED           | SKIPPED              |
+---------------------+--------------------+------------------+-------------------+-------------------------+-------------------+----------------------+
| Alpine              | PASS               | PASS             | SKIPPED           | SKIPPED                 | SKIPPED           | SKIPPED              |
+---------------------+--------------------+------------------+-------------------+-------------------------+-------------------+----------------------+
| RHEL8               | PASS               | PASS             | SKIPPED           | SKIPPED                 | SKIPPED           | SKIPPED              |
+---------------------+--------------------+------------------+-------------------+-------------------------+-------------------+----------------------+
| Fedora 41           | PASS               | PASS             | PASS              | SKIPPED                 | SKIPPED           | SKIPPED              |
+---------------------+--------------------+------------------+-------------------+-------------------------+-------------------+----------------------+
| Ubuntu 20.04        | PASS               | SKIPPED          | SKIPPED           | SKIPPED                 | SKIPPED           | SKIPPED              |
+---------------------+--------------------+------------------+-------------------+-------------------------+-------------------+----------------------+
| FreeBSD 13.4        | PASS               | SKIPPED          | SKIPPED           | SKIPPED                 | SKIPPED           | SKIPPED              |
+---------------------+--------------------+------------------+-------------------+-------------------------+-------------------+----------------------+
| FreeBSD 14.2        | PASS               | SKIPPED          | SKIPPED           | SKIPPED                 | SKIPPED           | SKIPPED              |
+---------------------+--------------------+------------------+-------------------+-------------------------+-------------------+----------------------+
| Windows Server 2022 | SKIPPED            | SKIPPED          | SKIPPED           | PASS                    | PASS              | PASS                 |
+---------------------+--------------------+------------------+-------------------+-------------------------+-------------------+----------------------+


CentOS Stream 9
	Kernel: Depends on container host
	Compiler: gcc 11.5.0 20240719 (Red Hat 11.5.0-2)

Debian Bullseye
	Kernel: Depends on container host
	Compiler: gcc (Debian 10.2.1-6) 10.2.1 20210110

Debian 12
	Kernel: Depends on container host
	Compiler: gcc (Debian 12.2.0-14) 12.2.0

Fedora 41 (Clang)
	Kernel: Depends on container host
	Compiler: clang 19.1.5 (Fedora 19.1.5-1.fc41)

Fedora 40
	Kernel: Depends on container host
	Compiler: gcc 14.2.1 20240912 (Red Hat 14.2.1-3)

Fedora 40 (Clang)
	Kernel: Depends on container host
	Compiler: clang 18.1.8 (Fedora 18.1.8-1.fc40)

openSUSE Leap 15
	Kernel: Depends on container host
	Compiler: gcc (SUSE Linux) 7.5.0

Ubuntu 22.04
	Kernel: Depends on container host
	Compiler: gcc (Ubuntu 11.4.0-1ubuntu1~22.04) 11.4.0

RHEL9
	Kernel: Depends on container host
	Compiler: gcc 11.5.0 20240719 (Red Hat 11.5.0-2)

Ubuntu 24.04
	Kernel: Depends on container host
	Compiler: gcc (Ubuntu 13.3.0-6ubuntu2~24.04) 13.3.0

Alpine
	Kernel: Depends on container host
	Compiler: gcc (Alpine 14.2.0) 14.2.0

RHEL8
	Kernel: Depends on container host
	Compiler: gcc 8.5.0 20210514 (Red Hat 8.5.0-22)

Fedora 41
	Kernel: Depends on container host
	Compiler: gcc 14.2.1 20240912 (Red Hat 14.2.1-3)

Ubuntu 20.04
	Kernel: Depends on container host
	Compiler: gcc (Ubuntu 9.4.0-1ubuntu1~20.04.2) 9.4.0

FreeBSD 13.4
	Kernel: 13.4-RELEASE-p1
	Compiler: clang 18.1.6

FreeBSD 14.2
	Kernel: 14.2-RELEASE
	Compiler: clang 18.1.6

Windows Server 2022
	Kernel: 10.0.20348.2031
	Compiler: clang 15.0.7, gcc 14.1.0 (MinGW), and MSVC VS 19.39.33521

To view detailed results, visit:
https://lab.dpdk.org/results/dashboard/patchsets/32537/

UNH-IOL DPDK Community Lab

To manage your email subscriptions, visit: 
https://lab.dpdk.org/results/dashboard/preferences/subscriptions/

      parent reply	other threads:[~2025-02-08 22:39 UTC|newest]

Thread overview: 19+ messages / expand[flat|nested]  mbox.gz  Atom feed  top
     [not found] <20250208203142.242284-33-stephen@networkplumber.org>
2025-02-08 20:09 ` |SUCCESS| pw151184-151215 [PATCH 32/32] test/cryptodev: replace memcpy with structure assignment qemudev
2025-02-08 20:14 ` qemudev
2025-02-08 20:36 ` |SUCCESS| pw151215 " checkpatch
2025-02-08 21:09 ` |PENDING| pw151184-151215 [PATCH] [32/32] test/cryptodev: replace me dpdklab
2025-02-08 21:12 ` dpdklab
2025-02-08 21:13 ` dpdklab
2025-02-08 21:15 ` dpdklab
2025-02-08 21:17 ` |SUCCESS| " dpdklab
2025-02-08 21:17 ` dpdklab
2025-02-08 21:24 ` |SUCCESS| pw151215 [PATCH 32/32] test/cryptodev: replace memcpy with structure assignment 0-day Robot
2025-02-08 21:30 ` |SUCCESS| pw151184-151215 [PATCH] [32/32] test/cryptodev: replace me dpdklab
2025-02-08 21:37 ` dpdklab
2025-02-08 21:42 ` dpdklab
2025-02-08 21:49 ` dpdklab
2025-02-08 21:50 ` dpdklab
2025-02-08 21:52 ` dpdklab
2025-02-08 21:58 ` dpdklab
2025-02-08 22:12 ` dpdklab
2025-02-08 22:39 ` dpdklab [this message]

Reply instructions:

You may reply publicly to this message via plain-text email
using any one of the following methods:

* Save the following mbox file, import it into your mail client,
  and reply-to-all from there: mbox

  Avoid top-posting and favor interleaved quoting:
  https://en.wikipedia.org/wiki/Posting_style#Interleaved_style

* Reply using the --to, --cc, and --in-reply-to
  switches of git-send-email(1):

  git send-email \
    --in-reply-to=67a7dd27.170a0220.1d2a15.10c6SMTPIN_ADDED_MISSING@mx.google.com \
    --to=dpdklab@iol.unh.edu \
    --cc=dpdk-test-reports@iol.unh.edu \
    --cc=test-report@dpdk.org \
    /path/to/YOUR_REPLY

  https://kernel.org/pub/software/scm/git/docs/git-send-email.html

* If your mail client supports setting the In-Reply-To header
  via mailto: links, try the mailto: link
Be sure your reply has a Subject: header at the top and a blank line before the message body.
This is a public inbox, see mirroring instructions
for how to clone and mirror all data and code used for this inbox;
as well as URLs for NNTP newsgroup(s).